BEGIN:VCALENDAR
VERSION:2.0
PRODID:-//Cannon Falls Area Chamber of Commerce - ECPv6.15.20//NONSGML v1.0//EN
CALSCALE:GREGORIAN
METHOD:PUBLISH
X-WR-CALNAME:Cannon Falls Area Chamber of Commerce
X-ORIGINAL-URL:https://www.cannonfalls.org
X-WR-CALDESC:Events for Cannon Falls Area Chamber of Commerce
REFRESH-INTERVAL;VALUE=DURATION:PT1H
X-Robots-Tag:noindex
X-PUBLISHED-TTL:PT1H
BEGIN:VTIMEZONE
TZID:America/Chicago
BEGIN:DAYLIGHT
TZOFFSETFROM:-0600
TZOFFSETTO:-0500
TZNAME:CDT
DTSTART:20240310T080000
END:DAYLIGHT
BEGIN:STANDARD
TZOFFSETFROM:-0500
TZOFFSETTO:-0600
TZNAME:CST
DTSTART:20241103T070000
END:STANDARD
BEGIN:DAYLIGHT
TZOFFSETFROM:-0600
TZOFFSETTO:-0500
TZNAME:CDT
DTSTART:20250309T080000
END:DAYLIGHT
BEGIN:STANDARD
TZOFFSETFROM:-0500
TZOFFSETTO:-0600
TZNAME:CST
DTSTART:20251102T070000
END:STANDARD
BEGIN:DAYLIGHT
TZOFFSETFROM:-0600
TZOFFSETTO:-0500
TZNAME:CDT
DTSTART:20260308T080000
END:DAYLIGHT
BEGIN:STANDARD
TZOFFSETFROM:-0500
TZOFFSETTO:-0600
TZNAME:CST
DTSTART:20261101T070000
END:STANDARD
END:VTIMEZONE
BEGIN:VEVENT
DTSTART;TZID=America/Chicago:20250703T080000
DTEND;TZID=America/Chicago:20250706T220000
DTSTAMP:20260424T194251
CREATED:20250604T133454Z
LAST-MODIFIED:20250604T133613Z
UID:15152-1751529600-1751839200@www.cannonfalls.org
SUMMARY:Cannon Valley Fair
DESCRIPTION:
URL:https://www.cannonfalls.org/event/cannon-valley-fair-2/
LOCATION:800 9th St N\, Cannon Falls\, MN\, United States\, Minnesota
ATTACH;FMTTYPE=image/png:https://www.cannonfalls.org/wp-content/uploads/2025/06/fair.png
END:VEVENT
BEGIN:VEVENT
DTSTART;TZID=America/Chicago:20250705T110000
DTEND;TZID=America/Chicago:20250705T140000
DTSTAMP:20260424T194251
CREATED:20250521T151434Z
LAST-MODIFIED:20250521T151436Z
UID:15133-1751713200-1751724000@www.cannonfalls.org
SUMMARY:Voices of the Valley
DESCRIPTION:Saturday\, July 5 \n\n\n\nLive Music – Patti & the Reeds Irish Trio \n\n\n\nTopics include – Archeology\, Geology\, Native American Studies\, Railroad History\, Tree Talk\, Wildflowers\, or other Natural and Cultural programs. Local musicians share their talents.Programs take place on Saturdays during the months of  May through September from 11am-2 pm  at Cannon Valley Trail Welch Station Access.Please note throughout the season some Voices of the Valley programs may be cancelled/rescheduled due to inclement weather.
URL:https://www.cannonfalls.org/event/voices-of-the-valley-8/
ATTACH;FMTTYPE=image/jpeg:https://www.cannonfalls.org/wp-content/uploads/2025/05/Pattie-and-the-Reeds.jpg
END:VEVENT
BEGIN:VEVENT
DTSTART;TZID=America/Chicago:20250711T190000
DTEND;TZID=America/Chicago:20250711T200000
DTSTAMP:20260424T194251
CREATED:20250711T132952Z
LAST-MODIFIED:20250711T132956Z
UID:15191-1752260400-1752264000@www.cannonfalls.org
SUMMARY:CF Bears Alumni Game
DESCRIPTION:
URL:https://www.cannonfalls.org/event/cf-bears-alumni-game/
ATTACH;FMTTYPE=image/jpeg:https://www.cannonfalls.org/wp-content/uploads/2025/07/Bears-game.jpg
END:VEVENT
BEGIN:VEVENT
DTSTART;TZID=America/Chicago:20250711T190000
DTEND;TZID=America/Chicago:20250711T210000
DTSTAMP:20260424T194251
CREATED:20250707T154650Z
LAST-MODIFIED:20250707T154652Z
UID:15188-1752260400-1752267600@www.cannonfalls.org
SUMMARY:BARGO
DESCRIPTION:BARGO starts at 7 pm and fun for the whole family! Hope to see you there and enjoy your 4th of July holiday!
URL:https://www.cannonfalls.org/event/bargo-6/
ATTACH;FMTTYPE=image/jpeg:https://www.cannonfalls.org/wp-content/uploads/2025/07/bargo.jpg
END:VEVENT
BEGIN:VEVENT
DTSTART;TZID=America/Chicago:20250712T110000
DTEND;TZID=America/Chicago:20250712T140000
DTSTAMP:20260424T194251
CREATED:20250521T151541Z
LAST-MODIFIED:20250521T151543Z
UID:15136-1752318000-1752328800@www.cannonfalls.org
SUMMARY:Voices of the Valley
DESCRIPTION:Saturday\, July 12 \n\n\n\nLive Music – Tyan Cihlar – accordion \n\n\n\nVoices of the Valley is a Cannon Valley Trail program designed to assist a visitor’s exploration and enjoyment of the Cannon River Valley.   \n\n\n\nPlease note throughout the season some Voices of the Valley programs may be cancelled/rescheduled due to inclement weather. \n\n\n\nTopics include – Archeology\, Geology\, Native American Studies\, Railroad History\, Tree Talk\, Wildflowers\, or other Natural and Cultural programs.  \n\n\n\nLocal musicians share their talents. \n\n\n\nPrograms take place on Saturdays during the months of  May through September from 11am-2 pm  at Cannon Valley Trail Welch Station Access.
URL:https://www.cannonfalls.org/event/voices-of-the-valley-9/
ATTACH;FMTTYPE=image/jpeg:https://www.cannonfalls.org/wp-content/uploads/2025/05/Voices-of-the-Valley.jpg
END:VEVENT
BEGIN:VEVENT
DTSTART;TZID=America/Chicago:20250715T173000
DTEND;TZID=America/Chicago:20250715T183000
DTSTAMP:20260424T194251
CREATED:20250620T191016Z
LAST-MODIFIED:20250620T191017Z
UID:15177-1752600600-1752604200@www.cannonfalls.org
SUMMARY:Community Book Club and Discussion - The Anxious Generation
DESCRIPTION:
URL:https://www.cannonfalls.org/event/community-book-club-and-discussion-the-anxious-generation/
LOCATION:Cannon Falls Library
ATTACH;FMTTYPE=image/jpeg:https://www.cannonfalls.org/wp-content/uploads/2025/06/anxious.jpg
END:VEVENT
BEGIN:VEVENT
DTSTART;TZID=America/Chicago:20250719T090000
DTEND;TZID=America/Chicago:20250719T230000
DTSTAMP:20260424T194251
CREATED:20250605T152644Z
LAST-MODIFIED:20250605T152645Z
UID:15162-1752915600-1752966000@www.cannonfalls.org
SUMMARY:Ferndale Sumer Farm Tour
DESCRIPTION:Get a behind-the-scenes look at our farm at this annual event! Free and fun for all ages\, our summer farm tour is a great chance to see our free-range turkeys up close\, learn about our farming practices\, and browse our on-farm market for local food finds. \n\n\n\nOur hayride tours will run between 9 and 11am and last approximately 20 minutes. Our last tour will leave at 11am.
URL:https://www.cannonfalls.org/event/ferndale-sumer-farm-tour/
ATTACH;FMTTYPE=image/jpeg:https://www.cannonfalls.org/wp-content/uploads/2025/06/farmtour.jpg
END:VEVENT
BEGIN:VEVENT
DTSTART;TZID=America/Chicago:20250723T070000
DTEND;TZID=America/Chicago:20250726T170000
DTSTAMP:20260424T194251
CREATED:20250711T145235Z
LAST-MODIFIED:20250711T145236Z
UID:15194-1753254000-1753549200@www.cannonfalls.org
SUMMARY:Crazy Days
DESCRIPTION:Celebrate summer with our local retailers while they offer great bargains! Throughout downtown and Cannon Falls\, businesses will be offering crazy deals and reduced prices! \n\n\n\nParticipating Businesses:Mill Street TavernCannon River WineryTilion BreweryDestination BoutiqueSwan and BowerCannon Valley SpecialtiesAlthoff HardwareLa Boutique Unique
URL:https://www.cannonfalls.org/event/crazy-days-2/
ATTACH;FMTTYPE=image/png:https://www.cannonfalls.org/wp-content/uploads/2025/07/C3.png
END:VEVENT
END:VCALENDAR