BEGIN:VCALENDAR
VERSION:2.0
PRODID:-//Cannon Falls Area Chamber of Commerce - ECPv6.15.20//NONSGML v1.0//EN
CALSCALE:GREGORIAN
METHOD:PUBLISH
X-ORIGINAL-URL:https://www.cannonfalls.org
X-WR-CALDESC:Events for Cannon Falls Area Chamber of Commerce
REFRESH-INTERVAL;VALUE=DURATION:PT1H
X-Robots-Tag:noindex
X-PUBLISHED-TTL:PT1H
BEGIN:VTIMEZONE
TZID:America/Chicago
BEGIN:DAYLIGHT
TZOFFSETFROM:-0600
TZOFFSETTO:-0500
TZNAME:CDT
DTSTART:20240310T080000
END:DAYLIGHT
BEGIN:STANDARD
TZOFFSETFROM:-0500
TZOFFSETTO:-0600
TZNAME:CST
DTSTART:20241103T070000
END:STANDARD
BEGIN:DAYLIGHT
TZOFFSETFROM:-0600
TZOFFSETTO:-0500
TZNAME:CDT
DTSTART:20250309T080000
END:DAYLIGHT
BEGIN:STANDARD
TZOFFSETFROM:-0500
TZOFFSETTO:-0600
TZNAME:CST
DTSTART:20251102T070000
END:STANDARD
BEGIN:DAYLIGHT
TZOFFSETFROM:-0600
TZOFFSETTO:-0500
TZNAME:CDT
DTSTART:20260308T080000
END:DAYLIGHT
BEGIN:STANDARD
TZOFFSETFROM:-0500
TZOFFSETTO:-0600
TZNAME:CST
DTSTART:20261101T070000
END:STANDARD
END:VTIMEZONE
BEGIN:VEVENT
DTSTART;TZID=America/Chicago:20250401T070000
DTEND;TZID=America/Chicago:20250401T170000
DTSTAMP:20260424T230023
CREATED:20250326T133443Z
LAST-MODIFIED:20250326T133445Z
UID:14995-1743490800-1743526800@www.cannonfalls.org
SUMMARY:CannonBelles 6th Birthday!
DESCRIPTION:
URL:https://www.cannonfalls.org/event/cannonbelles-6th-birthday/
LOCATION:CannonBelles Coffe and Ice Cream\, 402 Mill St\, Cannon Falls
ATTACH;FMTTYPE=image/jpeg:https://www.cannonfalls.org/wp-content/uploads/2025/03/CannonBelles-6th-Bday-Page-1.jpg
END:VEVENT
BEGIN:VEVENT
DTSTART;TZID=America/Chicago:20250403T080000
DTEND;TZID=America/Chicago:20250405T170000
DTSTAMP:20260424T230023
CREATED:20250402T152218Z
LAST-MODIFIED:20250402T152514Z
UID:15029-1743667200-1743872400@www.cannonfalls.org
SUMMARY:Spring Shop Around Town Event
DESCRIPTION:Shop Around Town – And WIN!Join us for Shop Around Town event\, discover one-of-a-kind items and support small businesses that make our community special! The lucky winner will receive merchandise from participating stores valued at $300!Participating Businesses:Althoff HardwareCannon Valley SpecialtiesLa Boutique UniqueSwan and BowerDetails:1. Pick up a punch card from any of the participatingbusinesses shown below or the Chamber of CommerceOffice (limit of 1 card per person).2. Visit each of the businesses for a stamp/punch.3. No purchase is necessary\, but always appreciated.4. Get a stamp from each of these businesses and turn inthe completed card to any of them by 5 p.m. on theentry deadline date. The prize drawing will take placethe following week at the Chamber of Commerce.5 .Prize* value total: $300 See less See less
URL:https://www.cannonfalls.org/event/spring-shop-around-town-event/
ATTACH;FMTTYPE=image/png:https://www.cannonfalls.org/wp-content/uploads/2025/04/Shop-around-town_FB-event_April-2025.png
END:VEVENT
BEGIN:VEVENT
DTSTART;TZID=America/Chicago:20250403T100000
DTEND;TZID=America/Chicago:20250403T120000
DTSTAMP:20260424T230023
CREATED:20250324T164359Z
LAST-MODIFIED:20250324T164402Z
UID:14990-1743674400-1743681600@www.cannonfalls.org
SUMMARY:Watercolor Class
DESCRIPTION:
URL:https://www.cannonfalls.org/event/watercolor-class/
ATTACH;FMTTYPE=image/jpeg:https://www.cannonfalls.org/wp-content/uploads/2025/03/watercolor.jpg
END:VEVENT
BEGIN:VEVENT
DTSTART;TZID=America/Chicago:20250405T120000
DTEND;TZID=America/Chicago:20250405T160000
DTSTAMP:20260424T230023
CREATED:20250307T164643Z
LAST-MODIFIED:20250307T164645Z
UID:14896-1743854400-1743868800@www.cannonfalls.org
SUMMARY:
DESCRIPTION:Come celebrate Spring & Eat\, Drink\, and Shop with many local vendors!
URL:https://www.cannonfalls.org/event/14896/
LOCATION:Cannon River Winery
ATTACH;FMTTYPE=image/jpeg:https://www.cannonfalls.org/wp-content/uploads/2025/03/girls-day.jpg
END:VEVENT
BEGIN:VEVENT
DTSTART;TZID=America/Chicago:20250408T100000
DTEND;TZID=America/Chicago:20250408T120000
DTSTAMP:20260424T230023
CREATED:20250324T164616Z
LAST-MODIFIED:20250324T164618Z
UID:14993-1744106400-1744113600@www.cannonfalls.org
SUMMARY:Watercolor Class
DESCRIPTION:
URL:https://www.cannonfalls.org/event/watercolor-class-2/
ATTACH;FMTTYPE=image/jpeg:https://www.cannonfalls.org/wp-content/uploads/2025/03/watercolor.jpg
END:VEVENT
BEGIN:VEVENT
DTSTART;TZID=America/Chicago:20250415T183000
DTEND;TZID=America/Chicago:20250415T200000
DTSTAMP:20260424T230023
CREATED:20250409T161418Z
LAST-MODIFIED:20250409T161419Z
UID:15039-1744741800-1744747200@www.cannonfalls.org
SUMMARY:Paint Bluebird of Happiness
DESCRIPTION:Join us on Tuesday\, April 15th at 6:30pm at Cannon River Winery for a fun-filled evening painting the Blue Bird of Happiness on 12 x 12 canvas! \n\n\n\nGrab your seats here: https://brushedbydesigncreations.com/…/0415bluebirdofh…/ \n\n\n\nWhether you are a painting enthusiast or a beginner\, our talented artist will guide you step by step\, making this a perfect event for everyone. All ages welcome and no experience needed. Design will be sketched and ready to paint using acrylics. \n\n\n\nWHEN:Tuesday\, April 156:30pm to 9:00pmCOST: $35 per canvas \n\n\n\nThis paint party must be pre-paid. \n\n\n\nLOCATION:Cannon River Winery421 Mill Street WestCannon Falls\, MN 55009 \n\n\n\nThis is an excellent opportunity to relax\, unwind\, and make memories with your friends and family. Lots of fun and everyone leaves with a finished painting! You don’t want to miss out on this amazing event! \n\n\n\nFood and beverage are available for purchase\, but not included in the ticket price. Arrive early and come hungry to help support an awesome venue that makes this Paint Party possible.
URL:https://www.cannonfalls.org/event/paint-bluebird-of-happiness/
ATTACH;FMTTYPE=image/jpeg:https://www.cannonfalls.org/wp-content/uploads/2025/04/paint-winery.jpg
END:VEVENT
BEGIN:VEVENT
DTSTART;TZID=America/Chicago:20250418T063000
DTEND;TZID=America/Chicago:20250418T193000
DTSTAMP:20260424T230023
CREATED:20250409T162018Z
LAST-MODIFIED:20250409T162020Z
UID:15045-1744957800-1745004600@www.cannonfalls.org
SUMMARY:Teen Night Easter Egg Hunt
DESCRIPTION:Teens\, join us for an indoor Easter Egg Hunt.Open to area teens age 13+
URL:https://www.cannonfalls.org/event/teen-night-easter-egg-hunt/
ATTACH;FMTTYPE=image/jpeg:https://www.cannonfalls.org/wp-content/uploads/2025/04/library.jpg
END:VEVENT
BEGIN:VEVENT
DTSTART;TZID=America/Chicago:20250419T100000
DTEND;TZID=America/Chicago:20250419T110000
DTSTAMP:20260424T230023
CREATED:20250409T162251Z
LAST-MODIFIED:20250409T162254Z
UID:15048-1745056800-1745060400@www.cannonfalls.org
SUMMARY:Community Easter Egg Dash
DESCRIPTION:
URL:https://www.cannonfalls.org/event/community-easter-egg-dash/
ATTACH;FMTTYPE=image/jpeg:https://www.cannonfalls.org/wp-content/uploads/2025/04/st-ansgars.jpg
END:VEVENT
BEGIN:VEVENT
DTSTART;TZID=America/Chicago:20250426T070000
DTEND;TZID=America/Chicago:20250426T100000
DTSTAMP:20260424T230023
CREATED:20250331T140128Z
LAST-MODIFIED:20250331T140130Z
UID:15004-1745650800-1745661600@www.cannonfalls.org
SUMMARY:Cannon Falls Fire and Rescue Pancake Breakfast
DESCRIPTION:Due to the popularity of our pancake breakfast and open house events in the past\, our major fundraising event will be held on Saturday\, April 26th 2025 from 7:00 -10:00 am at the cannon falls public safety building. This is our only fund raiser which helps cover the cost of non-budgeted and non-gambling expenses. \n\n\n\nBreakfast will be pancakes and sausage served with milk\, orange juice\, water or coffee all prepared by your local volunteers. Fire trucks will be on display for you to explore. A free will donation will cover the cost of the breakfast.
URL:https://www.cannonfalls.org/event/cannon-falls-fire-and-rescue-pancake-breakfast/
ATTACH;FMTTYPE=image/jpeg:https://www.cannonfalls.org/wp-content/uploads/2025/03/fire.jpg
END:VEVENT
BEGIN:VEVENT
DTSTART;TZID=America/Chicago:20250426T180000
DTEND;TZID=America/Chicago:20250426T220000
DTSTAMP:20260424T230023
CREATED:20250331T135944Z
LAST-MODIFIED:20250331T135947Z
UID:14999-1745690400-1745704800@www.cannonfalls.org
SUMMARY:CFEF Live and Silent Benefit Auction
DESCRIPTION:The Annual Cannon Falls Education Foundation Benefit Auction will take place on Saturday\, April 26\, 2025. Doors open for admission at 6 p.m. at Cannon River Winery where attendees will be able to bid on an array of auction items and play games for a chance to win prizes. A light snack will be served\, and Cannon River Winery’s bar will be open to purchase beverages. \n\n\n\nThe Benefit Auction features a live auction\, a silent auction\, and fun games and drawings to win prizes. Attendees can bid on items and experiences that have been donated by sponsors. Past CFEF auctions have provided a popular\, engaging social event and raised thousands of dollars that are used to enhance local students’ education. \n\n\n\nAll money raised through the auction\, games and admission fees goes directly to Cannon Falls pre-K—12 schools through grant requests made by teachers and administrators for specific projects. These requests provide local students with the tools and opportunities to help promote excellence in education. Just some of the recent projects funded by CFEF are the 4th grade students to visit the Eagle Bluff Environmental Learning Center\, for books students can choose from after completing reading challenges\, and for many local CTE (Career and Technical Education) and STEM-related (Science\, Technology\, Engineering and Mathematics) classroom projects. \n\n\n\nThe Cannon Falls Education Foundation (CFEF) is so thankful to the donors who graciously support Cannon Falls students and teachers. Whether you enjoy games of chance\, bidding on silent or live auction items\, or just donating to a worthy cause\, Saturday\, April 26\, is your chance to have a fun evening and make a difference in the lives of Cannon Falls kids. \n\n\n\nAdd this fun event to your calendars NOW\, then return later to our Facebook page for more details on the Benefit Auction items and evening schedule.
URL:https://www.cannonfalls.org/event/cfef-live-and-silent-benefit-auction/
LOCATION:Cannon River Winery
ATTACH;FMTTYPE=image/jpeg:https://www.cannonfalls.org/wp-content/uploads/2025/03/ed-foundation.jpg
END:VEVENT
BEGIN:VEVENT
DTSTART;TZID=America/Chicago:20250427T150000
DTEND;TZID=America/Chicago:20250427T170000
DTSTAMP:20260424T230023
CREATED:20250312T131427Z
LAST-MODIFIED:20250312T131436Z
UID:14936-1745766000-1745773200@www.cannonfalls.org
SUMMARY:Cannon Falls Treehouse Fundraiser
DESCRIPTION:Join us for our 3rd Annual Silent Auction Fundraiser!Come for an opportunity to learn more about the work of Cannon Falls TreeHouse and help support our work.Enjoy food\, music\, and bidding on items donated by our generous partners
URL:https://www.cannonfalls.org/event/cannon-falls-treehouse-fundraiser/
LOCATION:True North Church\, Cannon Falls
ATTACH;FMTTYPE=image/jpeg:https://www.cannonfalls.org/wp-content/uploads/2025/03/Treehouse.jpg
END:VEVENT
END:VCALENDAR