BEGIN:VCALENDAR
VERSION:2.0
PRODID:-//Cannon Falls Area Chamber of Commerce - ECPv6.15.20//NONSGML v1.0//EN
CALSCALE:GREGORIAN
METHOD:PUBLISH
X-ORIGINAL-URL:https://www.cannonfalls.org
X-WR-CALDESC:Events for Cannon Falls Area Chamber of Commerce
REFRESH-INTERVAL;VALUE=DURATION:PT1H
X-Robots-Tag:noindex
X-PUBLISHED-TTL:PT1H
BEGIN:VTIMEZONE
TZID:America/Chicago
BEGIN:DAYLIGHT
TZOFFSETFROM:-0600
TZOFFSETTO:-0500
TZNAME:CDT
DTSTART:20240310T080000
END:DAYLIGHT
BEGIN:STANDARD
TZOFFSETFROM:-0500
TZOFFSETTO:-0600
TZNAME:CST
DTSTART:20241103T070000
END:STANDARD
BEGIN:DAYLIGHT
TZOFFSETFROM:-0600
TZOFFSETTO:-0500
TZNAME:CDT
DTSTART:20250309T080000
END:DAYLIGHT
BEGIN:STANDARD
TZOFFSETFROM:-0500
TZOFFSETTO:-0600
TZNAME:CST
DTSTART:20251102T070000
END:STANDARD
BEGIN:DAYLIGHT
TZOFFSETFROM:-0600
TZOFFSETTO:-0500
TZNAME:CDT
DTSTART:20260308T080000
END:DAYLIGHT
BEGIN:STANDARD
TZOFFSETFROM:-0500
TZOFFSETTO:-0600
TZNAME:CST
DTSTART:20261101T070000
END:STANDARD
BEGIN:DAYLIGHT
TZOFFSETFROM:-0600
TZOFFSETTO:-0500
TZNAME:CDT
DTSTART:20270314T080000
END:DAYLIGHT
BEGIN:STANDARD
TZOFFSETFROM:-0500
TZOFFSETTO:-0600
TZNAME:CST
DTSTART:20271107T070000
END:STANDARD
END:VTIMEZONE
BEGIN:VEVENT
DTSTART;TZID=America/Chicago:20251119T173000
DTEND;TZID=America/Chicago:20251119T193000
DTSTAMP:20260425T062502
CREATED:20251029T181138Z
LAST-MODIFIED:20251029T181140Z
UID:15439-1763573400-1763580600@www.cannonfalls.org
SUMMARY:Wine Tasting at Rod's Liqours
DESCRIPTION:
URL:https://www.cannonfalls.org/event/wine-tasting-at-rods-liqours/
LOCATION:MN
ATTACH;FMTTYPE=image/jpeg:https://www.cannonfalls.org/wp-content/uploads/2025/10/rods.jpg
END:VEVENT
BEGIN:VEVENT
DTSTART;TZID=America/Chicago:20251121T090000
DTEND;TZID=America/Chicago:20251126T180000
DTSTAMP:20260425T062502
CREATED:20250926T164255Z
LAST-MODIFIED:20250926T164257Z
UID:15365-1763715600-1764180000@www.cannonfalls.org
SUMMARY:TurkeyFest
DESCRIPTION:Pick up your FRESH Thanksgiving turkey and other local foods at our annual TurkeyFest!  The celebration will take place at our on-farm market November 21 to 26\, 9am to 6pm each day. \n\n\n\nWe’ll have local food samples (9am to 3pm) and a food truck with lunch for purchase (11am to 2pm) daily. \n\n\n\nFresh turkey reservations will open on October 16. More details coming soon! \n\n\n\nSee more
URL:https://www.cannonfalls.org/event/turkeyfest/
LOCATION:Ferndale Market\, 31659 Willow Trail\, Cannon Falls\, MN\, 55009
ATTACH;FMTTYPE=image/jpeg:https://www.cannonfalls.org/wp-content/uploads/2025/09/turekyfest.jpg
END:VEVENT
BEGIN:VEVENT
DTSTART;TZID=America/Chicago:20251121T190000
DTEND;TZID=America/Chicago:20251122T190000
DTSTAMP:20260425T062502
CREATED:20251112T200747Z
LAST-MODIFIED:20251112T200842Z
UID:15496-1763751600-1763838000@www.cannonfalls.org
SUMMARY:Princess and the Pea
DESCRIPTION:The Cannon Falls Theater Department proudly presents our fall musical\, “The Princess and the Pea!” A traditional tale told anew with a cast of fun characters and catchy tunes! Join us on Friday\, Nov. 21st and Saturday\, Nov. 22nd at 7:00 pm for a 45 minute\, family friendly show that your kids will especially love!We are also holding a “Royal Fun Fair” from 5:45-6:45 each evening before the show. Join us for games\, activities\, and refreshments\, all hosted by our cast members!
URL:https://www.cannonfalls.org/event/princess-and-the-pea/
LOCATION:MN
ATTACH;FMTTYPE=image/jpeg:https://www.cannonfalls.org/wp-content/uploads/2025/11/princes-and-pea.jpg
END:VEVENT
BEGIN:VEVENT
DTSTART;TZID=America/Chicago:20251126T150000
DTEND;TZID=America/Chicago:20251126T210000
DTSTAMP:20260425T062502
CREATED:20251029T184655Z
LAST-MODIFIED:20251029T184656Z
UID:15445-1764169200-1764190800@www.cannonfalls.org
SUMMARY:3rd Annual Escape Party
DESCRIPTION:
URL:https://www.cannonfalls.org/event/3rd-annual-escape-party/
LOCATION:MN
ATTACH;FMTTYPE=image/jpeg:https://www.cannonfalls.org/wp-content/uploads/2025/10/tilion.jpg
END:VEVENT
BEGIN:VEVENT
DTSTART;TZID=America/Chicago:20251129T080000
DTEND;TZID=America/Chicago:20251129T170000
DTSTAMP:20260425T062502
CREATED:20251112T194918Z
LAST-MODIFIED:20251112T200215Z
UID:15477-1764403200-1764435600@www.cannonfalls.org
SUMMARY:Deck the Falls
DESCRIPTION:https://www.facebook.com/cannonfalls.chamber
URL:https://www.cannonfalls.org/event/deck-the-falls-3/
LOCATION:MN
ATTACH;FMTTYPE=image/png:https://www.cannonfalls.org/wp-content/uploads/2025/11/Copy-of-Deck-the-Falls-8.5-x-14-in.png
END:VEVENT
BEGIN:VEVENT
DTSTART;TZID=America/Chicago:20251129T120000
DTEND;TZID=America/Chicago:20251129T160000
DTSTAMP:20260425T062502
CREATED:20251112T195540Z
LAST-MODIFIED:20251112T200055Z
UID:15485-1764417600-1764432000@www.cannonfalls.org
SUMMARY:Deck the Falls with Cheese and Chocolate
DESCRIPTION:Cheese and Chocolate vendors with samples and goodies for sale\, paired with your favorite CRW winesSmall Business Saturday – specials all dayDeck the Falls celebration in Cannon Falls – parade\, tree lighting\, deals all over townGet a photo with our Wine Bottle Tree
URL:https://www.cannonfalls.org/event/deck-the-falls-with-cheese-and-chocolate-2/
LOCATION:MN
ATTACH;FMTTYPE=image/jpeg:https://www.cannonfalls.org/wp-content/uploads/2025/11/winery-cheese.jpg
END:VEVENT
BEGIN:VEVENT
DTSTART;TZID=America/Chicago:20251213T090000
DTEND;TZID=America/Chicago:20251213T170000
DTSTAMP:20260425T062502
CREATED:20251112T195313Z
LAST-MODIFIED:20251112T200334Z
UID:15482-1765616400-1765645200@www.cannonfalls.org
SUMMARY:Christmas at the Mall
DESCRIPTION:Mark your calendars! Mall Market in the common area in front of Destination beginning at 9am along with treats\, cocoa & coffee. Activities & sales. Santa will be there noon-2pm
URL:https://www.cannonfalls.org/event/christmas-at-the-mall/
LOCATION:MN
ATTACH;FMTTYPE=image/jpeg:https://www.cannonfalls.org/wp-content/uploads/2025/11/mall.jpg
END:VEVENT
BEGIN:VEVENT
DTSTART;TZID=America/Chicago:20251213T100000
DTEND;TZID=America/Chicago:20251213T170000
DTSTAMP:20260425T062502
CREATED:20251112T195703Z
LAST-MODIFIED:20251112T200417Z
UID:15488-1765620000-1765645200@www.cannonfalls.org
SUMMARY:Holiday Girls Day Away
DESCRIPTION:Grab your girls and a glass of wine and come shop ’til you drop! Just in time for the holidays! Over 30 vendors.
URL:https://www.cannonfalls.org/event/holiday-girls-day-away-2/
LOCATION:Cannon River Winery\, 421 Mill Street West\, Cannon Falls\, MN\, 55009
ATTACH;FMTTYPE=image/jpeg:https://www.cannonfalls.org/wp-content/uploads/2025/11/girls-day.jpg
END:VEVENT
BEGIN:VEVENT
DTSTART;TZID=America/Chicago:20260508T080000
DTEND;TZID=America/Chicago:20260509T170000
DTSTAMP:20260425T062502
CREATED:20260302T230049Z
LAST-MODIFIED:20260417T141231Z
UID:15543-1778227200-1778346000@www.cannonfalls.org
SUMMARY:Community-Wide Garage Sales - May 8th & 9th
DESCRIPTION:Mark your calendar for the upcoming Community-Wide Garage Sales.  \n\n\n\nTo list your garage sale\, register with the Cannon Falls Beacon \n\n\n\nLearn more about the sales. Happy Shopping!
URL:https://www.cannonfalls.org/event/city-wide-garage-sales-may-8th-9th/
LOCATION:MN
END:VEVENT
END:VCALENDAR