BEGIN:VCALENDAR
VERSION:2.0
PRODID:-//Cannon Falls Area Chamber of Commerce - ECPv6.15.20//NONSGML v1.0//EN
CALSCALE:GREGORIAN
METHOD:PUBLISH
X-ORIGINAL-URL:https://www.cannonfalls.org
X-WR-CALDESC:Events for Cannon Falls Area Chamber of Commerce
REFRESH-INTERVAL;VALUE=DURATION:PT1H
X-Robots-Tag:noindex
X-PUBLISHED-TTL:PT1H
BEGIN:VTIMEZONE
TZID:America/Chicago
BEGIN:DAYLIGHT
TZOFFSETFROM:-0600
TZOFFSETTO:-0500
TZNAME:CDT
DTSTART:20240310T080000
END:DAYLIGHT
BEGIN:STANDARD
TZOFFSETFROM:-0500
TZOFFSETTO:-0600
TZNAME:CST
DTSTART:20241103T070000
END:STANDARD
BEGIN:DAYLIGHT
TZOFFSETFROM:-0600
TZOFFSETTO:-0500
TZNAME:CDT
DTSTART:20250309T080000
END:DAYLIGHT
BEGIN:STANDARD
TZOFFSETFROM:-0500
TZOFFSETTO:-0600
TZNAME:CST
DTSTART:20251102T070000
END:STANDARD
BEGIN:DAYLIGHT
TZOFFSETFROM:-0600
TZOFFSETTO:-0500
TZNAME:CDT
DTSTART:20260308T080000
END:DAYLIGHT
BEGIN:STANDARD
TZOFFSETFROM:-0500
TZOFFSETTO:-0600
TZNAME:CST
DTSTART:20261101T070000
END:STANDARD
END:VTIMEZONE
BEGIN:VEVENT
DTSTART;TZID=America/Chicago:20250802T110000
DTEND;TZID=America/Chicago:20250802T140000
DTSTAMP:20260425T111838
CREATED:20250521T151716Z
LAST-MODIFIED:20250521T151717Z
UID:15138-1754132400-1754143200@www.cannonfalls.org
SUMMARY:Voices of the Valley
DESCRIPTION:Saturday\, August 2 \n\n\n\nNaturalist Display – MN DNR Scenic & Natural Areas \n\n\n\nVoices of the Valley is a Cannon Valley Trail program designed to assist a visitor’s exploration and enjoyment of the Cannon River Valley.   \n\n\n\nPlease note throughout the season some Voices of the Valley programs may be cancelled/rescheduled due to inclement weather. \n\n\n\nTopics include – Archeology\, Geology\, Native American Studies\, Railroad History\, Tree Talk\, Wildflowers\, or other Natural and Cultural programs.  \n\n\n\nLocal musicians share their talents. \n\n\n\nPrograms take place on Saturdays during the months of  May through September from 11am-2 pm  at Cannon Valley Trail Welch Station Access.
URL:https://www.cannonfalls.org/event/voices-of-the-valley-10/
ATTACH;FMTTYPE=image/jpeg:https://www.cannonfalls.org/wp-content/uploads/2025/05/Voices-of-the-Valley.jpg
END:VEVENT
BEGIN:VEVENT
DTSTART;TZID=America/Chicago:20250809T110000
DTEND;TZID=America/Chicago:20250809T140000
DTSTAMP:20260425T111838
CREATED:20250804T161733Z
LAST-MODIFIED:20250804T161735Z
UID:15221-1754737200-1754748000@www.cannonfalls.org
SUMMARY:Voices of the Valley
DESCRIPTION:Live music by Ed Freitag on guitar and vocals performing fifties and popular tunes at Welch Station on the Cannon Valley Trail. Accessible by bike or driving. weather permitting.
URL:https://www.cannonfalls.org/event/voices-of-the-valley-14/
ATTACH;FMTTYPE=image/jpeg:https://www.cannonfalls.org/wp-content/uploads/2025/05/Voices-of-the-Valley.jpg
END:VEVENT
BEGIN:VEVENT
DTSTART;TZID=America/Chicago:20250809T130000
DTEND;TZID=America/Chicago:20250809T160000
DTSTAMP:20260425T111838
CREATED:20250804T181909Z
LAST-MODIFIED:20250804T181911Z
UID:15231-1754744400-1754755200@www.cannonfalls.org
SUMMARY:Live Music
DESCRIPTION:
URL:https://www.cannonfalls.org/event/live-music/
LOCATION:Cannon River Winery\, 421 Mill Street West\, Cannon Falls\, MN\, 55009
ATTACH;FMTTYPE=image/jpeg:https://www.cannonfalls.org/wp-content/uploads/2025/08/kley.jpg
END:VEVENT
BEGIN:VEVENT
DTSTART;TZID=America/Chicago:20250813T010000
DTEND;TZID=America/Chicago:20250813T010000
DTSTAMP:20260425T111838
CREATED:20250804T175349Z
LAST-MODIFIED:20250804T175350Z
UID:15226-1755046800-1755046800@www.cannonfalls.org
SUMMARY:Magic Capades
DESCRIPTION:Jim Jayes’ Magic CapadesWednesday Aug. 13th1-2 pm \n\n\n\nGreat for kids of all ages! Learn about some of history’s greatest magicians and their tricks! See up close magic and maybe pick up some tricks of your own!This event is free and open to the public.
URL:https://www.cannonfalls.org/event/magic-capades-2/
ATTACH;FMTTYPE=image/png:https://www.cannonfalls.org/wp-content/uploads/2025/08/MAGIVE.png
END:VEVENT
BEGIN:VEVENT
DTSTART;TZID=America/Chicago:20250814T143000
DTEND;TZID=America/Chicago:20250814T190000
DTSTAMP:20260425T111838
CREATED:20250723T140202Z
LAST-MODIFIED:20250723T140204Z
UID:15208-1755181800-1755198000@www.cannonfalls.org
SUMMARY:Cannon Auto Repair Community Appreciation Day
DESCRIPTION:Stop by and enjoy a hotdog or brat on us \, splash your favorite CAR employee and enter in to WIN a raffle! The kids will love the bouncy house\, yard games\, duck pond game\, face painting\, and prizes!
URL:https://www.cannonfalls.org/event/cannon-auto-repair-community-appreciation-day-2/
LOCATION:Cannon Auto Repair\, 1709 N Highway 20\, Cannon Falls
ATTACH;FMTTYPE=image/png:https://www.cannonfalls.org/wp-content/uploads/2025/07/Cannon-Auto-Party-scaled.png
END:VEVENT
BEGIN:VEVENT
DTSTART;TZID=America/Chicago:20250816T103000
DTEND;TZID=America/Chicago:20250816T103000
DTSTAMP:20260425T111838
CREATED:20250804T161621Z
LAST-MODIFIED:20250804T161623Z
UID:15218-1755340200-1755340200@www.cannonfalls.org
SUMMARY:Brave Story Hour
DESCRIPTION:We are partnering with BRAVE Books to host a Brave Story Hour- See You At The Library. Why See You at the Library? Because kids deserve stories that shape their hearts and minds for good. \n\n\n\nJoin us for a special time of reading together\, praying together\, and connecting as a community around stories that matter.  \n\n\n\nLast year\, over 30\,000 people attended across the nation. Let’s show up and make this the biggest SYATL Day yet! \n\n\n\nRSVP for our local story hour now at SeeYouAtTheLibrary.com! \n\n\n\n Cannon Falls Library \n\n\n\n 10:30am \n\n\n\n Saturday\, August 16th \n\n\n\n#SeeYouAtTheLibrary#SYATL#SYATL2025#BRAVEBook#WeServe#LionsClub#lionsinternational 5M1 Lions
URL:https://www.cannonfalls.org/event/brave-story-hour-2/
ATTACH;FMTTYPE=image/jpeg:https://www.cannonfalls.org/wp-content/uploads/2025/08/brave.jpg
END:VEVENT
BEGIN:VEVENT
DTSTART;TZID=America/Chicago:20250816T110000
DTEND;TZID=America/Chicago:20250816T140000
DTSTAMP:20260425T111838
CREATED:20250521T151838Z
LAST-MODIFIED:20250521T151840Z
UID:15140-1755342000-1755352800@www.cannonfalls.org
SUMMARY:Voices of the Valley
DESCRIPTION:Saturday\, August 16 \n\n\n\nLive Music – Patti & the Reeds – Irish Trio \n\n\n\nVoices of the Valley is a Cannon Valley Trail program designed to assist a visitor’s exploration and enjoyment of the Cannon River Valley.   \n\n\n\nPlease note throughout the season some Voices of the Valley programs may be cancelled/rescheduled due to inclement weather. \n\n\n\nTopics include – Archeology\, Geology\, Native American Studies\, Railroad History\, Tree Talk\, Wildflowers\, or other Natural and Cultural programs.  \n\n\n\nLocal musicians share their talents. \n\n\n\nPrograms take place on Saturdays during the months of  May through September from 11am-2 pm  at Cannon Valley Trail Welch Station Access.
URL:https://www.cannonfalls.org/event/voices-of-the-valley-11/
ATTACH;FMTTYPE=image/jpeg:https://www.cannonfalls.org/wp-content/uploads/2025/05/Pattie-and-the-Reeds.jpg
END:VEVENT
BEGIN:VEVENT
DTSTART;TZID=America/Chicago:20250816T130000
DTEND;TZID=America/Chicago:20250816T160000
DTSTAMP:20260425T111838
CREATED:20250804T182018Z
LAST-MODIFIED:20250804T182313Z
UID:15234-1755349200-1755360000@www.cannonfalls.org
SUMMARY:Live Music
DESCRIPTION:
URL:https://www.cannonfalls.org/event/live-music-2/
LOCATION:Cannon River Winery\, 421 Mill Street West\, Cannon Falls\, MN\, 55009
ATTACH;FMTTYPE=image/jpeg:https://www.cannonfalls.org/wp-content/uploads/2025/08/ccrimson.jpg
END:VEVENT
BEGIN:VEVENT
DTSTART;TZID=America/Chicago:20250819T183000
DTEND;TZID=America/Chicago:20250819T183000
DTSTAMP:20260425T111838
CREATED:20250804T182438Z
LAST-MODIFIED:20250804T182439Z
UID:15237-1755628200-1755628200@www.cannonfalls.org
SUMMARY:Paint Call of the Loon
DESCRIPTION:Join us on Tuesday\, August 19th at 6:30pm at Cannon River Winery for a fun-filled evening painting Call of the Loon on 11 x 14 Canvas! \n\n\n\nGrab your seats here: https://brushedbydesigncreations.com/…/0819calloftheloon/ \n\n\n\nWhether you are a painting enthusiast or a beginner\, our talented artist will guide you step by step\, making this a perfect event for everyone. All ages welcome and no experience needed. Design will be sketched and ready to paint using acrylics. \n\n\n\nWHEN:Tuesday\, August 19th6:30 pm to 9 pmCOST: $35 per canvas \n\n\n\nThis paint party must be pre-paid. \n\n\n\nLOCATION:Cannon River Winery421 Mill Street WestCannon Falls\, MN 55009 \n\n\n\nThis is an excellent opportunity to relax\, unwind\, and make memories with your friends and family. Lots of fun and everyone leaves with a finished painting! You don’t want to miss out on this amazing event! \n\n\n\nFood and beverage are available for purchase\, but not included in the ticket price. Arrive early and come hungry to help support an awesome venue that makes this Paint Party possible.
URL:https://www.cannonfalls.org/event/paint-call-of-the-loon/
ATTACH;FMTTYPE=image/jpeg:https://www.cannonfalls.org/wp-content/uploads/2025/08/loon.jpg
END:VEVENT
BEGIN:VEVENT
DTSTART;TZID=America/Chicago:20250823T130000
DTEND;TZID=America/Chicago:20250823T160000
DTSTAMP:20260425T111838
CREATED:20250804T182550Z
LAST-MODIFIED:20250804T182552Z
UID:15240-1755954000-1755964800@www.cannonfalls.org
SUMMARY:Live Music
DESCRIPTION:
URL:https://www.cannonfalls.org/event/live-music-3/
LOCATION:Cannon River Winery\, 421 Mill Street West\, Cannon Falls\, MN\, 55009
ATTACH;FMTTYPE=image/jpeg:https://www.cannonfalls.org/wp-content/uploads/2025/08/marv-kat.jpg
END:VEVENT
BEGIN:VEVENT
DTSTART;TZID=America/Chicago:20250823T180000
DTEND;TZID=America/Chicago:20250823T193000
DTSTAMP:20260425T111838
CREATED:20250806T143451Z
LAST-MODIFIED:20250806T143453Z
UID:15247-1755972000-1755977400@www.cannonfalls.org
SUMMARY:Live Music at Fairground
DESCRIPTION:FREE COMMUNITY EVENT: \n\n\n\nYou’re invited to our Hot Dog and Outdoor Concert on August 23rd at the Cannon Falls Fairgrounds! \n\n\n\nFood and Fun: Free hot dogs will be served from 5:00-6:00. \n\n\n\nLive Music: Local family\, Randy Hartl and the Mill Run Band take the stage at 6:00 PM\, performing until 7:30 PM. \n\n\n\nSeating: Some seating available\, or feel free to bring your lawn chair! \n\n\n\nCommunity: Enjoy food\, lively music\, and good company with friends and neighbors. \n\n\n\nMark Your Calendars: August 23rd. All are welcome\, so spread the word and we’ll see you there!
URL:https://www.cannonfalls.org/event/live-music-at-fairground/
ATTACH;FMTTYPE=image/jpeg:https://www.cannonfalls.org/wp-content/uploads/2025/08/cv-senior-center.jpg
END:VEVENT
BEGIN:VEVENT
DTSTART;TZID=America/Chicago:20250828T173000
DTEND;TZID=America/Chicago:20250828T193000
DTSTAMP:20260425T111838
CREATED:20250804T182948Z
LAST-MODIFIED:20250804T182949Z
UID:15243-1756402200-1756409400@www.cannonfalls.org
SUMMARY:Music in the Park
DESCRIPTION:
URL:https://www.cannonfalls.org/event/music-in-the-park/
ATTACH;FMTTYPE=image/png:https://www.cannonfalls.org/wp-content/uploads/2025/08/Music-in-the-park3.png
END:VEVENT
BEGIN:VEVENT
DTSTART;TZID=America/Chicago:20250905T190000
DTEND;TZID=America/Chicago:20250905T210000
DTSTAMP:20260425T111838
CREATED:20250903T162706Z
LAST-MODIFIED:20250903T162707Z
UID:15309-1757098800-1757106000@www.cannonfalls.org
SUMMARY:BARGO
DESCRIPTION:
URL:https://www.cannonfalls.org/event/bargo-8/
ATTACH;FMTTYPE=image/jpeg:https://www.cannonfalls.org/wp-content/uploads/2025/09/tiltino.jpg
END:VEVENT
BEGIN:VEVENT
DTSTART;TZID=America/Chicago:20250906T110000
DTEND;TZID=America/Chicago:20250906T140000
DTSTAMP:20260425T111838
CREATED:20250521T151931Z
LAST-MODIFIED:20250521T151933Z
UID:15142-1757156400-1757167200@www.cannonfalls.org
SUMMARY:Voices of the Valley
DESCRIPTION:Saturday\, September 6 \n\n\n\nLive Falcon Display – Mayo Clinic Peregrine Society \n\n\n\nLive Music – Flatt & Square Bluegrass Trio \n\n\n\nVoices of the Valley is a Cannon Valley Trail program designed to assist a visitor’s exploration and enjoyment of the Cannon River Valley.  \n\n\n\n\nTopics include – Archeology\, Geology\, Native American Studies\, Railroad History\, Tree Talk\, Wildflowers\, or other Natural and Cultural programs. \n\n\n\nLocal musicians share their talents.\n\n\n\nPrograms take place on Saturdays during the months of  May through September from 11am-2 pm  at Cannon Valley Trail Welch Station Access.\n\n\n\nPlease note throughout the season some Voices of the Valley programs may be cancelled/rescheduled due to inclement weather.
URL:https://www.cannonfalls.org/event/voices-of-the-valley-12/
ATTACH;FMTTYPE=image/jpeg:https://www.cannonfalls.org/wp-content/uploads/2025/05/Voices-of-the-Valley.jpg
END:VEVENT
BEGIN:VEVENT
DTSTART;TZID=America/Chicago:20250907T153000
DTEND;TZID=America/Chicago:20250907T170000
DTSTAMP:20260425T111838
CREATED:20250822T142946Z
LAST-MODIFIED:20250822T142948Z
UID:15278-1757259000-1757264400@www.cannonfalls.org
SUMMARY:CFHS Powderpuff
DESCRIPTION:Gates open at 3:30pm \n\n\n\n4pm kickoff for 9th and 10th grade5pm kickoff for 11th and 12th grade \n\n\n\n5 for adults\, students are free!! \n\n\n\nThere will be entertainment in between both games!Concessions will be available!!((Cotton Candy and Bomber Blankets for sale as well)) \n\n\n\nEntrance ticket drawings for prizes throughout the night
URL:https://www.cannonfalls.org/event/cfhs-powderpuff/
ATTACH;FMTTYPE=image/jpeg:https://www.cannonfalls.org/wp-content/uploads/2025/08/powederpuff.jpg
END:VEVENT
BEGIN:VEVENT
DTSTART;TZID=America/Chicago:20250912T080000
DTEND;TZID=America/Chicago:20250913T170000
DTSTAMP:20260425T111838
CREATED:20250818T154703Z
LAST-MODIFIED:20250818T154704Z
UID:15272-1757664000-1757782800@www.cannonfalls.org
SUMMARY:City-Wide Garage Sale
DESCRIPTION:
URL:https://www.cannonfalls.org/event/city-wide-garage-sale-3/
ATTACH;FMTTYPE=image/jpeg:https://www.cannonfalls.org/wp-content/uploads/2025/08/garage-sale.jpg
END:VEVENT
BEGIN:VEVENT
DTSTART;TZID=America/Chicago:20250913T083000
DTEND;TZID=America/Chicago:20250913T130000
DTSTAMP:20260425T111838
CREATED:20250903T162927Z
LAST-MODIFIED:20250903T162928Z
UID:15312-1757752200-1757768400@www.cannonfalls.org
SUMMARY:THE ONLY EVENT OF ITS KIND IN MINNESOTA!
DESCRIPTION:Be a Part of our Harvest CReW with Cannon River Winery by Registering Today for the Fall Harvest Experience! \n\n\n\n$25/person (Price goes up to $30/person 9/1) \n\n\n\nIncludes shuttled transportation to and from the Winery and Vineyard\, an educational\, hands-on harvesting experience\, followed by a delicious catered meal and WINE TASTING. All this with the breathtaking views of the Sogn Valley as your backdrop. When you return to the winery\, you will have the chance to get an up-close and personal demonstration of the de-stemming process as well as coupons to use on Winery purchases.Reservations are required for this event. The harvest fills up quickly\, so please register today.
URL:https://www.cannonfalls.org/event/the-only-event-of-its-kind-in-minnesota/
ATTACH;FMTTYPE=image/jpeg:https://www.cannonfalls.org/wp-content/uploads/2025/09/fall-harvest.jpg
END:VEVENT
BEGIN:VEVENT
DTSTART;TZID=America/Chicago:20250913T110000
DTEND;TZID=America/Chicago:20250913T140000
DTSTAMP:20260425T111838
CREATED:20250521T152030Z
LAST-MODIFIED:20250521T152031Z
UID:15144-1757761200-1757772000@www.cannonfalls.org
SUMMARY:Voices of the Valley
DESCRIPTION:Saturday\, September 13 \n\n\n\nLive Music – Tom Peschges – guitar & vocal \n\n\n\nVoices of the Valley is a Cannon Valley Trail program designed to assist a visitor’s exploration and enjoyment of the Cannon River Valley.   \n\n\n\nPlease note throughout the season some Voices of the Valley programs may be cancelled/rescheduled due to inclement weather. \n\n\n\nTopics include – Archeology\, Geology\, Native American Studies\, Railroad History\, Tree Talk\, Wildflowers\, or other Natural and Cultural programs.  \n\n\n\nLocal musicians share their talents. \n\n\n\nPrograms take place on Saturdays during the months of  May through September from 11am-2 pm  at Cannon Valley Trail Welch Station Access.
URL:https://www.cannonfalls.org/event/voices-of-the-valley-13/
ATTACH;FMTTYPE=image/jpeg:https://www.cannonfalls.org/wp-content/uploads/2025/05/Voices-of-the-Valley.jpg
END:VEVENT
BEGIN:VEVENT
DTSTART;TZID=America/Chicago:20250913T120000
DTEND;TZID=America/Chicago:20250913T210000
DTSTAMP:20260425T111838
CREATED:20250718T160220Z
LAST-MODIFIED:20250718T160224Z
UID:15197-1757764800-1757797200@www.cannonfalls.org
SUMMARY:Monster Truck Mania
DESCRIPTION:Get the chance to ride in a REAL monster truck! \n\n\n\nFor the FIRST TIME EVER! Monster Truck Mania is coming to Cannon Falls\, MN – don’t miss all the high-energy excitement and family-friendly motorsports fun! \n\n\n\nSeptember 13\, 2025 at Cannon Valley Fairgrounds \n\n\n\nBuy tickets online at Attendstar: https://event.attendstar.com/…/monster-truck-mania…/ \n\n\n\nFeaturing GIANT National TV Monster Trucks including world-famous OUTLAW\, the brand-new SHARK ATTACK\, the ferocious debut of T-REX\, and from Tombstone\, AZ\, SHERIFF! See these superstars as they compete in earth-shaking\, ground-pounding\, high-flying excitement and get a chance to ride on SERGEANT SMASH! \n\n\n\nSee these superstars as they compete in earth-shaking\, ground-pounding\, high-flying competition. \n\n\n\nEver wonder what it feels like to RIDE in a real monster truck?? Don’t miss the once in a lifetime opportunity to ride in our SERGEANT SMASH ride truck for yourself! \n\n\n\nSpecial Feature: QUAD WARS – see the pros in wheel to wheel racing action on our fast track for a big cash purse & bragging rights! \n\n\n\nKIDS POWER WHEEL RACES: Kids can be a part of the show! Bring a power wheel and cheer them on as they race around the track. \n\n\n\nLIMITED SUPPLY OF ADVANCE CHILD TICKETS ARE ONLY $15! Child General Admission limited supply of 300 tickets – get’em while they last & save up to 50% off gate ticket prices!You don’t want to miss out on all the excitement\, bring the whole family out to see these amazing Monsters! \n\n\n\nThe show has a Pre-show Meet & Greet PIT PARTY with a Kid’s FUN ZONE. Kids can get up close to huge monster trucks and see the track up close where all the Monster Truck battles happen. Admission Only $5.00 to enter the Pre-show PIT PARTY (cash only at the venue). Tickets are also available online in advance. \n\n\n\nSaturday\, September 13\, 2025 \n\n\n\n12:00 PM MATINEE SHOW:VIP gates open at 10:00AM.VIP Pre-show Meet & Greet Pit Party with Kids Zone begins at 10:00AMGeneral Admission gates open at 10:30AMGeneral Admission Pre-show Meet & Greet Pit Party with Kids Zone 10:30am-11:30amPit Party admission tickets only $5.00! Pit Party Included with VIP Tickets! Must have show admission tickets before purchasing Pit Party Pass.Show starts at 12:00pm and ends approx. 1:30pmPost show drivers autographs near Merchandise Stand \n\n\n\n6:00 PM EVENING SHOW:VIP gates open at 4:00PMVIP Pre-show Meet & Greet Pit Party with Kids Zone begins at 4:00PMGeneral Admission gates open at 4:30PMGeneral Admission Pre-show Meet & Greet Pit Party with Kids Zone 4:30pm-5:30pmPit Party admission tickets only $5.00! Pit Party Included with VIP Tickets! Must have show admission tickets before purchasing Pit Party Pass.Show starts at 6:00pm and ends approx. 7:30pmPost show drivers autographs near Merchandise Stand \n\n\n\nPit Party admission tickets only $5.00! Pit Party Included with VIP Tickets! Must have show admission tickets before purchasing Pit Party Pass. \n\n\n\nAdvanced ticket prices may fluctuate based on current ticket supply & demand\, and seating is LIMITED so be sure to BUY NOW! \n\n\n\nYou can also purchase tickets at the gate on the day of the show\, SUBJECT TO AVAILABILITY. Ticket prices are higher at the gate the day of the show. Cash Only. \n\n\n\nVIP Reserved Seating comes with the “Best Seat in the House” as well as the Pre-Show Meet & Greet Pit Party FREE to VIP guest! Limited Supply of VIP tickets – Get’em while they last. \n\n\n\nNo outside food/drinks or coolers allowed into the facility. Food and drink available for purchase on site. Cash only. \n\n\n\nA parking fee may apply. Talent & show programming is subject to change without notice. There is no authorized re-selling of tickets for this event. \n\n\n\nProduced & Promoted by: Monster Truck Mania \n\n\n\nSee you there!
URL:https://www.cannonfalls.org/event/monster-truck-mania/
LOCATION:Cannon Valley Fairgrounds\, 800 N 9th ST\, Cannon Falls\, Minnesota\, 55009
ATTACH;FMTTYPE=image/jpeg:https://www.cannonfalls.org/wp-content/uploads/2025/07/Monster-truck.jpg
END:VEVENT
BEGIN:VEVENT
DTSTART;TZID=America/Chicago:20250913T150000
DTEND;TZID=America/Chicago:20250913T200000
DTSTAMP:20260425T111838
CREATED:20250818T153951Z
LAST-MODIFIED:20250818T153952Z
UID:15266-1757775600-1757793600@www.cannonfalls.org
SUMMARY:Cannon Falls Bears Baggo Tournament
DESCRIPTION:
URL:https://www.cannonfalls.org/event/cannon-falls-bears-baggo-tournament/
ATTACH;FMTTYPE=image/jpeg:https://www.cannonfalls.org/wp-content/uploads/2025/08/bagoo.jpg
END:VEVENT
BEGIN:VEVENT
DTSTART;TZID=America/Chicago:20250913T170000
DTEND;TZID=America/Chicago:20250913T190000
DTSTAMP:20260425T111838
CREATED:20250903T162547Z
LAST-MODIFIED:20250903T162548Z
UID:15305-1757782800-1757790000@www.cannonfalls.org
SUMMARY:Homegrown Harvest Dinner
DESCRIPTION:Join us for a delicious farm-fresh meal featuring collaborations between local food trucks\, farmers\, and value-added producers to establish the Farmer-to-Farmer Fund\, a new fund to support farmers in times of crisis. Ticket sales are only open until September 8: please see the button below to reserve your place at the table today!! \n\n\n\nThe evening’s multi-course menu is an invitation to experience\, explore\, and get to know the flavors of our region while the ticket sales of the meal go to building the foundation for a fund that will lend a hand to farmers in need. You can see the menu here: https://docs.google.com/…/1cRkfauJDs4MlFzfUW…/edit… \n\n\n\nFerndale Market will be open before and after the dinner so you can take locally grown ingredients home. Join us to forge new relationships\, build resiliency\, and support our local farming community. \n\n\n\n\n\n\n\nCFcocadminEdit Profile
URL:https://www.cannonfalls.org/event/homegrown-harvest-dinner/
ATTACH;FMTTYPE=image/png:https://www.cannonfalls.org/wp-content/uploads/2025/09/homegrown-dinner.png
END:VEVENT
BEGIN:VEVENT
DTSTART;TZID=America/Chicago:20250920T040000
DTEND;TZID=America/Chicago:20250920T200000
DTSTAMP:20260425T111838
CREATED:20250818T153807Z
LAST-MODIFIED:20250818T153809Z
UID:15263-1758340800-1758398400@www.cannonfalls.org
SUMMARY:VFW Hog Roast
DESCRIPTION:
URL:https://www.cannonfalls.org/event/vfw-hog-roast/
ATTACH;FMTTYPE=image/jpeg:https://www.cannonfalls.org/wp-content/uploads/2025/08/hograost.jpg
END:VEVENT
BEGIN:VEVENT
DTSTART;TZID=America/Chicago:20250920T160000
DTEND;TZID=America/Chicago:20250920T190000
DTSTAMP:20260425T111838
CREATED:20250903T162331Z
LAST-MODIFIED:20250903T162348Z
UID:15302-1758384000-1758394800@www.cannonfalls.org
SUMMARY:CF Education Foundation Poker Social
DESCRIPTION:The 6th Annual CFEF Poker Social will be September 20 starting at 4 p.m. at Mill Street Tavern. Get this fun event on your calendar now and watch here for the details!
URL:https://www.cannonfalls.org/event/cf-education-foundation-poker-social/
ATTACH;FMTTYPE=image/png:https://www.cannonfalls.org/wp-content/uploads/2025/09/poker.png
END:VEVENT
BEGIN:VEVENT
DTSTART;TZID=America/Chicago:20250920T160000
DTEND;TZID=America/Chicago:20250920T200000
DTSTAMP:20260425T111838
CREATED:20250910T175607Z
LAST-MODIFIED:20250910T175609Z
UID:15339-1758384000-1758398400@www.cannonfalls.org
SUMMARY:Chicken BBQ & CD Release Concert
DESCRIPTION:
URL:https://www.cannonfalls.org/event/chicken-bbq-cd-release-concert/
ATTACH;FMTTYPE=image/jpeg:https://www.cannonfalls.org/wp-content/uploads/2025/09/christ-nunited.jpg
END:VEVENT
BEGIN:VEVENT
DTSTART;TZID=America/Chicago:20250921T110000
DTEND;TZID=America/Chicago:20250921T130000
DTSTAMP:20260425T111838
CREATED:20250903T163050Z
LAST-MODIFIED:20250905T134411Z
UID:15316-1758452400-1758459600@www.cannonfalls.org
SUMMARY:Fall Festival
DESCRIPTION:Join us for an afternoon of celebration\, connection\, and community. \n\n\n\nWe will start with a 10:00 am Mass \n\n\n\nFrom 11:00 am—1:00 pm \n\n\n\nKC’s Grill Tent  \n\n\n\nBINGO    \n\n\n\nWine & Kiddie Pull  \n\n\n\nPetting Zoo    \n\n\n\nBalloon Artist  \n\n\n\nCountry Store     \n\n\n\nClassic Cars 1:00 pm  \n\n\n\nLIVE AUCTION  \n\n\n\nRaffle Drawing after Auction
URL:https://www.cannonfalls.org/event/fall-festival-2/
ATTACH;FMTTYPE=image/jpeg:https://www.cannonfalls.org/wp-content/uploads/2025/09/2025-Fall-Festival-Flyer.jpg
END:VEVENT
BEGIN:VEVENT
DTSTART;TZID=America/Chicago:20250927T110000
DTEND;TZID=America/Chicago:20250927T140000
DTSTAMP:20260425T111838
CREATED:20250925T160056Z
LAST-MODIFIED:20250925T160246Z
UID:15345-1758970800-1758981600@www.cannonfalls.org
SUMMARY:Voices in the Valley
DESCRIPTION:Programs take place on Saturdays during the months of  May through September from 11am-2 pm  at Cannon Valley Trail Welch Station Access.
URL:https://www.cannonfalls.org/event/voices-in-the-valley/
LOCATION:Cannon Valley Trail Welch Station Access\, 26674 144th Ave Way\, Welch\, Minnesota\, 55089
ATTACH;FMTTYPE=image/jpeg:https://www.cannonfalls.org/wp-content/uploads/2025/09/hartl.jpg
END:VEVENT
BEGIN:VEVENT
DTSTART;TZID=America/Chicago:20250927T120000
DTEND;TZID=America/Chicago:20250927T210000
DTSTAMP:20260425T111838
CREATED:20250804T163842Z
LAST-MODIFIED:20250804T163843Z
UID:15223-1758974400-1759006800@www.cannonfalls.org
SUMMARY:Oktoberfest
DESCRIPTION:Prost! It’s Time for Oktoberfest! One of our biggest and most beloved events of the year is back — and you’re invited! \n\n\n\nGet ready for a full day of cold beer\, delicious food\, epic games\, and non-stop fun. Whether you’re here to compete\, feast\, or just soak up the vibes\, there’s something for everyone. \n\n\n\nEvent Highlights: \n\n\n\n12:00 PM – Fire up your appetite with juicy Brats & Turkey Brats \n\n\n\n12:00 PM – Corn Hole Team Registration opens – grab a partner and sign up! \n\n\n\n1:00 PM – Corn Hole Tournament kicks off (Single Elimination – Cash Prizes! ) \n\n\n\n2:00 PM – Test your strength in the Stein Holding Contest (Prizes for the champs! ) \n\n\n\n3:00 PM – Laugh your way through the Drunken German Spelling Bee  \n\n\n\n Plus music\, brews\, and good vibes ALL DAY LONG!
URL:https://www.cannonfalls.org/event/oktoberfest/
ATTACH;FMTTYPE=image/jpeg:https://www.cannonfalls.org/wp-content/uploads/2025/08/oktoberfest.jpg
END:VEVENT
BEGIN:VEVENT
DTSTART;TZID=America/Chicago:20251004T010000
DTEND;TZID=America/Chicago:20251004T150000
DTSTAMP:20260425T111838
CREATED:20251001T163650Z
LAST-MODIFIED:20251001T163655Z
UID:15371-1759539600-1759590000@www.cannonfalls.org
SUMMARY:Fall Harvest Family Race Day
DESCRIPTION:Join us for a fun-filled Family Day at the Races! Bring the whole family out for an exciting afternoon of live harness racing paired with family-friendly activities everyone will love. \n\n\n\n What’s happening: Mini family photoshoots Warm seasonal treats Kids coloring contest Fun merch giveaways Meet & pet a retired Standardbred racehorse \n\n\n\nIt’s the perfect way to spend the day together—cheering at the races\, making memories\, and enjoying activities for all ages. Admission is free! Don’t miss it!
URL:https://www.cannonfalls.org/event/fall-harvest-family-race-day/
LOCATION:Cannon Valley Fairgrounds
ATTACH;FMTTYPE=image/jpeg:https://www.cannonfalls.org/wp-content/uploads/2025/10/horse.jpg
END:VEVENT
BEGIN:VEVENT
DTSTART;TZID=America/Chicago:20251004T100000
DTEND;TZID=America/Chicago:20251005T170000
DTSTAMP:20260425T111838
CREATED:20250825T143130Z
LAST-MODIFIED:20250825T143132Z
UID:15299-1759572000-1759683600@www.cannonfalls.org
SUMMARY:Sogn Valley Art Fair
DESCRIPTION:Join us on Saturday October 4 from 10:00am to 5:00pm and on Sunday October 5 from 10:00am to 4:00pm for the 53st Sogn Valley Art Fair in downtown Cannon Falls\, Minnesota. Watch for new artists and a few surprises!
URL:https://www.cannonfalls.org/event/sogn-valley-art-fair-3/
ATTACH;FMTTYPE=image/jpeg:https://www.cannonfalls.org/wp-content/uploads/2025/08/art-org.jpg
END:VEVENT
BEGIN:VEVENT
DTSTART;TZID=America/Chicago:20251005T110000
DTEND;TZID=America/Chicago:20251005T170000
DTSTAMP:20260425T111838
CREATED:20250818T154240Z
LAST-MODIFIED:20250818T154241Z
UID:15269-1759662000-1759683600@www.cannonfalls.org
SUMMARY:Poker Ride
DESCRIPTION:We’re revving things up for our next ride — and trust us\, it’s going to top the last one!You won’t want to miss this adventure\, so lock it in your calendar now!
URL:https://www.cannonfalls.org/event/poker-ride/
ATTACH;FMTTYPE=image/jpeg:https://www.cannonfalls.org/wp-content/uploads/2025/08/powersports.jpg
END:VEVENT
END:VCALENDAR