BEGIN:VCALENDAR
VERSION:2.0
PRODID:-//Cannon Falls Area Chamber of Commerce - ECPv6.15.20//NONSGML v1.0//EN
CALSCALE:GREGORIAN
METHOD:PUBLISH
X-WR-CALNAME:Cannon Falls Area Chamber of Commerce
X-ORIGINAL-URL:https://www.cannonfalls.org
X-WR-CALDESC:Events for Cannon Falls Area Chamber of Commerce
REFRESH-INTERVAL;VALUE=DURATION:PT1H
X-Robots-Tag:noindex
X-PUBLISHED-TTL:PT1H
BEGIN:VTIMEZONE
TZID:America/Chicago
BEGIN:DAYLIGHT
TZOFFSETFROM:-0600
TZOFFSETTO:-0500
TZNAME:CDT
DTSTART:20240310T080000
END:DAYLIGHT
BEGIN:STANDARD
TZOFFSETFROM:-0500
TZOFFSETTO:-0600
TZNAME:CST
DTSTART:20241103T070000
END:STANDARD
BEGIN:DAYLIGHT
TZOFFSETFROM:-0600
TZOFFSETTO:-0500
TZNAME:CDT
DTSTART:20250309T080000
END:DAYLIGHT
BEGIN:STANDARD
TZOFFSETFROM:-0500
TZOFFSETTO:-0600
TZNAME:CST
DTSTART:20251102T070000
END:STANDARD
BEGIN:DAYLIGHT
TZOFFSETFROM:-0600
TZOFFSETTO:-0500
TZNAME:CDT
DTSTART:20260308T080000
END:DAYLIGHT
BEGIN:STANDARD
TZOFFSETFROM:-0500
TZOFFSETTO:-0600
TZNAME:CST
DTSTART:20261101T070000
END:STANDARD
END:VTIMEZONE
BEGIN:VEVENT
DTSTART;TZID=America/Chicago:20250419T100000
DTEND;TZID=America/Chicago:20250419T110000
DTSTAMP:20260425T090548
CREATED:20250409T162251Z
LAST-MODIFIED:20250409T162254Z
UID:15048-1745056800-1745060400@www.cannonfalls.org
SUMMARY:Community Easter Egg Dash
DESCRIPTION:
URL:https://www.cannonfalls.org/event/community-easter-egg-dash/
LOCATION:Minnesota
ATTACH;FMTTYPE=image/jpeg:https://www.cannonfalls.org/wp-content/uploads/2025/04/st-ansgars.jpg
END:VEVENT
BEGIN:VEVENT
DTSTART;TZID=America/Chicago:20250426T070000
DTEND;TZID=America/Chicago:20250426T100000
DTSTAMP:20260425T090548
CREATED:20250331T140128Z
LAST-MODIFIED:20250331T140130Z
UID:15004-1745650800-1745661600@www.cannonfalls.org
SUMMARY:Cannon Falls Fire and Rescue Pancake Breakfast
DESCRIPTION:Due to the popularity of our pancake breakfast and open house events in the past\, our major fundraising event will be held on Saturday\, April 26th 2025 from 7:00 -10:00 am at the cannon falls public safety building. This is our only fund raiser which helps cover the cost of non-budgeted and non-gambling expenses. \n\n\n\nBreakfast will be pancakes and sausage served with milk\, orange juice\, water or coffee all prepared by your local volunteers. Fire trucks will be on display for you to explore. A free will donation will cover the cost of the breakfast.
URL:https://www.cannonfalls.org/event/cannon-falls-fire-and-rescue-pancake-breakfast/
LOCATION:Minnesota
ATTACH;FMTTYPE=image/jpeg:https://www.cannonfalls.org/wp-content/uploads/2025/03/fire.jpg
END:VEVENT
BEGIN:VEVENT
DTSTART;TZID=America/Chicago:20250426T180000
DTEND;TZID=America/Chicago:20250426T220000
DTSTAMP:20260425T090548
CREATED:20250331T135944Z
LAST-MODIFIED:20250331T135947Z
UID:14999-1745690400-1745704800@www.cannonfalls.org
SUMMARY:CFEF Live and Silent Benefit Auction
DESCRIPTION:The Annual Cannon Falls Education Foundation Benefit Auction will take place on Saturday\, April 26\, 2025. Doors open for admission at 6 p.m. at Cannon River Winery where attendees will be able to bid on an array of auction items and play games for a chance to win prizes. A light snack will be served\, and Cannon River Winery’s bar will be open to purchase beverages. \n\n\n\nThe Benefit Auction features a live auction\, a silent auction\, and fun games and drawings to win prizes. Attendees can bid on items and experiences that have been donated by sponsors. Past CFEF auctions have provided a popular\, engaging social event and raised thousands of dollars that are used to enhance local students’ education. \n\n\n\nAll money raised through the auction\, games and admission fees goes directly to Cannon Falls pre-K—12 schools through grant requests made by teachers and administrators for specific projects. These requests provide local students with the tools and opportunities to help promote excellence in education. Just some of the recent projects funded by CFEF are the 4th grade students to visit the Eagle Bluff Environmental Learning Center\, for books students can choose from after completing reading challenges\, and for many local CTE (Career and Technical Education) and STEM-related (Science\, Technology\, Engineering and Mathematics) classroom projects. \n\n\n\nThe Cannon Falls Education Foundation (CFEF) is so thankful to the donors who graciously support Cannon Falls students and teachers. Whether you enjoy games of chance\, bidding on silent or live auction items\, or just donating to a worthy cause\, Saturday\, April 26\, is your chance to have a fun evening and make a difference in the lives of Cannon Falls kids. \n\n\n\nAdd this fun event to your calendars NOW\, then return later to our Facebook page for more details on the Benefit Auction items and evening schedule.
URL:https://www.cannonfalls.org/event/cfef-live-and-silent-benefit-auction/
LOCATION:Cannon River Winery
ATTACH;FMTTYPE=image/jpeg:https://www.cannonfalls.org/wp-content/uploads/2025/03/ed-foundation.jpg
END:VEVENT
BEGIN:VEVENT
DTSTART;TZID=America/Chicago:20250427T150000
DTEND;TZID=America/Chicago:20250427T170000
DTSTAMP:20260425T090548
CREATED:20250312T131427Z
LAST-MODIFIED:20250312T131436Z
UID:14936-1745766000-1745773200@www.cannonfalls.org
SUMMARY:Cannon Falls Treehouse Fundraiser
DESCRIPTION:Join us for our 3rd Annual Silent Auction Fundraiser!Come for an opportunity to learn more about the work of Cannon Falls TreeHouse and help support our work.Enjoy food\, music\, and bidding on items donated by our generous partners
URL:https://www.cannonfalls.org/event/cannon-falls-treehouse-fundraiser/
LOCATION:True North Church\, Cannon Falls
ATTACH;FMTTYPE=image/jpeg:https://www.cannonfalls.org/wp-content/uploads/2025/03/Treehouse.jpg
END:VEVENT
BEGIN:VEVENT
DTSTART;TZID=America/Chicago:20250501T183000
DTEND;TZID=America/Chicago:20250501T200000
DTSTAMP:20260425T090548
CREATED:20250418T142855Z
LAST-MODIFIED:20250418T142900Z
UID:15068-1746124200-1746129600@www.cannonfalls.org
SUMMARY:National Day of Prayer
DESCRIPTION:Our Saviour’s Lutheran Church Cannon Falls
URL:https://www.cannonfalls.org/event/national-day-of-prayer/
LOCATION:Minnesota
ATTACH;FMTTYPE=image/jpeg:https://www.cannonfalls.org/wp-content/uploads/2025/04/Screenshot_20250418_091332_M365-Copilot.jpg
END:VEVENT
BEGIN:VEVENT
DTSTART;TZID=America/Chicago:20250502T080000
DTEND;TZID=America/Chicago:20250503T170000
DTSTAMP:20260425T090548
CREATED:20250402T152422Z
LAST-MODIFIED:20250402T152424Z
UID:15032-1746172800-1746291600@www.cannonfalls.org
SUMMARY:City-Wide Garage Sale
DESCRIPTION:Visit Cannon Falls Beacon page to register sale: https://www.cannonfallsbeacon.com/classifieds/sale/?l=25
URL:https://www.cannonfalls.org/event/city-wide-garage-sale-2/
LOCATION:Minnesota
ATTACH;FMTTYPE=image/png:https://www.cannonfalls.org/wp-content/uploads/2025/04/Garage-Sale1.png
END:VEVENT
BEGIN:VEVENT
DTSTART;TZID=America/Chicago:20250510T030000
DTEND;TZID=America/Chicago:20250510T030000
DTSTAMP:20260425T090548
CREATED:20250418T162110Z
LAST-MODIFIED:20250418T165808Z
UID:15072-1746846000-1746846000@www.cannonfalls.org
SUMMARY:MN Fire Engine Club Open House
DESCRIPTION:
URL:https://www.cannonfalls.org/event/mn-fire-engine-club-open-house/
LOCATION:Minnesota
ATTACH;FMTTYPE=image/jpeg:https://www.cannonfalls.org/wp-content/uploads/2025/04/MN-Fire-Engine-Club.jpg
END:VEVENT
BEGIN:VEVENT
DTSTART;TZID=America/Chicago:20250511T080000
DTEND;TZID=America/Chicago:20250511T170000
DTSTAMP:20260425T090548
CREATED:20250430T172932Z
LAST-MODIFIED:20250430T173117Z
UID:15081-1746950400-1746982800@www.cannonfalls.org
SUMMARY:Mother's Day Breakfast at Cannon River Winery
DESCRIPTION:
URL:https://www.cannonfalls.org/event/mothers-day-breakfast-at-cannon-river-winery/
LOCATION:Minnesota
ATTACH;FMTTYPE=image/png:https://www.cannonfalls.org/wp-content/uploads/2025/04/Screenshot-2025-04-30-at-12-25-22-20-Facebook.png
END:VEVENT
BEGIN:VEVENT
DTSTART;TZID=America/Chicago:20250516T080000
DTEND;TZID=America/Chicago:20250516T170000
DTSTAMP:20260425T090548
CREATED:20250516T180433Z
LAST-MODIFIED:20250516T180435Z
UID:15122-1747382400-1747414800@www.cannonfalls.org
SUMMARY:Memorial Day Events
DESCRIPTION:
URL:https://www.cannonfalls.org/event/memorial-day-events-2/
LOCATION:Minnesota
ATTACH;FMTTYPE=image/jpeg:https://www.cannonfalls.org/wp-content/uploads/2025/05/memorial-day.jpg
END:VEVENT
BEGIN:VEVENT
DTSTART;TZID=America/Chicago:20250517T073000
DTEND;TZID=America/Chicago:20250517T123000
DTSTAMP:20260425T090548
CREATED:20250516T165825Z
LAST-MODIFIED:20250516T165902Z
UID:15115-1747467000-1747485000@www.cannonfalls.org
SUMMARY:Farmer's Market
DESCRIPTION:
URL:https://www.cannonfalls.org/event/farmers-market-10/
LOCATION:Minnesota
ATTACH;FMTTYPE=image/jpeg:https://www.cannonfalls.org/wp-content/uploads/2025/05/farmers-market.jpg
END:VEVENT
BEGIN:VEVENT
DTSTART;TZID=America/Chicago:20250517T080000
DTEND;TZID=America/Chicago:20250517T110000
DTSTAMP:20260425T090548
CREATED:20250414T142050Z
LAST-MODIFIED:20250414T142051Z
UID:15055-1747468800-1747479600@www.cannonfalls.org
SUMMARY:Plant Fundraiser
DESCRIPTION:
URL:https://www.cannonfalls.org/event/plant-fundraiser/
LOCATION:Minnesota
ATTACH;FMTTYPE=image/jpeg:https://www.cannonfalls.org/wp-content/uploads/2025/04/plant.jpg
END:VEVENT
BEGIN:VEVENT
DTSTART;TZID=America/Chicago:20250517T090000
DTEND;TZID=America/Chicago:20250517T150000
DTSTAMP:20260425T090548
CREATED:20250414T133923Z
LAST-MODIFIED:20250516T164900Z
UID:15052-1747472400-1747494000@www.cannonfalls.org
SUMMARY:Cannon Power Sports Open House
DESCRIPTION:SAVE THE DATES!!!!! \n\n\n\nFriday May 16th and Saturday May 17th! \n\n\n\nCHICK-FIL-A FOOD TRUCK! \n\n\n\nSegway Powersports demo rides! \n\n\n\nMore details coming soon!
URL:https://www.cannonfalls.org/event/cannon-power-sports-open-house/
LOCATION:Minnesota
ATTACH;FMTTYPE=image/jpeg:https://www.cannonfalls.org/wp-content/uploads/2025/04/cannonpower.jpg
END:VEVENT
BEGIN:VEVENT
DTSTART;TZID=America/Chicago:20250522T110000
DTEND;TZID=America/Chicago:20250522T130000
DTSTAMP:20260425T090548
CREATED:20250502T142013Z
LAST-MODIFIED:20250502T142014Z
UID:15087-1747911600-1747918800@www.cannonfalls.org
SUMMARY:Cannon Auto Repair's 2nd Annual Car Show
DESCRIPTION:
URL:https://www.cannonfalls.org/event/cannon-auto-repairs-2nd-annual-car-show/
LOCATION:Minnesota
ATTACH;FMTTYPE=image/jpeg:https://www.cannonfalls.org/wp-content/uploads/2025/05/cannon-auto-event.jpg
END:VEVENT
BEGIN:VEVENT
DTSTART;TZID=America/Chicago:20250522T183000
DTEND;TZID=America/Chicago:20250522T200000
DTSTAMP:20260425T090548
CREATED:20250409T161537Z
LAST-MODIFIED:20250409T161538Z
UID:15042-1747938600-1747944000@www.cannonfalls.org
SUMMARY:Paint Northern Lights
DESCRIPTION:Join us on Thursday\, May 22nd at 6:30pm at Cannon River Winery for a fun-filled evening painting the Northern Lights on your choice of 11 x 14 Canvas or 18″ Minnesota Wood Cutout! \n\n\n\nGrab your seats here: https://brushedbydesigncreations.com/…/0522northernlights/ \n\n\n\nWhether you are a painting enthusiast or a beginner\, our talented artist will guide you step by step\, making this a perfect event for everyone. All ages welcome and no experience needed. \n\n\n\nWHEN:Thursday\, May 226:30pm to 9:00pmCOST: $35 per canvas \n\n\n\nThis paint party must be pre-paid. \n\n\n\nLOCATION:Cannon River Winery421 Mill Street WestCannon Falls\, MN 55009 \n\n\n\nThis is an excellent opportunity to relax\, unwind\, and make memories with your friends and family. Lots of fun and everyone leaves with a finished painting! You don’t want to miss out on this amazing event! \n\n\n\nFood and beverage are available for purchase\, but not included in the ticket price. Arrive early and come hungry to help support an awesome venue that makes this Paint Party possible.
URL:https://www.cannonfalls.org/event/paint-northern-lights/
LOCATION:Minnesota
ATTACH;FMTTYPE=image/jpeg:https://www.cannonfalls.org/wp-content/uploads/2025/04/paint.jpg
END:VEVENT
BEGIN:VEVENT
DTSTART;TZID=America/Chicago:20250523T100000
DTEND;TZID=America/Chicago:20250523T160000
DTSTAMP:20260425T090548
CREATED:20250331T150043Z
LAST-MODIFIED:20250331T150122Z
UID:15013-1747994400-1748016000@www.cannonfalls.org
SUMMARY:Blood Drive
DESCRIPTION:
URL:https://www.cannonfalls.org/event/blood-drive-2/
LOCATION:Minnesota
ATTACH;FMTTYPE=image/jpeg:https://www.cannonfalls.org/wp-content/uploads/2025/03/blooddrive.jpg
END:VEVENT
BEGIN:VEVENT
DTSTART;TZID=America/Chicago:20250524T073000
DTEND;TZID=America/Chicago:20250525T003000
DTSTAMP:20260425T090548
CREATED:20250516T170026Z
LAST-MODIFIED:20250516T170028Z
UID:15118-1748071800-1748133000@www.cannonfalls.org
SUMMARY:Farmer's Market
DESCRIPTION:
URL:https://www.cannonfalls.org/event/farmers-market-11/
LOCATION:Minnesota
ATTACH;FMTTYPE=image/jpeg:https://www.cannonfalls.org/wp-content/uploads/2025/05/farmers-market.jpg
END:VEVENT
BEGIN:VEVENT
DTSTART;TZID=America/Chicago:20250524T130000
DTEND;TZID=America/Chicago:20250524T160000
DTSTAMP:20260425T090548
CREATED:20250512T174956Z
LAST-MODIFIED:20250512T174957Z
UID:15100-1748091600-1748102400@www.cannonfalls.org
SUMMARY:Candle Making Experience
DESCRIPTION:Discover the Art of Candle Making at Cannon River Winery!Join TS Home Studio for an unforgettable Candle Making Experience at the beautiful Cannon River Winery. With expert guidance from our Scent Consultant\, you’ll blend your own unique fragrance from over 50 options before being led step-by-step through the candle-making process.This interactive class is designed for everyone—no prior experience needed! Relax and enjoy the cozy ambiance of the winery as your candle cools\, with a glass of wine or a handcrafted mocktail. \n\n\n\nYour experience includes: \n\n\n\n1 custom 14oz candle featuring a wood wick and 100% natural soy waxAccess to 50+ fragrance oils to craft your perfect scent \n\n\n\n Class Time: 1 PM \n\n\n\n Seats are limited to 30 participants—reserve yours today! \n\n\n\n Notes:This is a standing\, station-based experience rather than a seated class. You’ll move through different stations as you blend your fragrance and pour your candle.Candles take about 2 hours to set before they’re ready to take home. \n\n\n\nCome for the candles\, stay for the wine—it’s the perfect pairing for a creative and relaxing afternoon. We can’t wait to create with you!
URL:https://www.cannonfalls.org/event/candle-making-experience/
LOCATION:Minnesota
ATTACH;FMTTYPE=image/jpeg:https://www.cannonfalls.org/wp-content/uploads/2025/05/candle.jpg
END:VEVENT
BEGIN:VEVENT
DTSTART;TZID=America/Chicago:20250526T080000
DTEND;TZID=America/Chicago:20250526T170000
DTSTAMP:20260425T090548
CREATED:20250523T145359Z
LAST-MODIFIED:20250523T145400Z
UID:15146-1748246400-1748278800@www.cannonfalls.org
SUMMARY:Memorial Day Events
DESCRIPTION:
URL:https://www.cannonfalls.org/event/memorial-day-events-3/
LOCATION:Minnesota
ATTACH;FMTTYPE=image/jpeg:https://www.cannonfalls.org/wp-content/uploads/2025/05/memorial-day-1.jpg
END:VEVENT
BEGIN:VEVENT
DTSTART;TZID=America/Chicago:20250531T073000
DTEND;TZID=America/Chicago:20250531T123000
DTSTAMP:20260425T090548
CREATED:20250516T170121Z
LAST-MODIFIED:20250516T170123Z
UID:15120-1748676600-1748694600@www.cannonfalls.org
SUMMARY:Farmer's Market
DESCRIPTION:
URL:https://www.cannonfalls.org/event/farmers-market-12/
LOCATION:Minnesota
ATTACH;FMTTYPE=image/jpeg:https://www.cannonfalls.org/wp-content/uploads/2025/05/farmers-market.jpg
END:VEVENT
BEGIN:VEVENT
DTSTART;TZID=America/Chicago:20250605T150000
DTEND;TZID=America/Chicago:20250605T190000
DTSTAMP:20260425T090548
CREATED:20250512T175641Z
LAST-MODIFIED:20250602T151156Z
UID:15106-1749135600-1749150000@www.cannonfalls.org
SUMMARY:Summer Kickoff
DESCRIPTION:Get ready to jumpstart your summer with an afternoon full of fun\, food\, and festivities at Summer Kickoff! \n\n\n\n Live music Local vendors Food trucks Rock climbing wall Balloon artist S’mores Family-friendly activities
URL:https://www.cannonfalls.org/event/summer-kickoff/
LOCATION:Minnesota
ATTACH;FMTTYPE=image/png:https://www.cannonfalls.org/wp-content/uploads/2025/05/Summer-Kickoff-1.png
END:VEVENT
BEGIN:VEVENT
DTSTART;TZID=America/Chicago:20250607T110000
DTEND;TZID=America/Chicago:20250607T140000
DTSTAMP:20260425T090548
CREATED:20250521T150721Z
LAST-MODIFIED:20250521T151238Z
UID:15125-1749294000-1749304800@www.cannonfalls.org
SUMMARY:Cannon Valley Trail Open House
DESCRIPTION:Annual Open House. \n\n\n\nMinnesota Master Naturalists & Friends of the Bluff – information table \n\n\n\nFREE Riding for everyone! \n\n\n\nMusic at Welch by Flatt and Square – Bluegrass Trio \n\n\n\nFerndale Market turkey samples.
URL:https://www.cannonfalls.org/event/cannon-valley-trail-open-house-2/
LOCATION:Minnesota
ATTACH;FMTTYPE=image/jpeg:https://www.cannonfalls.org/wp-content/uploads/2025/05/Voices-of-the-Valley.jpg
END:VEVENT
BEGIN:VEVENT
DTSTART;TZID=America/Chicago:20250613T110000
DTEND;TZID=America/Chicago:20250613T180000
DTSTAMP:20260425T090549
CREATED:20250430T140952Z
LAST-MODIFIED:20250430T140954Z
UID:15075-1749812400-1749837600@www.cannonfalls.org
SUMMARY:10th Anniversary at Nate's Garage
DESCRIPTION:Join us as we celebrate our 10 year anniversary!! \n\n\n\n-Truth Dyno & Performance will be onsite doing dyno testing-Pulled Pork Sandwiches from the R Bar\, Chips\, Beer\, Soda and Water – all complimentary!-Raffles & Giveaways-Kids blowup & other entertainment \n\n\n\nWe hope you can join us!!
URL:https://www.cannonfalls.org/event/10th-anniversary-at-nates-garage/
LOCATION:Minnesota
ATTACH;FMTTYPE=image/jpeg:https://www.cannonfalls.org/wp-content/uploads/2025/04/nates.jpg
END:VEVENT
BEGIN:VEVENT
DTSTART;TZID=America/Chicago:20250614T110000
DTEND;TZID=America/Chicago:20250614T140000
DTSTAMP:20260425T090549
CREATED:20250521T151023Z
LAST-MODIFIED:20250521T151025Z
UID:15128-1749898800-1749909600@www.cannonfalls.org
SUMMARY:Voices of the Valley
DESCRIPTION:Saturday\, June 14 \n\n\n\nLive Music – InTandem – folk duo Brenda Owens & Lee Mensinger \n\n\n\nVoices of the Valley is a Cannon Valley Trail program designed to assist a visitor’s exploration and enjoyment of the Cannon River Valley.   \n\n\n\nPlease note throughout the season some Voices of the Valley programs may be cancelled/rescheduled due to inclement weather. \n\n\n\nTopics include – Archeology\, Geology\, Native American Studies\, Railroad History\, Tree Talk\, Wildflowers\, or other Natural and Cultural programs.  \n\n\n\nLocal musicians share their talents. \n\n\n\nPrograms take place on Saturdays during the months of  May through September from 11am-2 pm  at Cannon Valley Trail Welch Station Access.
URL:https://www.cannonfalls.org/event/voices-of-the-valley-6/
LOCATION:Minnesota
ATTACH;FMTTYPE=image/jpeg:https://www.cannonfalls.org/wp-content/uploads/2025/05/Brenda-ownes.jpg
END:VEVENT
BEGIN:VEVENT
DTSTART;TZID=America/Chicago:20250615T070000
DTEND;TZID=America/Chicago:20250615T120000
DTSTAMP:20260425T090549
CREATED:20250605T135607Z
LAST-MODIFIED:20250605T135608Z
UID:15159-1749970800-1749988800@www.cannonfalls.org
SUMMARY:Cannon Falls Lions Club Father's Day Breakfast
DESCRIPTION:
URL:https://www.cannonfalls.org/event/cannon-falls-lions-club-fathers-day-breakfast/
LOCATION:Minnesota
ATTACH;FMTTYPE=image/jpeg:https://www.cannonfalls.org/wp-content/uploads/2025/06/Lions-fathers-day.jpg
END:VEVENT
BEGIN:VEVENT
DTSTART;TZID=America/Chicago:20250621T110000
DTEND;TZID=America/Chicago:20250621T140000
DTSTAMP:20260425T090549
CREATED:20250521T151154Z
LAST-MODIFIED:20250521T151156Z
UID:15131-1750503600-1750514400@www.cannonfalls.org
SUMMARY:Voices of the Valley
DESCRIPTION:Saturday\, June 21 \n\n\n\nLive Music – Tom Peschges – guitar and vocals \n\n\n\nVoices of the Valley is a Cannon Valley Trail program designed to assist a visitor’s exploration and enjoyment of the Cannon River Valley.   \n\n\n\nPlease note throughout the season some Voices of the Valley programs may be cancelled/rescheduled due to inclement weathe \n\n\n\nTopics include – Archeology\, Geology\, Native American Studies\, Railroad History\, Tree Talk\, Wildflowers\, or other Natural and Cultural programs.  \n\n\n\nLocal musicians share their talents. \n\n\n\nPrograms take place on Saturdays during the months of  May through September from 11am-2 pm  at Cannon Valley Trail Welch Station Access.
URL:https://www.cannonfalls.org/event/voices-of-the-valley-7/
LOCATION:Minnesota
ATTACH;FMTTYPE=image/jpeg:https://www.cannonfalls.org/wp-content/uploads/2025/05/Voices-of-the-Valley.jpg
END:VEVENT
BEGIN:VEVENT
DTSTART;TZID=America/Chicago:20250622T090000
DTEND;TZID=America/Chicago:20250622T140000
DTSTAMP:20260425T090549
CREATED:20250430T141336Z
LAST-MODIFIED:20250430T141337Z
UID:15078-1750582800-1750600800@www.cannonfalls.org
SUMMARY:Midsommar Festival and Tractor Parade
DESCRIPTION:We are set for the 2025 Midsommar Festival and Tractor Parade. PLEASE NOTE THIS YEAR WE START AT SPRING GARDEN AND GO TO VASA!!!!! Vasa is planning a big day with fun\, music and the Vasa Museum will be open!! Hope to see you at Spring Garden or Vasa or both.
URL:https://www.cannonfalls.org/event/midsommar-festival-and-tractor-parade/
LOCATION:Minnesota
ATTACH;FMTTYPE=image/jpeg:https://www.cannonfalls.org/wp-content/uploads/2025/04/tractor-parade.jpg
END:VEVENT
BEGIN:VEVENT
DTSTART;TZID=America/Chicago:20250629T183000
DTEND;TZID=America/Chicago:20250629T183000
DTSTAMP:20260425T090549
CREATED:20250611T141505Z
LAST-MODIFIED:20250611T141507Z
UID:15167-1751221800-1751221800@www.cannonfalls.org
SUMMARY:Free Concert at John Burch Park
DESCRIPTION:
URL:https://www.cannonfalls.org/event/free-concert-at-john-burch-park/
LOCATION:Minnesota
ATTACH;FMTTYPE=image/jpeg:https://www.cannonfalls.org/wp-content/uploads/2025/06/senior-center.jpg
END:VEVENT
BEGIN:VEVENT
DTSTART;TZID=America/Chicago:20250703T080000
DTEND;TZID=America/Chicago:20250706T220000
DTSTAMP:20260425T090549
CREATED:20250604T133454Z
LAST-MODIFIED:20250604T133613Z
UID:15152-1751529600-1751839200@www.cannonfalls.org
SUMMARY:Cannon Valley Fair
DESCRIPTION:
URL:https://www.cannonfalls.org/event/cannon-valley-fair-2/
LOCATION:800 9th St N\, Cannon Falls\, MN\, United States\, Minnesota
ATTACH;FMTTYPE=image/png:https://www.cannonfalls.org/wp-content/uploads/2025/06/fair.png
END:VEVENT
BEGIN:VEVENT
DTSTART;TZID=America/Chicago:20250705T110000
DTEND;TZID=America/Chicago:20250705T140000
DTSTAMP:20260425T090549
CREATED:20250521T151434Z
LAST-MODIFIED:20250521T151436Z
UID:15133-1751713200-1751724000@www.cannonfalls.org
SUMMARY:Voices of the Valley
DESCRIPTION:Saturday\, July 5 \n\n\n\nLive Music – Patti & the Reeds Irish Trio \n\n\n\nTopics include – Archeology\, Geology\, Native American Studies\, Railroad History\, Tree Talk\, Wildflowers\, or other Natural and Cultural programs. Local musicians share their talents.Programs take place on Saturdays during the months of  May through September from 11am-2 pm  at Cannon Valley Trail Welch Station Access.Please note throughout the season some Voices of the Valley programs may be cancelled/rescheduled due to inclement weather.
URL:https://www.cannonfalls.org/event/voices-of-the-valley-8/
LOCATION:Minnesota
ATTACH;FMTTYPE=image/jpeg:https://www.cannonfalls.org/wp-content/uploads/2025/05/Pattie-and-the-Reeds.jpg
END:VEVENT
BEGIN:VEVENT
DTSTART;TZID=America/Chicago:20250711T190000
DTEND;TZID=America/Chicago:20250711T200000
DTSTAMP:20260425T090549
CREATED:20250711T132952Z
LAST-MODIFIED:20250711T132956Z
UID:15191-1752260400-1752264000@www.cannonfalls.org
SUMMARY:CF Bears Alumni Game
DESCRIPTION:
URL:https://www.cannonfalls.org/event/cf-bears-alumni-game/
LOCATION:Minnesota
ATTACH;FMTTYPE=image/jpeg:https://www.cannonfalls.org/wp-content/uploads/2025/07/Bears-game.jpg
END:VEVENT
END:VCALENDAR