BEGIN:VCALENDAR
VERSION:2.0
PRODID:-//Cannon Falls Area Chamber of Commerce - ECPv6.15.20//NONSGML v1.0//EN
CALSCALE:GREGORIAN
METHOD:PUBLISH
X-ORIGINAL-URL:https://www.cannonfalls.org
X-WR-CALDESC:Events for Cannon Falls Area Chamber of Commerce
REFRESH-INTERVAL;VALUE=DURATION:PT1H
X-Robots-Tag:noindex
X-PUBLISHED-TTL:PT1H
BEGIN:VTIMEZONE
TZID:America/Chicago
BEGIN:DAYLIGHT
TZOFFSETFROM:-0600
TZOFFSETTO:-0500
TZNAME:CDT
DTSTART:20230312T080000
END:DAYLIGHT
BEGIN:STANDARD
TZOFFSETFROM:-0500
TZOFFSETTO:-0600
TZNAME:CST
DTSTART:20231105T070000
END:STANDARD
BEGIN:DAYLIGHT
TZOFFSETFROM:-0600
TZOFFSETTO:-0500
TZNAME:CDT
DTSTART:20240310T080000
END:DAYLIGHT
BEGIN:STANDARD
TZOFFSETFROM:-0500
TZOFFSETTO:-0600
TZNAME:CST
DTSTART:20241103T070000
END:STANDARD
BEGIN:DAYLIGHT
TZOFFSETFROM:-0600
TZOFFSETTO:-0500
TZNAME:CDT
DTSTART:20250309T080000
END:DAYLIGHT
BEGIN:STANDARD
TZOFFSETFROM:-0500
TZOFFSETTO:-0600
TZNAME:CST
DTSTART:20251102T070000
END:STANDARD
END:VTIMEZONE
BEGIN:VEVENT
DTSTART;TZID=America/Chicago:20240521T183000
DTEND;TZID=America/Chicago:20240521T203000
DTSTAMP:20260425T211514
CREATED:20240408T201013Z
LAST-MODIFIED:20240408T201013Z
UID:13639-1716316200-1716323400@www.cannonfalls.org
SUMMARY:Dragon Fly Paint Party
DESCRIPTION:Dragonfly Dreams Painter’s Choice Paint Party!\nJoin us for a fun-filled evening painting this FUN Dragonfly and Cone Flower on an 11 x 14 wrapped canvas or 18″ Door Hanger at Cannon River Winery in Cannon Falls\, MN!\nWhether you are a painting enthusiast or a beginner\, our talented artist will guide you step by step\, making this a perfect evening for everyone. This is an excellent opportunity to relax\, unwind\, and make memories with your friends and family.\nLots of fun and everyone leaves with a finished painting! You don’t want to miss out on this amazing event! Lots of Color Options available to make it uniquely yours!\nWHEN:\nTuesday\, May 21st\n6:30pm to 8:30pm\nCOST: $35 per canvas or $45 Door Hanger\nThis paint party must be pre-paid.\nLOCATION:\nCannon River Winery\n421 Mill Street West\nCannon Falls\, MN 55009\nCome early and order dinner and drinks! (not included in ticket price).\nThere will also be door prizes on the day of the Paint Party!\nPLEASE NOTE: Arrive at least 10 minutes early to get prepped for painting.\nSeats are limited so Register Early to save your Seat!
URL:https://www.cannonfalls.org/event/dragon-fly-paint-party/
LOCATION:Cannon River Winery\, 421 Mill Street West\, Cannon Falls\, MN\, 55009
ATTACH;FMTTYPE=image/jpeg:https://www.cannonfalls.org/wp-content/uploads/2024/04/dragon.jpg
END:VEVENT
BEGIN:VEVENT
DTSTART;TZID=America/Chicago:20240521T090000
DTEND;TZID=America/Chicago:20240521T100000
DTSTAMP:20260425T211514
CREATED:20240503T145548Z
LAST-MODIFIED:20240503T145551Z
UID:13956-1716282000-1716285600@www.cannonfalls.org
SUMMARY:Ask a Master Gardner
DESCRIPTION:Stop in to ask a Master Gardner form the Extension offices questions you have about your garden.
URL:https://www.cannonfalls.org/event/ask-a-master-gardner-2/
LOCATION:CannonBelles Coffe and Ice Cream\, 402 Mill St\, Cannon Falls
ATTACH;FMTTYPE=image/jpeg:https://www.cannonfalls.org/wp-content/uploads/2024/05/gardner.jpg
END:VEVENT
BEGIN:VEVENT
DTSTART;TZID=America/Chicago:20240519T080000
DTEND;TZID=America/Chicago:20240519T110000
DTSTAMP:20260425T211514
CREATED:20240515T143924Z
LAST-MODIFIED:20240515T143927Z
UID:14061-1716105600-1716116400@www.cannonfalls.org
SUMMARY:VFW & VFW Auxiliary Post 4452 Pancake Breakfast
DESCRIPTION:Proceeds go to the 80th Anniversary Renovation Fun
URL:https://www.cannonfalls.org/event/vfw-vfw-auxiliary-post-4452-pancake-breakfast/
ATTACH;FMTTYPE=image/jpeg:https://www.cannonfalls.org/wp-content/uploads/2024/05/vfw-pancake.jpg
END:VEVENT
BEGIN:VEVENT
DTSTART;TZID=America/Chicago:20240518T140000
DTEND;TZID=America/Chicago:20240518T160000
DTSTAMP:20260425T211514
CREATED:20240503T154030Z
LAST-MODIFIED:20240503T154031Z
UID:13990-1716040800-1716048000@www.cannonfalls.org
SUMMARY:Teen Tea Party
DESCRIPTION:Teens\, join us for tea.An assortment of foods and teas will be provided.You are encouraged to dress up.Scan the QR code to register.For ages 12 – 19.
URL:https://www.cannonfalls.org/event/teen-tea-party/
LOCATION:Cannon Falls Library
ATTACH;FMTTYPE=image/jpeg:https://www.cannonfalls.org/wp-content/uploads/2024/05/tea-party.jpg
END:VEVENT
BEGIN:VEVENT
DTSTART;TZID=America/Chicago:20240518T080000
DTEND;TZID=America/Chicago:20240518T120000
DTSTAMP:20260425T211514
CREATED:20240503T145126Z
LAST-MODIFIED:20240503T145128Z
UID:13949-1716019200-1716033600@www.cannonfalls.org
SUMMARY:Bake Sale
DESCRIPTION:VFW auxiliary Bake Sale during the American Legion Plant fundraiser!
URL:https://www.cannonfalls.org/event/bake-sale-2/
LOCATION:Cannon Falls VFW
ATTACH;FMTTYPE=image/jpeg:https://www.cannonfalls.org/wp-content/uploads/2024/05/bakes-sale-legion.jpg
END:VEVENT
BEGIN:VEVENT
DTSTART;TZID=America/Chicago:20240518T080000
DTEND;TZID=America/Chicago:20240518T120000
DTSTAMP:20260425T211514
CREATED:20240412T150719Z
LAST-MODIFIED:20240412T150719Z
UID:13757-1716019200-1716033600@www.cannonfalls.org
SUMMARY:Plant Sale - Kraft - Ostrom American Legion Post #142
DESCRIPTION:It’s what everyone’s been waiting for!! The 6th Annual Kraft-Ostrom American Legion Post #142 Plant Fundraiser!!\nWhen: Sat May 18\, 2024 (8 am to 12 pm)\nVFW/AL Parking Lot (218 4th Street North\, Cannon Falls\, MN)\nIn case of rain\, we will be inside in the lower level of the VFW/AL.\nPlant and garden accessory donations are appreciated!! For more information email us at alpost142.cannonfalls@gmail.com.
URL:https://www.cannonfalls.org/event/plant-sale-kraft-ostrom-american-legion-post-142/
LOCATION:Cannon Falls VFW\, 218 4th St N\, Cannon Falls
ATTACH;FMTTYPE=image/jpeg:https://www.cannonfalls.org/wp-content/uploads/2024/04/plant-sale.jpg
END:VEVENT
BEGIN:VEVENT
DTSTART;TZID=America/Chicago:20240518T130000
DTEND;TZID=America/Chicago:20240518T160000
DTSTAMP:20260425T211514
CREATED:20240408T201017Z
LAST-MODIFIED:20240503T153302Z
UID:13629-1716037200-1716048000@www.cannonfalls.org
SUMMARY:Live Music @ Cannon River Winery
DESCRIPTION:Drive South
URL:https://www.cannonfalls.org/event/live-music-cannon-river-winery-30/
LOCATION:Cannon River Winery\, 421 Mill Street West\, Cannon Falls\, MN\, 55009
ATTACH;FMTTYPE=image/jpeg:https://www.cannonfalls.org/wp-content/uploads/2024/04/drvie.jpg
END:VEVENT
BEGIN:VEVENT
DTSTART;TZID=America/Chicago:20240515T193000
DTEND;TZID=America/Chicago:20240515T193000
DTSTAMP:20260425T211514
CREATED:20240503T153045Z
LAST-MODIFIED:20240503T153048Z
UID:13980-1715801400-1715801400@www.cannonfalls.org
SUMMARY:Cannon Falls Bears
DESCRIPTION:Bears Baseball Game at John Burch Park
URL:https://www.cannonfalls.org/event/cannon-falls-bears/
ATTACH;FMTTYPE=image/jpeg:https://www.cannonfalls.org/wp-content/uploads/2024/05/bears.jpg
END:VEVENT
BEGIN:VEVENT
DTSTART;TZID=America/Chicago:20240512T140000
DTEND;TZID=America/Chicago:20240512T140000
DTSTAMP:20260425T211514
CREATED:20240503T152946Z
LAST-MODIFIED:20240503T152947Z
UID:13978-1715522400-1715522400@www.cannonfalls.org
SUMMARY:Cannon Falls Bears Baseball
DESCRIPTION:Bears Baseball at John Burch Park
URL:https://www.cannonfalls.org/event/cannon-falls-bears-baseball-2/
ATTACH;FMTTYPE=image/jpeg:https://www.cannonfalls.org/wp-content/uploads/2024/05/bears.jpg
END:VEVENT
BEGIN:VEVENT
DTSTART;TZID=America/Chicago:20240512T100000
DTEND;TZID=America/Chicago:20240512T140000
DTSTAMP:20260425T211514
CREATED:20240412T151129Z
LAST-MODIFIED:20240412T151129Z
UID:13778-1715508000-1715522400@www.cannonfalls.org
SUMMARY:Mother's Day Brunch
DESCRIPTION:May 12 @ 10:00 am – 2:00 pm\nMother’s Day Brunch\n10:00am\, 11:00am\, 12:00pm\n$30 adults / $15 kids under 10 years of age\nSignature Mom-mosas for all Moms! 🥂🍊\nCannon River Catering\, Nick’s Diner:\nCheddar Bacon Egg Bake\, Ham Carving Station\, Buttermilk Biscuits & Country Sausage Gravy\, Cinnamon Roll French Toast Bake\, Scrambled Eggs with Hollandaise Sauce on the side\, Sausage Links\, Fresh Fruit\, Cheesy Hashbrowns\, Assorted Pastries & Muffins. Served with Coffee\, Milk\, & Ice Water Station.
URL:https://www.cannonfalls.org/event/mothers-day-brunch/
LOCATION:Cannon River Winery\, 421 Mill Street West\, Cannon Falls\, MN\, 55009
ATTACH;FMTTYPE=image/jpeg:https://www.cannonfalls.org/wp-content/uploads/2024/04/mothers-day.jpg
END:VEVENT
BEGIN:VEVENT
DTSTART;TZID=America/Chicago:20240511T140000
DTEND;TZID=America/Chicago:20240511T150000
DTSTAMP:20260425T211514
CREATED:20240410T175409Z
LAST-MODIFIED:20240410T175409Z
UID:13723-1715436000-1715439600@www.cannonfalls.org
SUMMARY:BINGO
DESCRIPTION:YETI BINGO
URL:https://www.cannonfalls.org/event/bingo-5/
LOCATION:Cannon Falls VFW\, 218 4th St N\, Cannon Falls
ATTACH;FMTTYPE=image/jpeg:https://www.cannonfalls.org/wp-content/uploads/2024/04/yeti.jpg
END:VEVENT
BEGIN:VEVENT
DTSTART;TZID=America/Chicago:20240511T130000
DTEND;TZID=America/Chicago:20240511T160000
DTSTAMP:20260425T211514
CREATED:20240408T201033Z
LAST-MODIFIED:20240503T153338Z
UID:13608-1715432400-1715443200@www.cannonfalls.org
SUMMARY:Live Music @ Cannon River Winery
DESCRIPTION:Vinnie Rose
URL:https://www.cannonfalls.org/event/live-music-cannon-river-winery-31/
LOCATION:Cannon River Winery\, 421 Mill Street West\, Cannon Falls\, MN\, 55009
ATTACH;FMTTYPE=image/jpeg:https://www.cannonfalls.org/wp-content/uploads/2024/04/vinnie.jpg
END:VEVENT
BEGIN:VEVENT
DTSTART;TZID=America/Chicago:20240511T120000
DTEND;TZID=America/Chicago:20240511T160000
DTSTAMP:20260425T211514
CREATED:20240327T133501Z
LAST-MODIFIED:20240327T133501Z
UID:13211-1715428800-1715443200@www.cannonfalls.org
SUMMARY:Spring Girls Day Away
DESCRIPTION:Come celebrate Mom & shop with over 30 vendors!
URL:https://www.cannonfalls.org/event/spring-girls-day-away/
LOCATION:Cannon River Winery\, 421 Mill Street West\, Cannon Falls\, MN\, 55009
ATTACH;FMTTYPE=image/jpeg:https://www.cannonfalls.org/wp-content/uploads/2024/03/girls-day-away.jpg
END:VEVENT
BEGIN:VEVENT
DTSTART;TZID=America/Chicago:20240511T100000
DTEND;TZID=America/Chicago:20240511T140000
DTSTAMP:20260425T211514
CREATED:20240503T154432Z
LAST-MODIFIED:20240503T154434Z
UID:13996-1715421600-1715436000@www.cannonfalls.org
SUMMARY:Library Craft Sale
DESCRIPTION:Shop our Spring Craft Fair featuring local artisans selling their handmade items.
URL:https://www.cannonfalls.org/event/library-craft-sale/
LOCATION:Cannon Falls Library
ATTACH;FMTTYPE=image/jpeg:https://www.cannonfalls.org/wp-content/uploads/2024/05/library-craft-fair.jpg
END:VEVENT
BEGIN:VEVENT
DTSTART;TZID=America/Chicago:20240510T080000
DTEND;TZID=America/Chicago:20240511T170000
DTSTAMP:20260425T211514
CREATED:20240408T201038Z
LAST-MODIFIED:20240408T201038Z
UID:13673-1715328000-1715446800@www.cannonfalls.org
SUMMARY:City Wide Garage Sales
DESCRIPTION:The Cannon Falls community-wide garage sale will be Friday and Saturday\, May 10-11. The deadline to place an ad for your sale is Thursday\, May 2. In order to place an ad for your sale and have it appear on the map\, visit the Cannon Falls Beacon website at cannonfallsbeacon.com\, hover over the Classifieds tab at the top and click on Community-wide Garage Sale.\nFrom there\, check the For Sale box and more boxes will appear below it\, where you will then check Community Wide Garage Sales.\nYou will only be allowed to pick May 8 for the date. You MUST include your street address and times of sale at the beginning of the ad. The two-day selling event will be held Friday and Saturday\, May 10-11. Look out for a map of marked garage sale locations in the Cannon Falls Beacon dated Thursday\, May 9. Papers can be purchased at the Cannon Falls Beacon office.
URL:https://www.cannonfalls.org/event/city-wide-garage-sales/
ATTACH;FMTTYPE=image/jpeg:https://www.cannonfalls.org/wp-content/uploads/2024/04/garage.jpg
END:VEVENT
BEGIN:VEVENT
DTSTART;TZID=America/Chicago:20240508T180000
DTEND;TZID=America/Chicago:20240508T200000
DTSTAMP:20260425T211514
CREATED:20240112T190717Z
LAST-MODIFIED:20240112T190717Z
UID:11158-1715191200-1715198400@www.cannonfalls.org
SUMMARY:Mother's Day Floral Arrangement Workshop
DESCRIPTION:Come join us for an exciting Mother’s Day workshop! Let your creativity blossom as you create beautiful floral arrangements that will brighten up your home. Learn new skills and discover the joy of crafting with flowers. Bring your friends and family along for a fun and enjoyable experience that everyone will enjoy!\nThis ticket includes a fun evening to create something beautiful this Mother’s Day! You will go create and go home with a beautiful arrangement in a ceramic vase.\nA house made wine is included. If anyone would like to purchase additional drinks\, the bar will be open. We will also have menu items available for purchase.\nTicket holders must present their tickets on entry. You can either print your ticket or present this digital version. You can find all the details about this event on our website. Full refunds are available 10 days prior to the event. If you have any questions contact Audrey Rose Floral. Looking forward to seeing you there!
URL:https://www.cannonfalls.org/event/mothers-day-floral-arrangement-workshop/
LOCATION:Cannon River Winery\, 421 Mill Street West\, Cannon Falls\, MN\, 55009
ATTACH;FMTTYPE=image/jpeg:https://www.cannonfalls.org/wp-content/uploads/2024/01/flower-weinry.jpg
END:VEVENT
BEGIN:VEVENT
DTSTART;TZID=America/Chicago:20240508T133000
DTEND;TZID=America/Chicago:20240508T143000
DTSTAMP:20260425T211514
CREATED:20240503T145503Z
LAST-MODIFIED:20240503T145504Z
UID:13953-1715175000-1715178600@www.cannonfalls.org
SUMMARY:Ask a Master Gardner
DESCRIPTION:Stop in to ask a Master Gardner form the Extension offices questions you have about your garden.
URL:https://www.cannonfalls.org/event/ask-a-master-gardner/
LOCATION:CannonBelles Coffe and Ice Cream\, 402 Mill St\, Cannon Falls
ATTACH;FMTTYPE=image/jpeg:https://www.cannonfalls.org/wp-content/uploads/2024/05/gardner.jpg
END:VEVENT
BEGIN:VEVENT
DTSTART;TZID=America/Chicago:20240508T100000
DTEND;TZID=America/Chicago:20240508T100000
DTSTAMP:20260425T211514
CREATED:20240503T150021Z
LAST-MODIFIED:20240503T150022Z
UID:13960-1715162400-1715162400@www.cannonfalls.org
SUMMARY:TRIAD - Home Premise Surveys
DESCRIPTION:Join us May 8th at 10 am to hear about free home inspection surveys.
URL:https://www.cannonfalls.org/event/triad-home-premise-surveys/
LOCATION:Cannon Valley Senior Center\, 120 State St W\, Cannon Falls\, MN\, 55009
ATTACH;FMTTYPE=image/jpeg:https://www.cannonfalls.org/wp-content/uploads/2024/05/triad-may.jpg
END:VEVENT
BEGIN:VEVENT
DTSTART;TZID=America/Chicago:20240508T080000
DTEND;TZID=America/Chicago:20240511T170000
DTSTAMP:20260425T211514
CREATED:20240503T151032Z
LAST-MODIFIED:20240503T151034Z
UID:13969-1715155200-1715446800@www.cannonfalls.org
SUMMARY:Shop Around Town Event
DESCRIPTION:Participating Businesses:Althoff HardwareCannon Valley SpecialtiesLa Boutique UniqueSwan and Bower1. Pick up a punch card from any of the participatingbusinesses or the Chamber of CommerceOffice (limit of 1 card per person).2. Visit each of the businesses for a stamp/punch.3. No purchase is necessary\, but always appreciated.4. Get a stamp from each of these businesses and turn inthe completed card to any of them by 5 p.m. on theentry deadline date. The prize drawing will take placethe following week at the Chamber of Commerce.5 .Prize* value total: $300
URL:https://www.cannonfalls.org/event/shop-around-town-event/
ATTACH;FMTTYPE=image/png:https://www.cannonfalls.org/wp-content/uploads/2024/05/Shop-around-town_FB-post_MAY_2024.png
END:VEVENT
BEGIN:VEVENT
DTSTART;TZID=America/Chicago:20240507T190000
DTEND;TZID=America/Chicago:20240507T190000
DTSTAMP:20260425T211514
CREATED:20240503T154237Z
LAST-MODIFIED:20240503T154239Z
UID:13993-1715108400-1715108400@www.cannonfalls.org
SUMMARY:Authors Jess Lourey and Sarah Stonich
DESCRIPTION:Join Minnesota authors Jess Lourey and Sarah Stonich for an evening of insight and inspiration as they discuss their craft\, their award-winning works\, and the creative process behind their literary achievements From mystery to introspective fiction\, this event promises something for every literary enthusiast.This event is free and open to the public.
URL:https://www.cannonfalls.org/event/authors-jess-lourey-and-sarah-stonich/
LOCATION:Cannon Falls Library
ATTACH;FMTTYPE=image/jpeg:https://www.cannonfalls.org/wp-content/uploads/2024/05/library-author.jpg
END:VEVENT
BEGIN:VEVENT
DTSTART;TZID=America/Chicago:20240505T140000
DTEND;TZID=America/Chicago:20240505T140000
DTSTAMP:20260425T211514
CREATED:20240503T152844Z
LAST-MODIFIED:20240503T152846Z
UID:13975-1714917600-1714917600@www.cannonfalls.org
SUMMARY:Cannon Falls Bears Baseball
DESCRIPTION:Bears Baseball Game at John Burch Park
URL:https://www.cannonfalls.org/event/cannon-falls-bears-baseball/
ATTACH;FMTTYPE=image/jpeg:https://www.cannonfalls.org/wp-content/uploads/2024/05/bears.jpg
END:VEVENT
BEGIN:VEVENT
DTSTART;TZID=America/Chicago:20240505T130000
DTEND;TZID=America/Chicago:20240505T160000
DTSTAMP:20260425T211514
CREATED:20240408T201136Z
LAST-MODIFIED:20240503T153419Z
UID:13598-1714914000-1714924800@www.cannonfalls.org
SUMMARY:Live Music @ Cannon River Winery
DESCRIPTION:Todd Jameson
URL:https://www.cannonfalls.org/event/live-music-cannon-river-winery-33/
LOCATION:Cannon River Winery\, 421 Mill Street West\, Cannon Falls\, MN\, 55009
ATTACH;FMTTYPE=image/jpeg:https://www.cannonfalls.org/wp-content/uploads/2024/04/todd.jpg
END:VEVENT
BEGIN:VEVENT
DTSTART;TZID=America/Chicago:20240505T130000
DTEND;TZID=America/Chicago:20240505T130000
DTSTAMP:20260425T211514
CREATED:20240503T150717Z
LAST-MODIFIED:20240503T150720Z
UID:13966-1714914000-1714914000@www.cannonfalls.org
SUMMARY:Harness Racing at Cannon Valley Fairgrounds
DESCRIPTION:Horse Harness Racing in the Grandstand
URL:https://www.cannonfalls.org/event/harness-racing-at-cannon-valley-fairgrounds/
ATTACH;FMTTYPE=image/jpeg:https://www.cannonfalls.org/wp-content/uploads/2024/05/horse.jpg
END:VEVENT
BEGIN:VEVENT
DTSTART;TZID=America/Chicago:20240504T130000
DTEND;TZID=America/Chicago:20240504T160000
DTSTAMP:20260425T211514
CREATED:20240408T201120Z
LAST-MODIFIED:20240503T153356Z
UID:13588-1714827600-1714838400@www.cannonfalls.org
SUMMARY:Live Music @ Cannon River Winery
DESCRIPTION:Relativity
URL:https://www.cannonfalls.org/event/live-music-cannon-river-winery-32/
LOCATION:Cannon River Winery\, 421 Mill Street West\, Cannon Falls\, MN\, 55009
ATTACH;FMTTYPE=image/jpeg:https://www.cannonfalls.org/wp-content/uploads/2024/04/relativity.jpg
END:VEVENT
BEGIN:VEVENT
DTSTART;TZID=America/Chicago:20240427T063000
DTEND;TZID=America/Chicago:20240427T203000
DTSTAMP:20260425T211514
CREATED:20240415T192247Z
LAST-MODIFIED:20240415T192247Z
UID:13841-1714199400-1714249800@www.cannonfalls.org
SUMMARY:Night at Acacia
DESCRIPTION:Come and enjoy a night out at Acacia Studios! \nBook a 30 minute session with Barb\, Jess\, Karen or Christi\, enjoy some food and chapstick making before or after your session. \nCall 479-221-3314 to book
URL:https://www.cannonfalls.org/event/night-at-acacia/
LOCATION:Acacia Studios\, 129 4th Street\, Cannon Falls\, MN\, 55009
ATTACH;FMTTYPE=image/jpeg:https://www.cannonfalls.org/wp-content/uploads/2024/04/acacia.jpg
END:VEVENT
BEGIN:VEVENT
DTSTART;TZID=America/Chicago:20240425T190000
DTEND;TZID=America/Chicago:20240425T210000
DTSTAMP:20260425T211514
CREATED:20240327T133510Z
LAST-MODIFIED:20240327T133510Z
UID:13261-1714071600-1714078800@www.cannonfalls.org
SUMMARY:Team Trivia at Tilion Brewing Co.
DESCRIPTION:Free Team Trivia every Thursday night beginning at 7 pm!  Fun Prizes for first\, second and last place!  No limits on the number of players on your team\, so invite your family\, friends and neighbors!  General trivia consists of 30 questions\, a Final Jeopardy style question and a Visual Round make up the game.  Plan on about 2 hours of fun!
URL:https://www.cannonfalls.org/event/team-trivia-at-tilion-brewing-co/
LOCATION:Tilion Brewing Company
ATTACH;FMTTYPE=image/jpeg:https://www.cannonfalls.org/wp-content/uploads/2024/03/trivia-3.jpg
END:VEVENT
BEGIN:VEVENT
DTSTART;TZID=America/Chicago:20240424T170000
DTEND;TZID=America/Chicago:20240424T210000
DTSTAMP:20260425T211514
CREATED:20240306T165735Z
LAST-MODIFIED:20240306T165735Z
UID:12771-1713978000-1713992400@www.cannonfalls.org
SUMMARY:Spring Has Sprung - Habitat For Humanity Annual Fundraising Celebration
DESCRIPTION:Join us in raising hope\, building dreams\, and celebrating the power of community at Habitat for Humanity’s Annual Fundraising Celebration\, “Spring has Sprung\,” on Tuesday\, April 23rd\, 2024\, from 5:00 PM to 9:00 PM at the enchanting Skyroom at Red Wing Golf Course.\nGet ready for an evening that promises not only to create positive change but also to delight your senses! Indulge in an unforgettable night of celebration\, starting with our captivating Silent and Live Auctions. Bid on unique and exciting items that have been carefully curated for your enjoyment. Immerse yourself in the thrill of friendly competition while supporting a great cause.\nThroughout the event\, Live Entertainment will keep the celebration going\, providing a lively and vibrant atmosphere. As you mingle with fellow supporters\, enjoy the company of like-minded individuals who share your passion for community betterment.\nOf course\, no celebration is complete without culinary delight. Delight your taste buds with a selection of Delicious Food that will add an extra layer of enjoyment to the evening.\nYour participation means more than just attending an event; it’s an opportunity to sow the seeds of impact while having a fantastic time. Every dollar raised will directly support the mission of Goodhue County Habitat for Humanity\, creating homes\, empowering families\, and strengthening communities in our region.\nSecure your spot today and seize the chance to make a difference and have a blast! Purchase your tickets by clicking the link below and explore the silent auction items before the event. We can’t wait to share this memorable evening with you!\nLet’s build a brighter tomorrow together – Find out how by visiting: https://rb.gy/z0o8i.\n🌟Become a Sponsor: Ready to be a guiding light of change? Become a Spring has Sprung sponsor and fuel the dreams of families seeking affordable homes. Your sponsorship is a beacon of hope that uplifts our community.\n🙏Make a Donation: Your contribution\, no matter the size\, directly shapes the future of families in our community. Your gift is a key that unlocks the door to affordable homeownership\, turning dreams into reality. Your support makes all the difference.\n🛠️Volunteer with Habitat: Witness firsthand the difference your efforts make by becoming a Goodhue County Habitat for Humanity volunteer. Your hands-on dedication brings not just homes\, but hope\, to those in need. Join our community of builders\, and let’s create a lasting impact together. Learn more about how you can make an impact during Spring has Sprung\, at gchabitat.org. See less
URL:https://www.cannonfalls.org/event/spring-has-sprung-habitat-for-humanity-annual-fundraising-celebration/
ATTACH;FMTTYPE=image/jpeg:https://www.cannonfalls.org/wp-content/uploads/2024/03/habitat-spring.jpg
END:VEVENT
BEGIN:VEVENT
DTSTART;TZID=America/Chicago:20240422T130000
DTEND;TZID=America/Chicago:20240422T190000
DTSTAMP:20260425T211514
CREATED:20240318T193641Z
LAST-MODIFIED:20240422T132411Z
UID:13028-1713790800-1713812400@www.cannonfalls.org
SUMMARY:Blood Drive
DESCRIPTION:Christ United Methodist Church will host a Red Cross Blood Drive Monday\, April 22.\nThe blood drive will be held at the church\, 29470 Gaylord Ave.\, from 1 to 7 p.m. Call 1-800-RED CROSS (1-800-733-2767) or visit RedCrossBlood.org and enter cannonfallsmn to schedule an appointment. Snacks and a light meal will be provided by the church congregration. All those who donate blood will be entered in a drawing to win a $10 gift card to a merchant of their choice.
URL:https://www.cannonfalls.org/event/blood-drive/
ATTACH;FMTTYPE=image/png:https://www.cannonfalls.org/wp-content/uploads/2024/03/blood-drive.png
END:VEVENT
BEGIN:VEVENT
DTSTART;TZID=America/Chicago:20240421T160000
DTEND;TZID=America/Chicago:20240421T180000
DTSTAMP:20260425T211514
CREATED:20240313T145645Z
LAST-MODIFIED:20240313T145645Z
UID:12944-1713715200-1713722400@www.cannonfalls.org
SUMMARY:TreeHouse Fundraiser
DESCRIPTION:Join us for our 2nd Annual Silent Auction Fundraiser! \n    Food\n    Music\n    Great items to bid on! \nCome learn more about the work we are doing to equip & empower teens!
URL:https://www.cannonfalls.org/event/treehouse-fundraiser/
LOCATION:True North Church\, 410 Dakota St West\, Cannon Falls\, MN\, 55009\, United States
ATTACH;FMTTYPE=image/jpeg:https://www.cannonfalls.org/wp-content/uploads/2024/03/three-house-1.jpg
END:VEVENT
BEGIN:VEVENT
DTSTART;TZID=America/Chicago:20240420T130000
DTEND;TZID=America/Chicago:20240420T160000
DTSTAMP:20260425T211514
CREATED:20240327T133515Z
LAST-MODIFIED:20240327T133515Z
UID:13201-1713618000-1713628800@www.cannonfalls.org
SUMMARY:Live Music @ Cannon River Winery
DESCRIPTION:Crimson Roots
URL:https://www.cannonfalls.org/event/live-music-cannon-river-winery-22/
LOCATION:Cannon River Winery\, 421 Mill Street West\, Cannon Falls\, MN\, 55009
ATTACH;FMTTYPE=image/jpeg:https://www.cannonfalls.org/wp-content/uploads/2024/03/crimson-roots-4-20.jpg
END:VEVENT
END:VCALENDAR