BEGIN:VCALENDAR
VERSION:2.0
PRODID:-//Cannon Falls Area Chamber of Commerce - ECPv6.15.20//NONSGML v1.0//EN
CALSCALE:GREGORIAN
METHOD:PUBLISH
X-WR-CALNAME:Cannon Falls Area Chamber of Commerce
X-ORIGINAL-URL:https://www.cannonfalls.org
X-WR-CALDESC:Events for Cannon Falls Area Chamber of Commerce
REFRESH-INTERVAL;VALUE=DURATION:PT1H
X-Robots-Tag:noindex
X-PUBLISHED-TTL:PT1H
BEGIN:VTIMEZONE
TZID:America/Chicago
BEGIN:DAYLIGHT
TZOFFSETFROM:-0600
TZOFFSETTO:-0500
TZNAME:CDT
DTSTART:20240310T080000
END:DAYLIGHT
BEGIN:STANDARD
TZOFFSETFROM:-0500
TZOFFSETTO:-0600
TZNAME:CST
DTSTART:20241103T070000
END:STANDARD
BEGIN:DAYLIGHT
TZOFFSETFROM:-0600
TZOFFSETTO:-0500
TZNAME:CDT
DTSTART:20250309T080000
END:DAYLIGHT
BEGIN:STANDARD
TZOFFSETFROM:-0500
TZOFFSETTO:-0600
TZNAME:CST
DTSTART:20251102T070000
END:STANDARD
BEGIN:DAYLIGHT
TZOFFSETFROM:-0600
TZOFFSETTO:-0500
TZNAME:CDT
DTSTART:20260308T080000
END:DAYLIGHT
BEGIN:STANDARD
TZOFFSETFROM:-0500
TZOFFSETTO:-0600
TZNAME:CST
DTSTART:20261101T070000
END:STANDARD
END:VTIMEZONE
BEGIN:VEVENT
DTSTART;TZID=America/Chicago:20251108T130000
DTEND;TZID=America/Chicago:20251108T150000
DTSTAMP:20260425T101753
CREATED:20250929T192008Z
LAST-MODIFIED:20250929T192010Z
UID:15368-1762606800-1762614000@www.cannonfalls.org
SUMMARY:Yeti Bingo
DESCRIPTION:
URL:https://www.cannonfalls.org/event/yeti-bingo/
ATTACH;FMTTYPE=image/jpeg:https://www.cannonfalls.org/wp-content/uploads/2025/09/yeti-bingo.jpg
END:VEVENT
BEGIN:VEVENT
DTSTART;TZID=America/Chicago:20251108T090000
DTEND;TZID=America/Chicago:20251108T170000
DTSTAMP:20260425T101753
CREATED:20251029T185333Z
LAST-MODIFIED:20251029T185335Z
UID:15457-1762592400-1762621200@www.cannonfalls.org
SUMMARY:Deerly Beloved Gal's Shopping Day
DESCRIPTION:
URL:https://www.cannonfalls.org/event/deerly-beloved-gals-shopping-day/
ATTACH;FMTTYPE=image/png:https://www.cannonfalls.org/wp-content/uploads/2025/10/Copy-of-Game-Card-Shop-Around-Town-May-2024-4-x-6-in.png
END:VEVENT
BEGIN:VEVENT
DTSTART;TZID=America/Chicago:20251108T080000
DTEND;TZID=America/Chicago:20251108T170000
DTSTAMP:20260425T101753
CREATED:20250903T164257Z
LAST-MODIFIED:20251006T135208Z
UID:15319-1762588800-1762621200@www.cannonfalls.org
SUMMARY:Feed My Starving Children Mobile Pack Event
DESCRIPTION:Cannon Falls High School820 E Minnesota St E\, Cannon Falls\, MN 55009 View Map  Jeanne Daniels – Event Host  Jmcraigdaniels@gmail.comFriday\, November 7\, 2025 – Saturday\, November 8\, 2025
URL:https://www.cannonfalls.org/event/feed-my-starving-children-mobile-pack-event/
ATTACH;FMTTYPE=image/jpeg:https://www.cannonfalls.org/wp-content/uploads/2025/09/FMSC.jpg
END:VEVENT
BEGIN:VEVENT
DTSTART;TZID=America/Chicago:20251107T190000
DTEND;TZID=America/Chicago:20251107T190000
DTSTAMP:20260425T101753
CREATED:20251022T132851Z
LAST-MODIFIED:20251022T132853Z
UID:15424-1762542000-1762542000@www.cannonfalls.org
SUMMARY:BARGO
DESCRIPTION:
URL:https://www.cannonfalls.org/event/bargo-9/
ATTACH;FMTTYPE=image/jpeg:https://www.cannonfalls.org/wp-content/uploads/2025/10/bargo.jpg
END:VEVENT
BEGIN:VEVENT
DTSTART;TZID=America/Chicago:20251101T210000
DTEND;TZID=America/Chicago:20251102T000000
DTSTAMP:20260425T101753
CREATED:20251029T185141Z
LAST-MODIFIED:20251029T185144Z
UID:15451-1762030800-1762041600@www.cannonfalls.org
SUMMARY:Brewsters Halloween Costume Party
DESCRIPTION:
URL:https://www.cannonfalls.org/event/brewsters-halloween-costume-party/
ATTACH;FMTTYPE=image/jpeg:https://www.cannonfalls.org/wp-content/uploads/2025/10/brewsters.jpg
END:VEVENT
BEGIN:VEVENT
DTSTART;TZID=America/Chicago:20251101T100000
DTEND;TZID=America/Chicago:20251101T160000
DTSTAMP:20260425T101753
CREATED:20251017T150230Z
LAST-MODIFIED:20251017T150232Z
UID:15412-1761991200-1762012800@www.cannonfalls.org
SUMMARY:FEAST Local Foods Marketplace
DESCRIPTION:At the 12th annual FEAST! Local Foods Marketplace\, you can sip\, sample and shop the best local foods from throughout MN\, WI & IA. With 100 different makers\, you can stock up on everything from cheese to chocolate to craft alcohol\, plus great gifts for the holidays! Make a day of it with kids’ activities\, cooking demos and prizes. Mayo Civic Center\, Saturday\, Nov 1\, 2025\, 10am-4pm. Get discount tickets and more info at local-feast.org/festival
URL:https://www.cannonfalls.org/event/feast-local-foods-marketplace/
ATTACH;FMTTYPE=image/jpeg:https://www.cannonfalls.org/wp-content/uploads/2025/10/feast.jpg
END:VEVENT
BEGIN:VEVENT
DTSTART;TZID=America/Chicago:20251101T100000
DTEND;TZID=America/Chicago:20251101T160000
DTSTAMP:20260425T101753
CREATED:20251006T192539Z
LAST-MODIFIED:20251006T192541Z
UID:15393-1761991200-1762012800@www.cannonfalls.org
SUMMARY:Featherstone Pottery Fall Show & Sale
DESCRIPTION:Join us just outside Red Wing for our annual Fall Show & Sale featuring handcrafted pottery\, seasonal favorites\, and one-of-a-kind pieces. Perfect for holiday gift-giving or simply finding something special for yourself. \n\n\n\nDates: Saturday\, November 1 • Sunday\, November 2 • Saturday\, November 8 \n\n\n\nTime: 10am–4pm each day \n\n\n\nLocation: Featherstone Pottery\, 31998 210th Ave\, Red Wing\, MN 55066 \n\n\n\nPhone: (651) 332-4883 \n\n\n\nWebsite: featherstonepottery.com
URL:https://www.cannonfalls.org/event/featherstone-pottery-fall-show-sale/
ATTACH;FMTTYPE=image/jpeg:https://www.cannonfalls.org/wp-content/uploads/2025/10/featherstone-pottery-2025.jpg
END:VEVENT
BEGIN:VEVENT
DTSTART;TZID=America/Chicago:20251031T170000
DTEND;TZID=America/Chicago:20251031T190000
DTSTAMP:20260425T101753
CREATED:20251029T185241Z
LAST-MODIFIED:20251029T185243Z
UID:15454-1761930000-1761937200@www.cannonfalls.org
SUMMARY:Trunk or Treat
DESCRIPTION:
URL:https://www.cannonfalls.org/event/trunk-or-treat-2/
ATTACH;FMTTYPE=image/png:https://www.cannonfalls.org/wp-content/uploads/2025/10/true-north.png
END:VEVENT
BEGIN:VEVENT
DTSTART;TZID=America/Chicago:20251031T150000
DTEND;TZID=America/Chicago:20251031T210000
DTSTAMP:20260425T101753
CREATED:20251029T185003Z
LAST-MODIFIED:20251029T185005Z
UID:15448-1761922800-1761944400@www.cannonfalls.org
SUMMARY:Tilion Costume Party
DESCRIPTION:Get Your BOOze On at Tilion!  \n\n\n\nWe’re throwing a Halloween Costume Party that’s so good\, it’s scary!  \n\n\n\n Dress to impress (or distress!) — we want to see your wildest\, weirdest\, and most creative looks! \n\n\n\n $1 OFF PINTS all night long! Because even monsters deserve a good deal. \n\n\n\n Spooky vibes\, killer brews\, and plenty of tricks and treats! \n\n\n\nSo grab your ghouls\, round up your werewolf pack\, and haunt the taproom with us — it’s going to be a frightfully fun night at Tilion Brewing Company!
URL:https://www.cannonfalls.org/event/tilion-costume-party/
ATTACH;FMTTYPE=image/png:https://www.cannonfalls.org/wp-content/uploads/2025/10/Screenshot-2025-10-29-at-13-47-41-20-Facebook.png
END:VEVENT
BEGIN:VEVENT
DTSTART;TZID=America/Chicago:20251031T150000
DTEND;TZID=America/Chicago:20251031T170000
DTSTAMP:20260425T101753
CREATED:20251003T182111Z
LAST-MODIFIED:20251003T182112Z
UID:15388-1761922800-1761930000@www.cannonfalls.org
SUMMARY:Trick or Treat Trot
DESCRIPTION:Downtown Cannon Falls\, 4th Street\, Main Street and Mill Street
URL:https://www.cannonfalls.org/event/trick-or-treat-trot-2/
ATTACH;FMTTYPE=image/jpeg:https://www.cannonfalls.org/wp-content/uploads/2025/10/trick-or-treat-flyer.jpg
END:VEVENT
BEGIN:VEVENT
DTSTART;TZID=America/Chicago:20251031T150000
DTEND;TZID=America/Chicago:20251031T170000
DTSTAMP:20260425T101753
CREATED:20251003T181953Z
LAST-MODIFIED:20251003T181954Z
UID:15385-1761922800-1761930000@www.cannonfalls.org
SUMMARY:Trunk or Treat at Cannon Rivers
DESCRIPTION:
URL:https://www.cannonfalls.org/event/trunk-or-treat-at-cannon-rivers/
ATTACH;FMTTYPE=image/jpeg:https://www.cannonfalls.org/wp-content/uploads/2025/10/cannonrivers.jpg
END:VEVENT
BEGIN:VEVENT
DTSTART;TZID=America/Chicago:20251030T103000
DTEND;TZID=America/Chicago:20251030T230000
DTSTAMP:20260425T101753
CREATED:20251020T201802Z
LAST-MODIFIED:20251020T201804Z
UID:15421-1761820200-1761865200@www.cannonfalls.org
SUMMARY:Halloween StoryTime
DESCRIPTION:
URL:https://www.cannonfalls.org/event/halloween-storytime/
ATTACH;FMTTYPE=image/jpeg:https://www.cannonfalls.org/wp-content/uploads/2025/10/library2.jpg
END:VEVENT
BEGIN:VEVENT
DTSTART;TZID=America/Chicago:20251029T180000
DTEND;TZID=America/Chicago:20251029T190000
DTSTAMP:20260425T101753
CREATED:20251020T201642Z
LAST-MODIFIED:20251020T201646Z
UID:15418-1761760800-1761764400@www.cannonfalls.org
SUMMARY:Spooky Stories
DESCRIPTION:
URL:https://www.cannonfalls.org/event/spooky-stories/
ATTACH;FMTTYPE=image/jpeg:https://www.cannonfalls.org/wp-content/uploads/2025/10/library-1.jpg
END:VEVENT
BEGIN:VEVENT
DTSTART;TZID=America/Chicago:20251025T080000
DTEND;TZID=America/Chicago:20251026T150000
DTSTAMP:20260425T101753
CREATED:20251024T155016Z
LAST-MODIFIED:20251024T155018Z
UID:15428-1761379200-1761490800@www.cannonfalls.org
SUMMARY:
DESCRIPTION:Southeast Minnesota Military Collectors Show Oct 25th – 26th 2025. Sat 8am – 3pm. Sun 8am – 2pm.
URL:https://www.cannonfalls.org/event/15428/
ATTACH;FMTTYPE=image/jpeg:https://www.cannonfalls.org/wp-content/uploads/2025/10/CannonFalls-Military-Show-Oct-25-26-2025.jpg
END:VEVENT
BEGIN:VEVENT
DTSTART;TZID=America/Chicago:20251024T170000
DTEND;TZID=America/Chicago:20251024T200000
DTSTAMP:20260425T101753
CREATED:20250926T154436Z
LAST-MODIFIED:20250926T154437Z
UID:15360-1761325200-1761336000@www.cannonfalls.org
SUMMARY:Spooktacular Soiree at Happy Trails Outpost
DESCRIPTION:Join us for a spooky night ofhot ciderpumpkin cookies& of course\, shopping!enjoy 13% off storewide (excluding sale items)for every $50 spent\, you will receive a $5 voucher for use on a future purchase (valid in store only 11/29-12/31)
URL:https://www.cannonfalls.org/event/spooktacular-soiree-at-happy-trails-outpost-2/
LOCATION:Happy Trails Outpost\, 210 4th St\, Cannon Falls
ATTACH;FMTTYPE=image/jpeg:https://www.cannonfalls.org/wp-content/uploads/2025/09/happy-trails-2.jpg
END:VEVENT
BEGIN:VEVENT
DTSTART;TZID=America/Chicago:20251024T170000
DTEND;TZID=America/Chicago:20251024T190000
DTSTAMP:20260425T101753
CREATED:20251020T164333Z
LAST-MODIFIED:20251020T164335Z
UID:15415-1761325200-1761332400@www.cannonfalls.org
SUMMARY:PTO Halloween Party
DESCRIPTION:
URL:https://www.cannonfalls.org/event/pto-halloween-party/
ATTACH;FMTTYPE=image/jpeg:https://www.cannonfalls.org/wp-content/uploads/2025/10/pto.jpg
END:VEVENT
BEGIN:VEVENT
DTSTART;TZID=America/Chicago:20251021T183000
DTEND;TZID=America/Chicago:20251021T200000
DTSTAMP:20260425T101753
CREATED:20251001T164408Z
LAST-MODIFIED:20251001T164410Z
UID:15376-1761071400-1761076800@www.cannonfalls.org
SUMMARY:Painting Event Cannon River Winery
DESCRIPTION:Join us on Tuesday\, October 21st at 6:30pm at Cannon River Winery for a fun-filled evening painting Whooo Loves Fall on 11 x 14 Canvas! \n\n\n\nGrab your seats here: https://brushedbydesigncreations.com/…/1021whooolovesfall/ \n\n\n\nWhether you are a painting enthusiast or a beginner\, our talented artist will guide you step by step\, making this a perfect event for everyone. All ages welcome and no experience needed. Design will be sketched and ready to paint using acrylics. \n\n\n\nWHEN:Tuesday\, October 21st6:30 pm to 9 pmCOST: $35 per canvas \n\n\n\nThis paint party must be pre-paid. \n\n\n\nLOCATION:Cannon River Winery421 Mill Street WestCannon Falls\, MN 55009 \n\n\n\nThis is an excellent opportunity to relax\, unwind\, and make memories with your friends and family. Lots of fun and everyone leaves with a finished painting! You don’t want to miss out on this amazing event! \n\n\n\nFood and beverage are available for purchase\, but not included in the ticket price. Arrive early and come hungry to help support an awesome venue that makes this Paint Party possible.
URL:https://www.cannonfalls.org/event/painting-event-cannon-river-winery/
LOCATION:Cannon River Winery\, 421 Mill Street West\, Cannon Falls\, MN\, 55009
ATTACH;FMTTYPE=image/jpeg:https://www.cannonfalls.org/wp-content/uploads/2025/10/winery-painting.jpg
END:VEVENT
BEGIN:VEVENT
DTSTART;TZID=America/Chicago:20251018T190000
DTEND;TZID=America/Chicago:20251018T210000
DTSTAMP:20260425T101753
CREATED:20250820T134726Z
LAST-MODIFIED:20250820T134727Z
UID:15275-1760814000-1760821200@www.cannonfalls.org
SUMMARY:Rockin' Hollywoods Concert Fundrasier by the Cannon Valley Senior Center
DESCRIPTION:Get ready for an unforgettable night! \n\n\n\nThe CVSC Fundraiser Concert featuring The Rockin’ Hollywoods is happening on Oct. 18\, 2025 at 7 PM at the Cannon Falls High School Auditorium. All seats general admission pre purchase for $35 or $40 at the door. Tickets are on sale NOW at the Office\, through any board member\, or online at Eventbrite.com Don’t miss your chance to support a great cause and enjoy amazing music!
URL:https://www.cannonfalls.org/event/rockin-hollywoods-concert-fundrasier-by-the-cannon-valley-senior-center/
ATTACH;FMTTYPE=image/jpeg:https://www.cannonfalls.org/wp-content/uploads/2025/08/senior-center-concert.jpg
END:VEVENT
BEGIN:VEVENT
DTSTART;TZID=America/Chicago:20251018T080000
DTEND;TZID=America/Chicago:20251018T170000
DTSTAMP:20260425T101753
CREATED:20251003T171653Z
LAST-MODIFIED:20251003T171655Z
UID:15382-1760774400-1760806800@www.cannonfalls.org
SUMMARY:Dryland Dog Powered Race
DESCRIPTION:
URL:https://www.cannonfalls.org/event/dryland-dog-powered-race/
ATTACH;FMTTYPE=image/jpeg:https://www.cannonfalls.org/wp-content/uploads/2025/10/dog.jpeg
END:VEVENT
BEGIN:VEVENT
DTSTART;TZID=America/Chicago:20251011T100000
DTEND;TZID=America/Chicago:20251011T140000
DTSTAMP:20260425T101753
CREATED:20251001T185442Z
LAST-MODIFIED:20251001T185444Z
UID:15379-1760176800-1760191200@www.cannonfalls.org
SUMMARY:Hope for Recovery
DESCRIPTION:By NAMI Minnesota\n\n\n\nA free education program for families\, friends\, and loved ones of a teen or adult living with a mental illness. You are not alone. \n\n\n\nDate and time\n\n\n\nSaturday\, October 11 · 10am – 2pm CDT
URL:https://www.cannonfalls.org/event/hope-for-recovery/
ATTACH;FMTTYPE=image/jpeg:https://www.cannonfalls.org/wp-content/uploads/2025/10/library.jpg
END:VEVENT
BEGIN:VEVENT
DTSTART;TZID=America/Chicago:20251011T090000
DTEND;TZID=America/Chicago:20251011T140000
DTSTAMP:20260425T101753
CREATED:20250822T144250Z
LAST-MODIFIED:20250822T144251Z
UID:15281-1760173200-1760191200@www.cannonfalls.org
SUMMARY:Taste of Welch
DESCRIPTION:
URL:https://www.cannonfalls.org/event/taste-of-welch/
ATTACH;FMTTYPE=image/jpeg:https://www.cannonfalls.org/wp-content/uploads/2025/08/taste.jpg
END:VEVENT
BEGIN:VEVENT
DTSTART;TZID=America/Chicago:20251005T110000
DTEND;TZID=America/Chicago:20251005T170000
DTSTAMP:20260425T101753
CREATED:20250818T154240Z
LAST-MODIFIED:20250818T154241Z
UID:15269-1759662000-1759683600@www.cannonfalls.org
SUMMARY:Poker Ride
DESCRIPTION:We’re revving things up for our next ride — and trust us\, it’s going to top the last one!You won’t want to miss this adventure\, so lock it in your calendar now!
URL:https://www.cannonfalls.org/event/poker-ride/
ATTACH;FMTTYPE=image/jpeg:https://www.cannonfalls.org/wp-content/uploads/2025/08/powersports.jpg
END:VEVENT
BEGIN:VEVENT
DTSTART;TZID=America/Chicago:20251004T100000
DTEND;TZID=America/Chicago:20251005T170000
DTSTAMP:20260425T101753
CREATED:20250825T143130Z
LAST-MODIFIED:20250825T143132Z
UID:15299-1759572000-1759683600@www.cannonfalls.org
SUMMARY:Sogn Valley Art Fair
DESCRIPTION:Join us on Saturday October 4 from 10:00am to 5:00pm and on Sunday October 5 from 10:00am to 4:00pm for the 53st Sogn Valley Art Fair in downtown Cannon Falls\, Minnesota. Watch for new artists and a few surprises!
URL:https://www.cannonfalls.org/event/sogn-valley-art-fair-3/
ATTACH;FMTTYPE=image/jpeg:https://www.cannonfalls.org/wp-content/uploads/2025/08/art-org.jpg
END:VEVENT
BEGIN:VEVENT
DTSTART;TZID=America/Chicago:20251004T010000
DTEND;TZID=America/Chicago:20251004T150000
DTSTAMP:20260425T101753
CREATED:20251001T163650Z
LAST-MODIFIED:20251001T163655Z
UID:15371-1759539600-1759590000@www.cannonfalls.org
SUMMARY:Fall Harvest Family Race Day
DESCRIPTION:Join us for a fun-filled Family Day at the Races! Bring the whole family out for an exciting afternoon of live harness racing paired with family-friendly activities everyone will love. \n\n\n\n What’s happening: Mini family photoshoots Warm seasonal treats Kids coloring contest Fun merch giveaways Meet & pet a retired Standardbred racehorse \n\n\n\nIt’s the perfect way to spend the day together—cheering at the races\, making memories\, and enjoying activities for all ages. Admission is free! Don’t miss it!
URL:https://www.cannonfalls.org/event/fall-harvest-family-race-day/
LOCATION:Cannon Valley Fairgrounds
ATTACH;FMTTYPE=image/jpeg:https://www.cannonfalls.org/wp-content/uploads/2025/10/horse.jpg
END:VEVENT
BEGIN:VEVENT
DTSTART;TZID=America/Chicago:20250927T120000
DTEND;TZID=America/Chicago:20250927T210000
DTSTAMP:20260425T101753
CREATED:20250804T163842Z
LAST-MODIFIED:20250804T163843Z
UID:15223-1758974400-1759006800@www.cannonfalls.org
SUMMARY:Oktoberfest
DESCRIPTION:Prost! It’s Time for Oktoberfest! One of our biggest and most beloved events of the year is back — and you’re invited! \n\n\n\nGet ready for a full day of cold beer\, delicious food\, epic games\, and non-stop fun. Whether you’re here to compete\, feast\, or just soak up the vibes\, there’s something for everyone. \n\n\n\nEvent Highlights: \n\n\n\n12:00 PM – Fire up your appetite with juicy Brats & Turkey Brats \n\n\n\n12:00 PM – Corn Hole Team Registration opens – grab a partner and sign up! \n\n\n\n1:00 PM – Corn Hole Tournament kicks off (Single Elimination – Cash Prizes! ) \n\n\n\n2:00 PM – Test your strength in the Stein Holding Contest (Prizes for the champs! ) \n\n\n\n3:00 PM – Laugh your way through the Drunken German Spelling Bee  \n\n\n\n Plus music\, brews\, and good vibes ALL DAY LONG!
URL:https://www.cannonfalls.org/event/oktoberfest/
ATTACH;FMTTYPE=image/jpeg:https://www.cannonfalls.org/wp-content/uploads/2025/08/oktoberfest.jpg
END:VEVENT
BEGIN:VEVENT
DTSTART;TZID=America/Chicago:20250927T110000
DTEND;TZID=America/Chicago:20250927T140000
DTSTAMP:20260425T101753
CREATED:20250925T160056Z
LAST-MODIFIED:20250925T160246Z
UID:15345-1758970800-1758981600@www.cannonfalls.org
SUMMARY:Voices in the Valley
DESCRIPTION:Programs take place on Saturdays during the months of  May through September from 11am-2 pm  at Cannon Valley Trail Welch Station Access.
URL:https://www.cannonfalls.org/event/voices-in-the-valley/
LOCATION:Cannon Valley Trail Welch Station Access\, 26674 144th Ave Way\, Welch\, Minnesota\, 55089
ATTACH;FMTTYPE=image/jpeg:https://www.cannonfalls.org/wp-content/uploads/2025/09/hartl.jpg
END:VEVENT
BEGIN:VEVENT
DTSTART;TZID=America/Chicago:20250921T110000
DTEND;TZID=America/Chicago:20250921T130000
DTSTAMP:20260425T101753
CREATED:20250903T163050Z
LAST-MODIFIED:20250905T134411Z
UID:15316-1758452400-1758459600@www.cannonfalls.org
SUMMARY:Fall Festival
DESCRIPTION:Join us for an afternoon of celebration\, connection\, and community. \n\n\n\nWe will start with a 10:00 am Mass \n\n\n\nFrom 11:00 am—1:00 pm \n\n\n\nKC’s Grill Tent  \n\n\n\nBINGO    \n\n\n\nWine & Kiddie Pull  \n\n\n\nPetting Zoo    \n\n\n\nBalloon Artist  \n\n\n\nCountry Store     \n\n\n\nClassic Cars 1:00 pm  \n\n\n\nLIVE AUCTION  \n\n\n\nRaffle Drawing after Auction
URL:https://www.cannonfalls.org/event/fall-festival-2/
ATTACH;FMTTYPE=image/jpeg:https://www.cannonfalls.org/wp-content/uploads/2025/09/2025-Fall-Festival-Flyer.jpg
END:VEVENT
BEGIN:VEVENT
DTSTART;TZID=America/Chicago:20250920T160000
DTEND;TZID=America/Chicago:20250920T200000
DTSTAMP:20260425T101753
CREATED:20250910T175607Z
LAST-MODIFIED:20250910T175609Z
UID:15339-1758384000-1758398400@www.cannonfalls.org
SUMMARY:Chicken BBQ & CD Release Concert
DESCRIPTION:
URL:https://www.cannonfalls.org/event/chicken-bbq-cd-release-concert/
ATTACH;FMTTYPE=image/jpeg:https://www.cannonfalls.org/wp-content/uploads/2025/09/christ-nunited.jpg
END:VEVENT
BEGIN:VEVENT
DTSTART;TZID=America/Chicago:20250920T160000
DTEND;TZID=America/Chicago:20250920T190000
DTSTAMP:20260425T101753
CREATED:20250903T162331Z
LAST-MODIFIED:20250903T162348Z
UID:15302-1758384000-1758394800@www.cannonfalls.org
SUMMARY:CF Education Foundation Poker Social
DESCRIPTION:The 6th Annual CFEF Poker Social will be September 20 starting at 4 p.m. at Mill Street Tavern. Get this fun event on your calendar now and watch here for the details!
URL:https://www.cannonfalls.org/event/cf-education-foundation-poker-social/
ATTACH;FMTTYPE=image/png:https://www.cannonfalls.org/wp-content/uploads/2025/09/poker.png
END:VEVENT
BEGIN:VEVENT
DTSTART;TZID=America/Chicago:20250920T040000
DTEND;TZID=America/Chicago:20250920T200000
DTSTAMP:20260425T101753
CREATED:20250818T153807Z
LAST-MODIFIED:20250818T153809Z
UID:15263-1758340800-1758398400@www.cannonfalls.org
SUMMARY:VFW Hog Roast
DESCRIPTION:
URL:https://www.cannonfalls.org/event/vfw-hog-roast/
ATTACH;FMTTYPE=image/jpeg:https://www.cannonfalls.org/wp-content/uploads/2025/08/hograost.jpg
END:VEVENT
END:VCALENDAR