BEGIN:VCALENDAR
VERSION:2.0
PRODID:-//Cannon Falls Area Chamber of Commerce - ECPv6.15.20//NONSGML v1.0//EN
CALSCALE:GREGORIAN
METHOD:PUBLISH
X-WR-CALNAME:Cannon Falls Area Chamber of Commerce
X-ORIGINAL-URL:https://www.cannonfalls.org
X-WR-CALDESC:Events for Cannon Falls Area Chamber of Commerce
REFRESH-INTERVAL;VALUE=DURATION:PT1H
X-Robots-Tag:noindex
X-PUBLISHED-TTL:PT1H
BEGIN:VTIMEZONE
TZID:America/Chicago
BEGIN:DAYLIGHT
TZOFFSETFROM:-0600
TZOFFSETTO:-0500
TZNAME:CDT
DTSTART:20230312T080000
END:DAYLIGHT
BEGIN:STANDARD
TZOFFSETFROM:-0500
TZOFFSETTO:-0600
TZNAME:CST
DTSTART:20231105T070000
END:STANDARD
BEGIN:DAYLIGHT
TZOFFSETFROM:-0600
TZOFFSETTO:-0500
TZNAME:CDT
DTSTART:20240310T080000
END:DAYLIGHT
BEGIN:STANDARD
TZOFFSETFROM:-0500
TZOFFSETTO:-0600
TZNAME:CST
DTSTART:20241103T070000
END:STANDARD
BEGIN:DAYLIGHT
TZOFFSETFROM:-0600
TZOFFSETTO:-0500
TZNAME:CDT
DTSTART:20250309T080000
END:DAYLIGHT
BEGIN:STANDARD
TZOFFSETFROM:-0500
TZOFFSETTO:-0600
TZNAME:CST
DTSTART:20251102T070000
END:STANDARD
END:VTIMEZONE
BEGIN:VEVENT
DTSTART;TZID=America/Chicago:20240717T130000
DTEND;TZID=America/Chicago:20240717T140000
DTSTAMP:20260425T211251
CREATED:20240628T154043Z
LAST-MODIFIED:20240628T154045Z
UID:14240-1721221200-1721224800@www.cannonfalls.org
SUMMARY:International Owl Center at Library
DESCRIPTION:International Owl CenterBuild an OwlWednesday July 17th1-2 pm  Join us for an exciting program to learn first-hand about owls and their amazing adaptations. Help us “build” an owl by putting different owl body parts into a magic box. If we build our owl correctly\, a live owl will come out from under the magic box for a visit.This program is free and open to the public.
URL:https://www.cannonfalls.org/event/international-owl-center-at-library/
LOCATION:Cannon Falls Library
ATTACH;FMTTYPE=image/png:https://www.cannonfalls.org/wp-content/uploads/2024/06/owl.png
END:VEVENT
BEGIN:VEVENT
DTSTART;TZID=America/Chicago:20240711T110000
DTEND;TZID=America/Chicago:20240711T150000
DTSTAMP:20260425T211251
CREATED:20240628T153757Z
LAST-MODIFIED:20240628T153758Z
UID:14237-1720695600-1720710000@www.cannonfalls.org
SUMMARY:Movies at the Library
DESCRIPTION:
URL:https://www.cannonfalls.org/event/movies-at-the-library/
LOCATION:Cannon Falls Library
ATTACH;FMTTYPE=image/jpeg:https://www.cannonfalls.org/wp-content/uploads/2024/06/library-movie.jpg
END:VEVENT
BEGIN:VEVENT
DTSTART;TZID=America/Chicago:20240706T130000
DTEND;TZID=America/Chicago:20240706T160000
DTSTAMP:20260425T211251
CREATED:20240628T152733Z
LAST-MODIFIED:20240628T152735Z
UID:14221-1720270800-1720281600@www.cannonfalls.org
SUMMARY:Live Music at Cannon River Winery
DESCRIPTION:
URL:https://www.cannonfalls.org/event/live-music-at-cannon-river-winery-6/
LOCATION:Cannon River Winery\, 421 Mill Street West\, Cannon Falls\, MN\, 55009
ATTACH;FMTTYPE=image/jpeg:https://www.cannonfalls.org/wp-content/uploads/2024/06/relativity.jpg
END:VEVENT
BEGIN:VEVENT
DTSTART;TZID=America/Chicago:20240706T110000
DTEND;TZID=America/Chicago:20240706T140000
DTSTAMP:20260425T211252
CREATED:20240529T140453Z
LAST-MODIFIED:20240529T140456Z
UID:14117-1720263600-1720274400@www.cannonfalls.org
SUMMARY:Cannon Valley Trail Voices of the Valley
DESCRIPTION:Patti & the Reeds
URL:https://www.cannonfalls.org/event/cannon-valley-trail-voices-of-the-valley-3/
LOCATION:Cannon Valley Trail Welch Station Access\, 26674 144th Ave Way\, Welch\, Minnesota\, 55089
ATTACH;FMTTYPE=image/jpeg:https://www.cannonfalls.org/wp-content/uploads/2024/05/vov4.jpg
END:VEVENT
BEGIN:VEVENT
DTSTART;TZID=America/Chicago:20240706T100000
DTEND;TZID=America/Chicago:20240706T160000
DTSTAMP:20260425T211252
CREATED:20240701T183221Z
LAST-MODIFIED:20240701T183222Z
UID:14258-1720260000-1720281600@www.cannonfalls.org
SUMMARY:Animal Health Center Open House
DESCRIPTION:
URL:https://www.cannonfalls.org/event/animal-health-center-open-house/
ATTACH;FMTTYPE=image/jpeg:https://www.cannonfalls.org/wp-content/uploads/2024/07/animal-health-center.jpg
END:VEVENT
BEGIN:VEVENT
DTSTART;TZID=America/Chicago:20240705T190000
DTEND;TZID=America/Chicago:20240705T210000
DTSTAMP:20260425T211252
CREATED:20240628T153422Z
LAST-MODIFIED:20240628T153424Z
UID:14234-1720206000-1720213200@www.cannonfalls.org
SUMMARY:BARGO
DESCRIPTION:
URL:https://www.cannonfalls.org/event/bargo-3/
LOCATION:Tilion Brewing Company
ATTACH;FMTTYPE=image/jpeg:https://www.cannonfalls.org/wp-content/uploads/2024/06/bargo.jpg
END:VEVENT
BEGIN:VEVENT
DTSTART;TZID=America/Chicago:20240704T130000
DTEND;TZID=America/Chicago:20240704T160000
DTSTAMP:20260425T211252
CREATED:20240628T152623Z
LAST-MODIFIED:20240628T152625Z
UID:14218-1720098000-1720108800@www.cannonfalls.org
SUMMARY:Live Music on the 4th at Cannon River Winery
DESCRIPTION:
URL:https://www.cannonfalls.org/event/live-music-on-the-4th-at-cannon-river-winery/
LOCATION:Cannon River Winery\, 421 Mill Street West\, Cannon Falls\, MN\, 55009
ATTACH;FMTTYPE=image/jpeg:https://www.cannonfalls.org/wp-content/uploads/2024/06/winery4.jpg
END:VEVENT
BEGIN:VEVENT
DTSTART;TZID=America/Chicago:20240704T110000
DTEND;TZID=America/Chicago:20240704T140000
DTSTAMP:20260425T211252
CREATED:20240529T142125Z
LAST-MODIFIED:20240701T191022Z
UID:14139-1720090800-1720101600@www.cannonfalls.org
SUMMARY:Grande Day Parade
DESCRIPTION:The parade starts at the East Side Park and travels west on Minnesota Street to Second Street\, south on Second Street to Mill Street and from there we cross the bridge and head to the fairgrounds. The route is approximately 1.5 miles long.
URL:https://www.cannonfalls.org/event/grand-day-parade/
ATTACH;FMTTYPE=image/jpeg:https://www.cannonfalls.org/wp-content/uploads/2024/05/CV-Fair-parade.jpg
END:VEVENT
BEGIN:VEVENT
DTSTART;TZID=America/Chicago:20240704T100000
DTEND;TZID=America/Chicago:20240706T170000
DTSTAMP:20260425T211252
CREATED:20240703T165615Z
LAST-MODIFIED:20240703T165835Z
UID:14265-1720087200-1720285200@www.cannonfalls.org
SUMMARY:Cannon Falls Area Historical Museum
DESCRIPTION:HOURS VARY SEE FLYER
URL:https://www.cannonfalls.org/event/cannon-falls-area-historical-museum/
LOCATION:Cannon Falls Area Historical Museum\, 206 Mill St W\, Cannon Falls\, Minnesota
ATTACH;FMTTYPE=image/jpeg:https://www.cannonfalls.org/wp-content/uploads/2024/07/historical-hours.jpg
END:VEVENT
BEGIN:VEVENT
DTSTART;TZID=America/Chicago:20240704T100000
DTEND;TZID=America/Chicago:20240704T160000
DTSTAMP:20260425T211252
CREATED:20240701T145933Z
LAST-MODIFIED:20240701T145936Z
UID:14243-1720087200-1720108800@www.cannonfalls.org
SUMMARY:Tilion Brewing Co. Open 4th of July
DESCRIPTION:The 4th of July parade goes right by our front door. When making plans for Thursday\, just remember our liquor license extends to the sidewalk and the West patio. Enjoy a cold beverage while you watch the parade and select from our craft beer\, seltzer slushies or our new hard lemonade cocktails. \n\n\n\nNot in the mood for an adult beverage? We also carry Blue Bunny ice cream to beat the heat! \n\n\n\nGet there early\, as these spots go quickly!
URL:https://www.cannonfalls.org/event/tilion-brewing-co-open-4th-of-july/
LOCATION:Tilion Brewing Company
ATTACH;FMTTYPE=image/jpeg:https://www.cannonfalls.org/wp-content/uploads/2024/07/tilion-crop.jpg
END:VEVENT
BEGIN:VEVENT
DTSTART;TZID=America/Chicago:20240704T070000
DTEND;TZID=America/Chicago:20240704T150000
DTSTAMP:20260425T211252
CREATED:20240628T153158Z
LAST-MODIFIED:20240628T153159Z
UID:14231-1720076400-1720105200@www.cannonfalls.org
SUMMARY:4th of July at CannonBelles
DESCRIPTION:
URL:https://www.cannonfalls.org/event/4th-of-july-at-cannonbelles/
LOCATION:CannonBelles Coffe and Ice Cream\, 402 Mill St\, Cannon Falls
ATTACH;FMTTYPE=image/jpeg:https://www.cannonfalls.org/wp-content/uploads/2024/06/cannonbeles4.jpg
END:VEVENT
BEGIN:VEVENT
DTSTART;TZID=America/Chicago:20240703T080000
DTEND;TZID=America/Chicago:20240706T220000
DTSTAMP:20260425T211252
CREATED:20240529T141822Z
LAST-MODIFIED:20240529T141824Z
UID:14134-1719993600-1720303200@www.cannonfalls.org
SUMMARY:Cannon Valley Fair
DESCRIPTION:Visit cannonvalleyfair.org for schedule
URL:https://www.cannonfalls.org/event/cannon-valley-fair/
LOCATION:Cannon Valley Fairgrounds\, 800 N 9th ST\, Cannon Falls\, Minnesota\, 55009
ATTACH;FMTTYPE=image/jpeg:https://www.cannonfalls.org/wp-content/uploads/2024/05/CV-Fair.jpg
END:VEVENT
BEGIN:VEVENT
DTSTART;TZID=America/Chicago:20240629T130000
DTEND;TZID=America/Chicago:20240629T160000
DTSTAMP:20260425T211252
CREATED:20240628T152515Z
LAST-MODIFIED:20240628T152516Z
UID:14215-1719666000-1719676800@www.cannonfalls.org
SUMMARY:Live Music at Cannon River Winery
DESCRIPTION:
URL:https://www.cannonfalls.org/event/live-music-at-cannon-river-winery-5/
LOCATION:Cannon River Winery\, 421 Mill Street West\, Cannon Falls\, MN\, 55009
ATTACH;FMTTYPE=image/jpeg:https://www.cannonfalls.org/wp-content/uploads/2024/06/wineryt-music.jpg
END:VEVENT
BEGIN:VEVENT
DTSTART;TZID=America/Chicago:20240629T130000
DTEND;TZID=America/Chicago:20240629T140000
DTSTAMP:20260425T211252
CREATED:20240531T135610Z
LAST-MODIFIED:20240531T135614Z
UID:14160-1719666000-1719669600@www.cannonfalls.org
SUMMARY:MN Author Tour
DESCRIPTION:Author Sun Yung ShinSaturday June 29th1-2 pm  Join us as we welcome Author Sun Yung Shin to the Cannon Falls Library.  Sun Yung Shin! 신 선 영 is a National Book Critics Circle Award Winner\, PEN USA Literary Award Winner\, and MN Book Award Winner. Sun Yung Shin was born in Seoul\, Korea and was raised in the Chicago area. She is a poet\, writer\, and cultural worker.This event is free and open to the public.
URL:https://www.cannonfalls.org/event/mn-author-tour/
LOCATION:Cannon Falls Library
ATTACH;FMTTYPE=image/png:https://www.cannonfalls.org/wp-content/uploads/2024/05/author.png
END:VEVENT
BEGIN:VEVENT
DTSTART;TZID=America/Chicago:20240629T110000
DTEND;TZID=America/Chicago:20240629T140000
DTSTAMP:20260425T211252
CREATED:20240529T140348Z
LAST-MODIFIED:20240529T140350Z
UID:14114-1719658800-1719669600@www.cannonfalls.org
SUMMARY:Cannon Valley Trail Voices of the Valley
DESCRIPTION:In Tandem~
URL:https://www.cannonfalls.org/event/cannon-valley-trail-voices-of-the-valley-2/
LOCATION:Cannon Valley Trail Welch Station Access\, 26674 144th Ave Way\, Welch\, Minnesota\, 55089
ATTACH;FMTTYPE=image/jpeg:https://www.cannonfalls.org/wp-content/uploads/2024/05/vov3.jpg
END:VEVENT
BEGIN:VEVENT
DTSTART;TZID=America/Chicago:20240629T073000
DTEND;TZID=America/Chicago:20240629T123000
DTSTAMP:20260425T211252
CREATED:20240604T155118Z
LAST-MODIFIED:20240604T155121Z
UID:14183-1719646200-1719664200@www.cannonfalls.org
SUMMARY:Farmer's Market
DESCRIPTION:
URL:https://www.cannonfalls.org/event/farmers-market-5/
LOCATION:Farmer’s Market\, 1233 4th St S\,\, Cannon Falls\, Minnesota
ATTACH;FMTTYPE=image/jpeg:https://www.cannonfalls.org/wp-content/uploads/2024/06/farmers-market.jpg
END:VEVENT
BEGIN:VEVENT
DTSTART;TZID=America/Chicago:20240627T093000
DTEND;TZID=America/Chicago:20240627T160000
DTSTAMP:20260425T211252
CREATED:20240517T155111Z
LAST-MODIFIED:20240517T155114Z
UID:14070-1719480600-1719504000@www.cannonfalls.org
SUMMARY:Mill City Museum Trip
DESCRIPTION:We are off to the Mill City Museum\, Minneapolis\, and we hope you will come along! June 27th\, leaving Cannon Falls by school bus at 9:30 am and returning around 4. \n\n\n\nTake a ride back in time at the Mill City Museum. The ruins of what was once the world’s largest flour mill have been turned into an exploratory venture into the flour industry\, the city of Minneapolis and the Mississippi river. \n\n\n\nThe museum offers the chance to take a look at the milling industry and the impact it had on the city. Today\, visitors can explore the rich history and participate in the storytelling of this part of Minneapolis. Witness baking demonstrations\, sample fresh bread\, observe a model mill explosion\, get an amazing view of St. Anthony Falls and the Stone Arch Bridge from the rooftop observation deck (bring your camera for some of the best views of the city)\, experience the Flour Tower\, and while you’re there be sure to watch “Minneapolis in 19 Minutes Flat!” Shop at the Museum store. This is truly a Minneapolis icon that you don’t want to miss. \n\n\n\nWe will stop for lunch (on your own) at Cracker Barrel in Lakeville on the way home\, returning to Cannon Falls around 4 pm. \n\n\n\nCost for trip: $45 members\, $55 non-members. Call the Senior Center to sign up. 507-263-2136.
URL:https://www.cannonfalls.org/event/mill-city-museum-trip/
ATTACH;FMTTYPE=image/jpeg:https://www.cannonfalls.org/wp-content/uploads/2024/05/mill-city.jpg
END:VEVENT
BEGIN:VEVENT
DTSTART;TZID=America/Chicago:20240624T110000
DTEND;TZID=America/Chicago:20240624T180000
DTSTAMP:20260425T211252
CREATED:20240503T151457Z
LAST-MODIFIED:20240503T151459Z
UID:13972-1719226800-1719252000@www.cannonfalls.org
SUMMARY:Chamber Golf Tournament and Fundraiser
DESCRIPTION:This event is the chamber’s largest fundraiser of the year. The funds from this tournament will be used to support other chamber events and promotions throughout the year: Flower Baskets\, Children’s Easter Event\, Fun Fests\,Halloween Trick or Treat Trot\, Deck the Falls Fireworks\,  Monthly Chamber Meetings and our Annual Business Recognition Event.
URL:https://www.cannonfalls.org/event/chamber-golf-tournament-and-fundraiser/
ATTACH;FMTTYPE=image/png:https://www.cannonfalls.org/wp-content/uploads/2024/05/Golf-2024-Facebook-.png
END:VEVENT
BEGIN:VEVENT
DTSTART;TZID=America/Chicago:20240623T100000
DTEND;TZID=America/Chicago:20240623T170000
DTSTAMP:20260425T211252
CREATED:20240515T143634Z
LAST-MODIFIED:20240515T143640Z
UID:14058-1719136800-1719162000@www.cannonfalls.org
SUMMARY:Vasa-Spring Garden Annual Tractor Parade and Midsommer Festival
DESCRIPTION:It’s that time of the year again!!! C’mon out to Vasa\, Spring garden\, or both for our annual Tractor parade and Midsommar Festival! All are welcome. A great event for your entire family. Lots of grandparents telling stories to their grandkids and lots of great food and entertainment!
URL:https://www.cannonfalls.org/event/vasa-spring-garden-annual-tractor-parade-and-midsommer-festival/
ATTACH;FMTTYPE=image/jpeg:https://www.cannonfalls.org/wp-content/uploads/2024/05/midsommar.jpg
END:VEVENT
BEGIN:VEVENT
DTSTART;TZID=America/Chicago:20240622T130000
DTEND;TZID=America/Chicago:20240622T160000
DTSTAMP:20260425T211252
CREATED:20240529T135635Z
LAST-MODIFIED:20240529T135638Z
UID:14101-1719061200-1719072000@www.cannonfalls.org
SUMMARY:Live Music at Cannon River Winery
DESCRIPTION:
URL:https://www.cannonfalls.org/event/live-music-at-cannon-river-winery-4/
LOCATION:Cannon River Winery
ATTACH;FMTTYPE=image/jpeg:https://www.cannonfalls.org/wp-content/uploads/2024/05/border-hooks.jpg
END:VEVENT
BEGIN:VEVENT
DTSTART;TZID=America/Chicago:20240622T110000
DTEND;TZID=America/Chicago:20240622T170000
DTSTAMP:20260425T211252
CREATED:20240610T145040Z
LAST-MODIFIED:20240610T145041Z
UID:14196-1719054000-1719075600@www.cannonfalls.org
SUMMARY:Summer Solstace Celebration and Fly-In
DESCRIPTION:
URL:https://www.cannonfalls.org/event/summer-solstace-celebration-and-fly-in/
LOCATION:Stanton Air Field\, 1235 MN -19\, Dennison\, Minnesota\, United States
ATTACH;FMTTYPE=image/jpeg:https://www.cannonfalls.org/wp-content/uploads/2024/06/stanton.jpg
END:VEVENT
BEGIN:VEVENT
DTSTART;TZID=America/Chicago:20240622T110000
DTEND;TZID=America/Chicago:20240622T140000
DTSTAMP:20260425T211252
CREATED:20240529T140240Z
LAST-MODIFIED:20240529T140242Z
UID:14111-1719054000-1719064800@www.cannonfalls.org
SUMMARY:Cannon Valley Trail Voices of the Valley
DESCRIPTION:Tom Peschges
URL:https://www.cannonfalls.org/event/cannon-valley-trail-voices-of-the-valley/
LOCATION:Cannon Valley Trail Welch Station Access\, 26674 144th Ave Way\, Welch\, Minnesota\, 55089
ATTACH;FMTTYPE=image/jpeg:https://www.cannonfalls.org/wp-content/uploads/2024/05/vov-2.jpg
END:VEVENT
BEGIN:VEVENT
DTSTART;TZID=America/Chicago:20240622T073000
DTEND;TZID=America/Chicago:20240622T123000
DTSTAMP:20260425T211252
CREATED:20240604T154659Z
LAST-MODIFIED:20240604T154704Z
UID:14177-1719041400-1719059400@www.cannonfalls.org
SUMMARY:Farmer's Market
DESCRIPTION:
URL:https://www.cannonfalls.org/event/farmers-market-3/
LOCATION:Farmer’s Market\, 1233 4th St S\,\, Cannon Falls\, Minnesota
ATTACH;FMTTYPE=image/jpeg:https://www.cannonfalls.org/wp-content/uploads/2024/06/farmers-market.jpg
END:VEVENT
BEGIN:VEVENT
DTSTART;TZID=America/Chicago:20240618T173000
DTEND;TZID=America/Chicago:20240618T190000
DTSTAMP:20260425T211252
CREATED:20240612T135019Z
LAST-MODIFIED:20240612T135022Z
UID:14202-1718731800-1718737200@www.cannonfalls.org
SUMMARY:Summer Teen Picnic
DESCRIPTION:
URL:https://www.cannonfalls.org/event/summer-teen-picnic/
ATTACH;FMTTYPE=image/jpeg:https://www.cannonfalls.org/wp-content/uploads/2024/06/treehouse.jpg
END:VEVENT
BEGIN:VEVENT
DTSTART;TZID=America/Chicago:20240616T070000
DTEND;TZID=America/Chicago:20240616T120000
DTSTAMP:20260425T211252
CREATED:20240610T144754Z
LAST-MODIFIED:20240610T144756Z
UID:14193-1718521200-1718539200@www.cannonfalls.org
SUMMARY:Cannon Falls Lion's Club Father's Day Pancake Breakfast
DESCRIPTION:Come on down to the fairgrounds for breakfast and support the CF Lions Club!
URL:https://www.cannonfalls.org/event/cannon-falls-lions-club-fathers-day-pancake-breakfast/
LOCATION:Cannon Falls Fairgrounds\, 800 N 9th St\, Cannon Falls\, MN
ATTACH;FMTTYPE=image/jpeg:https://www.cannonfalls.org/wp-content/uploads/2024/06/pancake.jpg
END:VEVENT
BEGIN:VEVENT
DTSTART;TZID=America/Chicago:20240615T130000
DTEND;TZID=America/Chicago:20240615T160000
DTSTAMP:20260425T211252
CREATED:20240529T135525Z
LAST-MODIFIED:20240529T135529Z
UID:14096-1718456400-1718467200@www.cannonfalls.org
SUMMARY:Live Music at Cannon River Winery
DESCRIPTION:
URL:https://www.cannonfalls.org/event/live-music-at-cannon-river-winery-3/
LOCATION:Cannon River Winery
ATTACH;FMTTYPE=image/jpeg:https://www.cannonfalls.org/wp-content/uploads/2024/05/crimons-winery.jpg
END:VEVENT
BEGIN:VEVENT
DTSTART;TZID=America/Chicago:20240615T073000
DTEND;TZID=America/Chicago:20240615T123000
DTSTAMP:20260425T211252
CREATED:20240604T154607Z
LAST-MODIFIED:20240604T154609Z
UID:14175-1718436600-1718454600@www.cannonfalls.org
SUMMARY:Farmer's Market
DESCRIPTION:
URL:https://www.cannonfalls.org/event/farmers-market-2/
LOCATION:Farmer’s Market\, 1233 4th St S\,\, Cannon Falls\, Minnesota
ATTACH;FMTTYPE=image/jpeg:https://www.cannonfalls.org/wp-content/uploads/2024/06/farmers-market.jpg
END:VEVENT
BEGIN:VEVENT
DTSTART;TZID=America/Chicago:20240613T170000
DTEND;TZID=America/Chicago:20240613T200000
DTSTAMP:20260425T211252
CREATED:20240529T134141Z
LAST-MODIFIED:20240529T134143Z
UID:14076-1718298000-1718308800@www.cannonfalls.org
SUMMARY:Fun Fest
DESCRIPTION:Come on downtown for a night of fun on Mill Street! Vendors\, Food Trucks\, Live Music\, Activities and more!
URL:https://www.cannonfalls.org/event/fun-fest/
ATTACH;FMTTYPE=image/png:https://www.cannonfalls.org/wp-content/uploads/2024/05/fUN-fEST8.png
END:VEVENT
BEGIN:VEVENT
DTSTART;TZID=America/Chicago:20240613T090000
DTEND;TZID=America/Chicago:20240613T100000
DTSTAMP:20260425T211252
CREATED:20240503T145633Z
LAST-MODIFIED:20240503T145635Z
UID:13958-1718269200-1718272800@www.cannonfalls.org
SUMMARY:Ask a Master Gardner
DESCRIPTION:Stop in to ask a Master Gardner form the Extension offices questions you have about your garden.
URL:https://www.cannonfalls.org/event/ask-a-master-gardner-3/
LOCATION:CannonBelles Coffe and Ice Cream\, 402 Mill St\, Cannon Falls
ATTACH;FMTTYPE=image/jpeg:https://www.cannonfalls.org/wp-content/uploads/2024/05/gardner.jpg
END:VEVENT
BEGIN:VEVENT
DTSTART;TZID=America/Chicago:20240613T080000
DTEND;TZID=America/Chicago:20240613T170000
DTSTAMP:20260425T211253
CREATED:20240531T135434Z
LAST-MODIFIED:20240531T135437Z
UID:14157-1718265600-1718298000@www.cannonfalls.org
SUMMARY:Mini Art Contest
DESCRIPTION:Mini Art ContestRegistration begins June 13thVoting June 25th – 29th  \n\n\n\nCall for Artists! We have a mini art contest beginning June 13th. \n\n\n\n\nSign-up at the library beginning June 13th. Contest theme will be announced.\n\n\n\nCreate your mini masterpiece & return it to the library by June 24th.\n\n\n\nSubmissions will be on display at the library from June 25th – 29th to be voted on by the public.\n\n\n\nAwards will be given for 1st – 3rd place.\n\n\n\n\nFor Adults & Teens (13+)
URL:https://www.cannonfalls.org/event/mini-art-contest/
LOCATION:Cannon Falls Library
ATTACH;FMTTYPE=image/png:https://www.cannonfalls.org/wp-content/uploads/2024/05/art.png
END:VEVENT
END:VCALENDAR