BEGIN:VCALENDAR
VERSION:2.0
PRODID:-//Cannon Falls Area Chamber of Commerce - ECPv6.15.20//NONSGML v1.0//EN
CALSCALE:GREGORIAN
METHOD:PUBLISH
X-ORIGINAL-URL:https://www.cannonfalls.org
X-WR-CALDESC:Events for Cannon Falls Area Chamber of Commerce
REFRESH-INTERVAL;VALUE=DURATION:PT1H
X-Robots-Tag:noindex
X-PUBLISHED-TTL:PT1H
BEGIN:VTIMEZONE
TZID:America/Chicago
BEGIN:DAYLIGHT
TZOFFSETFROM:-0600
TZOFFSETTO:-0500
TZNAME:CDT
DTSTART:20230312T080000
END:DAYLIGHT
BEGIN:STANDARD
TZOFFSETFROM:-0500
TZOFFSETTO:-0600
TZNAME:CST
DTSTART:20231105T070000
END:STANDARD
BEGIN:DAYLIGHT
TZOFFSETFROM:-0600
TZOFFSETTO:-0500
TZNAME:CDT
DTSTART:20240310T080000
END:DAYLIGHT
BEGIN:STANDARD
TZOFFSETFROM:-0500
TZOFFSETTO:-0600
TZNAME:CST
DTSTART:20241103T070000
END:STANDARD
BEGIN:DAYLIGHT
TZOFFSETFROM:-0600
TZOFFSETTO:-0500
TZNAME:CDT
DTSTART:20250309T080000
END:DAYLIGHT
BEGIN:STANDARD
TZOFFSETFROM:-0500
TZOFFSETTO:-0600
TZNAME:CST
DTSTART:20251102T070000
END:STANDARD
BEGIN:DAYLIGHT
TZOFFSETFROM:-0600
TZOFFSETTO:-0500
TZNAME:CDT
DTSTART:20260308T080000
END:DAYLIGHT
BEGIN:STANDARD
TZOFFSETFROM:-0500
TZOFFSETTO:-0600
TZNAME:CST
DTSTART:20261101T070000
END:STANDARD
END:VTIMEZONE
BEGIN:VEVENT
DTSTART;TZID=America/Chicago:20241106T090000
DTEND;TZID=America/Chicago:20241109T170000
DTSTAMP:20260425T102620
CREATED:20241104T173128Z
LAST-MODIFIED:20241104T173130Z
UID:14659-1730883600-1731171600@www.cannonfalls.org
SUMMARY:Shop Around Town Event
DESCRIPTION:Shop Around Town – And WIN! \n\n\n\nJoin us for Shop Around Town event\, discover one-of-a-kind items and support small businesses that make our community special! The lucky winner will receive merchandise from participating stores valued at $300! \n\n\n\nParticipating Businesses:Althoff HardwareCannon Valley SpecialtiesLa Boutique UniqueSwan and Bower \n\n\n\nDetails:1. Pick up a punch card from any of the participatingbusinesses shown below or the Chamber of CommerceOffice (limit of 1 card per person).2. Visit each of the businesses for a stamp/punch.3. No purchase is necessary\, but always appreciated.4. Get a stamp from each of these businesses and turn inthe completed card to any of them by 5 p.m. on theentry deadline date. The prize drawing will take placethe following week at the Chamber of Commerce.5 .Prize* value total: $300
URL:https://www.cannonfalls.org/event/shop-around-town-event-2/
ATTACH;FMTTYPE=image/png:https://www.cannonfalls.org/wp-content/uploads/2024/11/Shop-around-town_Nov24_front.png
END:VEVENT
BEGIN:VEVENT
DTSTART;TZID=America/Chicago:20241109T080000
DTEND;TZID=America/Chicago:20241109T150000
DTSTAMP:20260425T102620
CREATED:20240724T193937Z
LAST-MODIFIED:20240724T193942Z
UID:14316-1731139200-1731164400@www.cannonfalls.org
SUMMARY:Holiday Boutique Craft Fair
DESCRIPTION:
URL:https://www.cannonfalls.org/event/holiday-boutique-craft-fair/
LOCATION:The Grand 02 Event Center\, 32057 64th Ave\, Cannon Falls\, MN\, 55009
ATTACH;FMTTYPE=image/jpeg:https://www.cannonfalls.org/wp-content/uploads/2024/07/craft-fair-o2.jpg
END:VEVENT
BEGIN:VEVENT
DTSTART;TZID=America/Chicago:20241116T100000
DTEND;TZID=America/Chicago:20241116T120000
DTSTAMP:20260425T102620
CREATED:20240920T165513Z
LAST-MODIFIED:20240920T165516Z
UID:14553-1731751200-1731758400@www.cannonfalls.org
SUMMARY:Veterans Program
DESCRIPTION:Open to the public
URL:https://www.cannonfalls.org/event/veterans-program/
LOCATION:St. Ansgar’s Lutheran Church
ATTACH;FMTTYPE=image/jpeg:https://www.cannonfalls.org/wp-content/uploads/2024/09/veterans-program.jpg
END:VEVENT
BEGIN:VEVENT
DTSTART;TZID=America/Chicago:20241118T180000
DTEND;TZID=America/Chicago:20241118T193000
DTSTAMP:20260425T102620
CREATED:20241104T150359Z
LAST-MODIFIED:20241104T150402Z
UID:14656-1731952800-1731958200@www.cannonfalls.org
SUMMARY:Make-It Monday Holiday Ornament
DESCRIPTION:
URL:https://www.cannonfalls.org/event/make-it-monday-holiday-ornament/
LOCATION:Cannon Falls Library
ATTACH;FMTTYPE=image/png:https://www.cannonfalls.org/wp-content/uploads/2024/11/ornament-library.png
END:VEVENT
BEGIN:VEVENT
DTSTART;TZID=America/Chicago:20241122T100000
DTEND;TZID=America/Chicago:20241127T180000
DTSTAMP:20260425T102620
CREATED:20240911T151116Z
LAST-MODIFIED:20240911T151117Z
UID:14546-1732269600-1732730400@www.cannonfalls.org
SUMMARY:Ferndale TurkeyFest
DESCRIPTION:Our annual TurkeyFest celebration is your opportunity to pick up your FRESH Thanksgiving turkey and other local foods. We’ll have a food truck on site daily (11am to 2pm)\, plus food samples from our local vendors. \n\n\n\nOur store hours will be 9am to 6pm each day. \n\n\n\nFresh turkey reservations will open on Oct. 17. Stay tuned for more details!
URL:https://www.cannonfalls.org/event/ferndale-turkeyfest/
LOCATION:Ferndale Market\, 31659 Willow Trail\, Cannon Falls\, MN\, 55009
ATTACH;FMTTYPE=image/jpeg:https://www.cannonfalls.org/wp-content/uploads/2024/09/Turkey-Fest.jpg
END:VEVENT
BEGIN:VEVENT
DTSTART;TZID=America/Chicago:20241124T133000
DTEND;TZID=America/Chicago:20241124T133000
DTSTAMP:20260425T102620
CREATED:20241111T200522Z
LAST-MODIFIED:20241111T200525Z
UID:14674-1732455000-1732455000@www.cannonfalls.org
SUMMARY:Harmony In Faith
DESCRIPTION:Weber/St John a Lutheran Hymn Experience
URL:https://www.cannonfalls.org/event/harmony-in-faith/
LOCATION:Spring Garden Lutheran Church\, 10239 County 1 Blv\, Cannon Falls
ATTACH;FMTTYPE=image/jpeg:https://www.cannonfalls.org/wp-content/uploads/2024/11/springgarden.jpg
END:VEVENT
BEGIN:VEVENT
DTSTART;TZID=America/Chicago:20241127T150000
DTEND;TZID=America/Chicago:20241127T210000
DTSTAMP:20260425T102620
CREATED:20241030T161915Z
LAST-MODIFIED:20241030T161916Z
UID:14649-1732719600-1732741200@www.cannonfalls.org
SUMMARY:Thanksgiving Eve Escape Party
DESCRIPTION:Sometimes before a big holiday you just need to get away for a little while! Join us on Wednesday November 27th for our 2nd annual Thanksgiving Escape party! Besides if you hang around the kitchen too long they will put you to work.
URL:https://www.cannonfalls.org/event/thanksgiving-eve-escape-party/
LOCATION:Tilion Brewing Company
ATTACH;FMTTYPE=image/jpeg:https://www.cannonfalls.org/wp-content/uploads/2024/10/tilionpaty.jpg
END:VEVENT
BEGIN:VEVENT
DTSTART;TZID=America/Chicago:20241128T113000
DTEND;TZID=America/Chicago:20241128T130000
DTSTAMP:20260425T102620
CREATED:20241023T130545Z
LAST-MODIFIED:20241023T130549Z
UID:14625-1732793400-1732798800@www.cannonfalls.org
SUMMARY:Community Thanksgiving Meal
DESCRIPTION:
URL:https://www.cannonfalls.org/event/community-thanksgiving-meal/
ATTACH;FMTTYPE=image/png:https://www.cannonfalls.org/wp-content/uploads/2024/10/thanksgivign-meal.png
END:VEVENT
BEGIN:VEVENT
DTSTART;TZID=America/Chicago:20241130T080000
DTEND;TZID=America/Chicago:20241130T110000
DTSTAMP:20260425T102620
CREATED:20241014T160215Z
LAST-MODIFIED:20241014T160217Z
UID:14606-1732953600-1732964400@www.cannonfalls.org
SUMMARY:Deck the Falls Pancake Breakfast
DESCRIPTION:Hosted by the Cannon Falls Lions
URL:https://www.cannonfalls.org/event/deck-the-falls-pancake-breakfast/
ATTACH;FMTTYPE=image/jpeg:https://www.cannonfalls.org/wp-content/uploads/2024/10/CF-LIions.jpg
END:VEVENT
BEGIN:VEVENT
DTSTART;TZID=America/Chicago:20241130T090000
DTEND;TZID=America/Chicago:20241130T190000
DTSTAMP:20260425T102620
CREATED:20241018T134205Z
LAST-MODIFIED:20241018T134208Z
UID:14620-1732957200-1732993200@www.cannonfalls.org
SUMMARY:Deck the Falls
DESCRIPTION:Come downtown Cannon Falls for a true Hallmark Christmas!Begin the day enjoying delicious pancakes at the fire station\, then head to various Cannon Falls businesses to get your holiday shopping done and maybe treat yourself to a gift! After you’ve checked off your Christmas lists\, listen to Santa read a story at the Cannon Falls Library then stop and get your picture with him and Mrs. Claus at CannonBelles! Next\, grab some chili from Tilions and find a spot along the festively lit 4th street to watch the lighted Deck the Falls Parade\, watch for the special guest at the end! Follow the merry crowd to city parking lot where you can grab a cup of hot cider\, join in on carols\, maybe collect a prize if you are one of our lucky raffle prize winners and then watch as this magical night comes to an end with some festive fireworks! And who knows\, if you look real close you may even see Santa flying his sleigh off into the night… \n\n\n\nwww.cannonfalls.orgParade Entry Link :https://forms.gle/nPDBgqZn84tpypKY7 \n\n\n\n-Fireworks Sponsors-Oldcastle InfrastructureMerchants BankFirst Farmers and Merchants BankCommunity Resource BankMayo Clinic Health SystemsNorthland Safety SolutionsAmesbury TruthSanta and Mrs. ClausOlmsted Medical Center \n\n\n\n-Community Tree Sponsors-Arena Trailer SalesMN Energy ResourcesFerndale MarketDakota Electric Assoc. \n\n\n\n-Christmas Cheer Sponsors-Oldcastle InfrastructureSwan and BowerAnimal Health CenterKeith Meyers CFPCannonBellesCannon Valley Specialties \n\n\n\n-Chamber Dollar Sponsors-Oldcastle InfrastructureNorthside StorageCycle AmericaNick’s DinerSwan and Bower
URL:https://www.cannonfalls.org/event/deck-the-falls-2/
ATTACH;FMTTYPE=image/jpeg:https://www.cannonfalls.org/wp-content/uploads/2024/10/Deck-the-Falls-design-1-Real-Estate-Flyer.jpg
END:VEVENT
BEGIN:VEVENT
DTSTART;TZID=America/Chicago:20241130T120000
DTEND;TZID=America/Chicago:20241130T160000
DTSTAMP:20260425T102620
CREATED:20241018T134344Z
LAST-MODIFIED:20241018T134346Z
UID:14622-1732968000-1732982400@www.cannonfalls.org
SUMMARY:Deck the Falls with Cheese and Chocolate
DESCRIPTION:Located in our Event Center\, Second Floor from 12:00pm – 4:00pm \n\n\n\nFeaturing cheese and chocolate vendors with samples paired with your favorite Cannon River wines! Get a head start on your holiday shopping with some sweet treats. \n\n\n\nStick around for the annual Deck the Falls parade\, tree lighting\, and fireworks starting at 5pm! Start your holiday season right on Small Business Saturday in Cannon Falls!
URL:https://www.cannonfalls.org/event/deck-the-falls-with-cheese-and-chocolate/
ATTACH;FMTTYPE=image/jpeg:https://www.cannonfalls.org/wp-content/uploads/2024/10/dtf-winery.jpg
END:VEVENT
BEGIN:VEVENT
DTSTART;TZID=America/Chicago:20241130T150000
DTEND;TZID=America/Chicago:20241130T190000
DTSTAMP:20260425T102620
CREATED:20241106T142921Z
LAST-MODIFIED:20241106T142923Z
UID:14662-1732978800-1732993200@www.cannonfalls.org
SUMMARY:Deck the Falls Chili Feed Fundraiser
DESCRIPTION:Join us for a “Deck the Falls” celebration and help raise some funds for the Diamond Club baseball spring training! Warm up with a hearty bowl of chili (free will donation) before the “Deck the Falls” parade\, tree lighting and fireworks celebration on Saturday November 30th. \n\n\n\nChili will be served from 3 to 7 pm or until we run out of chili. All proceeds go to support the Diamond Club and spring training in Florida. Come on out and support local baseball and the Diamond Club!
URL:https://www.cannonfalls.org/event/deck-the-falls-chili-feed-fundraiser/
LOCATION:Tilion Brewing Company
ATTACH;FMTTYPE=image/jpeg:https://www.cannonfalls.org/wp-content/uploads/2024/11/chili-feed.jpg
END:VEVENT
BEGIN:VEVENT
DTSTART;TZID=America/Chicago:20241206T190000
DTEND;TZID=America/Chicago:20241206T210000
DTSTAMP:20260425T102620
CREATED:20241204T155515Z
LAST-MODIFIED:20241204T155518Z
UID:14695-1733511600-1733518800@www.cannonfalls.org
SUMMARY:Bargo at Tilion Brewing CO.
DESCRIPTION:
URL:https://www.cannonfalls.org/event/bargo-at-tilion-brewing-co-8/
ATTACH;FMTTYPE=image/jpeg:https://www.cannonfalls.org/wp-content/uploads/2024/12/tilion-bingo.jpg
END:VEVENT
BEGIN:VEVENT
DTSTART;TZID=America/Chicago:20241207T090000
DTEND;TZID=America/Chicago:20241207T140000
DTSTAMP:20260425T102620
CREATED:20241030T131206Z
LAST-MODIFIED:20241030T131516Z
UID:14640-1733562000-1733580000@www.cannonfalls.org
SUMMARY:Grandpa's Christmas Market
DESCRIPTION:Children preschool through 5th grade are invited to come shopping at Grandpa’s Christmas Market\, for handcrafted Christmas gifts for their parents!There will be shopping assistants to help young shoppers make their selections. Free gift wrapping will be available courtesy of Freeberg Insurance.Most items will be $5 or less each.All proceeds will benefit the John Burch Park renovation project! \n\n\n\nPlease note: THE SALE WILL BE JUST ONE DAY THIS YEAR! THERE WILL BE A LIMIT OF SIX GIFTS PER CHILD.
URL:https://www.cannonfalls.org/event/grandpas-christmas-market-2/
LOCATION:Freeberg Insurance\, 100 4th St N\, Cannon Falls\, Minnesota\, 55009
ATTACH;FMTTYPE=image/jpeg:https://www.cannonfalls.org/wp-content/uploads/2024/10/grandmaps-crhismtas.jpg
END:VEVENT
BEGIN:VEVENT
DTSTART;TZID=America/Chicago:20241207T120000
DTEND;TZID=America/Chicago:20241207T150000
DTSTAMP:20260425T102620
CREATED:20241118T181244Z
LAST-MODIFIED:20241118T181246Z
UID:14683-1733572800-1733583600@www.cannonfalls.org
SUMMARY:Chili Cook Off
DESCRIPTION:
URL:https://www.cannonfalls.org/event/chili-cook-off/
LOCATION:Cannon Auto Repair
ATTACH;FMTTYPE=image/png:https://www.cannonfalls.org/wp-content/uploads/2024/11/chili.png
END:VEVENT
BEGIN:VEVENT
DTSTART;TZID=America/Chicago:20241207T130000
DTEND;TZID=America/Chicago:20241207T160000
DTSTAMP:20260425T102620
CREATED:20241204T155905Z
LAST-MODIFIED:20241204T155906Z
UID:14701-1733576400-1733587200@www.cannonfalls.org
SUMMARY:Live Music Cannon River Winery
DESCRIPTION:
URL:https://www.cannonfalls.org/event/live-music-cannon-river-winery-34/
LOCATION:Cannon River Winery\, 421 Mill Street West\, Cannon Falls\, MN\, 55009
END:VEVENT
BEGIN:VEVENT
DTSTART;TZID=America/Chicago:20241208T140000
DTEND;TZID=America/Chicago:20241208T170000
DTSTAMP:20260425T102621
CREATED:20241204T155650Z
LAST-MODIFIED:20241204T155652Z
UID:14698-1733666400-1733677200@www.cannonfalls.org
SUMMARY:Bingo at VFW
DESCRIPTION:
URL:https://www.cannonfalls.org/event/bingo-at-vfw/
ATTACH;FMTTYPE=image/jpeg:https://www.cannonfalls.org/wp-content/uploads/2024/12/vfw-bingo.jpg
END:VEVENT
BEGIN:VEVENT
DTSTART;TZID=America/Chicago:20241214T120000
DTEND;TZID=America/Chicago:20241214T160000
DTSTAMP:20260425T102621
CREATED:20241113T183521Z
LAST-MODIFIED:20241113T183522Z
UID:14679-1734177600-1734192000@www.cannonfalls.org
SUMMARY:Holiday Girls Day Away
DESCRIPTION:
URL:https://www.cannonfalls.org/event/holiday-girls-day-away/
LOCATION:Cannon River Winery\, 421 Mill Street West\, Cannon Falls\, MN\, 55009
ATTACH;FMTTYPE=image/jpeg:https://www.cannonfalls.org/wp-content/uploads/2024/11/winerholiday-1.jpg
END:VEVENT
BEGIN:VEVENT
DTSTART;TZID=America/Chicago:20241221T130000
DTEND;TZID=America/Chicago:20241221T160000
DTSTAMP:20260425T102621
CREATED:20241204T160022Z
LAST-MODIFIED:20241204T160023Z
UID:14704-1734786000-1734796800@www.cannonfalls.org
SUMMARY:Live Music Cannon River Winery
DESCRIPTION:
URL:https://www.cannonfalls.org/event/live-music-cannon-river-winery-35/
LOCATION:Cannon River Winery\, 421 Mill Street West\, Cannon Falls\, MN\, 55009
END:VEVENT
BEGIN:VEVENT
DTSTART;TZID=America/Chicago:20241221T130000
DTEND;TZID=America/Chicago:20241221T160000
DTSTAMP:20260425T102621
CREATED:20241216T175609Z
LAST-MODIFIED:20241216T175614Z
UID:14735-1734786000-1734796800@www.cannonfalls.org
SUMMARY:Ugly Christmas Sweater Contest
DESCRIPTION:
URL:https://www.cannonfalls.org/event/ugly-christmas-sweater-contest/
LOCATION:Cannon River Winery
ATTACH;FMTTYPE=image/png:https://www.cannonfalls.org/wp-content/uploads/2024/12/winery-sweater.png
END:VEVENT
BEGIN:VEVENT
DTSTART;TZID=America/Chicago:20241228T130000
DTEND;TZID=America/Chicago:20241228T160000
DTSTAMP:20260425T102621
CREATED:20241204T160122Z
LAST-MODIFIED:20241204T160123Z
UID:14709-1735390800-1735401600@www.cannonfalls.org
SUMMARY:Live Music Cannon River Winery
DESCRIPTION:
URL:https://www.cannonfalls.org/event/live-music-cannon-river-winery-36/
END:VEVENT
BEGIN:VEVENT
DTSTART;TZID=America/Chicago:20250103T080000
DTEND;TZID=America/Chicago:20250103T170000
DTSTAMP:20260425T102621
CREATED:20250103T180522Z
LAST-MODIFIED:20250103T180525Z
UID:14742-1735891200-1735923600@www.cannonfalls.org
SUMMARY:40 Below Comedy Show
DESCRIPTION:Welcome to The 40 Below Comedy Show!Just in time for Cabin Fever Days\, join us for a night filled with laughter and fun at Tilion Brewing Company. Our lineup of comedians (featuring Nathan Fulsebakke). Get ready for a night of non-stop entertainment and good vibes. Grab your friends and family for a memorable evening out. Don’t miss out on this amazing event!Tickets are available in advance for $20 per person ($25.06 with Eventbrite fees and sales tax) available through Eventbrite. Ticket refunds are allowed up to 7 days in advance. Tilion reserves the right to reschedule the event should there be inclement weather. This show is 18+.Grab your tickets here:https://www.eventbrite.com/…/the-40-below-comedy-show
URL:https://www.cannonfalls.org/event/40-below-comedy-show/
LOCATION:Tilion Brewing Company
ATTACH;FMTTYPE=image/jpeg:https://www.cannonfalls.org/wp-content/uploads/2025/01/tilion.jpg
END:VEVENT
BEGIN:VEVENT
DTSTART;TZID=America/Chicago:20250107T183000
DTEND;TZID=America/Chicago:20250107T200000
DTSTAMP:20260425T102621
CREATED:20241204T160300Z
LAST-MODIFIED:20241204T160302Z
UID:14712-1736274600-1736280000@www.cannonfalls.org
SUMMARY:Paint Believe Snowman
DESCRIPTION:Join us on Tuesday\, January 7th at 6:30 pm at Cannon River Winery for a fun-filled evening painting the Believe Snowman on an 11 x 14 canvas! \n\n\n\nGrab your seats here: https://brushedbydesigncreations.com/…/0107believesnowman/ \n\n\n\nWhether you are a painting enthusiast or a beginner\, our talented artist will guide you step by step\, making this a perfect event for everyone. All ages welcome and no experience needed. Design will be sketched and ready to paint using acrylics. \n\n\n\nWHEN:Tuesday\, January 7th6:30pm to 8:30pmCOST: $35 per canvas \n\n\n\nThis paint party must be pre-paid. \n\n\n\nLOCATION:Cannon River Winery421 Mill Street WestCannon Falls\, MN 55009 \n\n\n\nFood and beverage are available for purchase\, but not included in the ticket price. Arrive early and come hungry to help support an awesome venue that makes this Paint Party possible. \n\n\n\nThis is an excellent opportunity to relax\, unwind\, and make memories with your friends and family. Lots of fun and everyone leaves with a finished painting! You don’t want to miss out on this amazing event!
URL:https://www.cannonfalls.org/event/paint-believe-snowman/
END:VEVENT
BEGIN:VEVENT
DTSTART;TZID=America/Chicago:20250118T180000
DTEND;TZID=America/Chicago:20250118T230000
DTSTAMP:20260425T102621
CREATED:20241213T142201Z
LAST-MODIFIED:20241213T142203Z
UID:14732-1737223200-1737241200@www.cannonfalls.org
SUMMARY:Comedy Night at Cannon River Winery
DESCRIPTION:Tickets: https://cannonriverwinery.com/event/comedy-show/
URL:https://www.cannonfalls.org/event/comedy-night-at-cannon-river-winery/
ATTACH;FMTTYPE=image/png:https://www.cannonfalls.org/wp-content/uploads/2024/12/comdedy.png
END:VEVENT
BEGIN:VEVENT
DTSTART;TZID=America/Chicago:20250124T080000
DTEND;TZID=America/Chicago:20250125T170000
DTSTAMP:20260425T102621
CREATED:20250115T195347Z
LAST-MODIFIED:20250115T195349Z
UID:14765-1737705600-1737824400@www.cannonfalls.org
SUMMARY:Cabin Fever Days
DESCRIPTION:
URL:https://www.cannonfalls.org/event/cabin-fever-days/
END:VEVENT
BEGIN:VEVENT
DTSTART;TZID=America/Chicago:20250124T190000
DTEND;TZID=America/Chicago:20250124T210000
DTSTAMP:20260425T102621
CREATED:20250115T195554Z
LAST-MODIFIED:20250115T195557Z
UID:14768-1737745200-1737752400@www.cannonfalls.org
SUMMARY:40 Below Comedy Show
DESCRIPTION:Welcome to The 40 Below Comedy Show! \n\n\n\nJust in time for Cabin Fever Days\, join us for a night filled with laughter and fun at Tilion Brewing Company. Our lineup of comedians (featuring Nathan Fulsebakke). Get ready for a night of non-stop entertainment and good vibes. Grab your friends and family for a memorable evening out. Don’t miss out on this amazing event! \n\n\n\nTickets are available in advance for $20 per person ($25.06 with Eventbrite fees and sales tax) available through Eventbrite. Ticket refunds are allowed up to 7 days in advance. Tilion reserves the right to reschedule the event should there be inclement weather. This show is 18+. \n\n\n\nGrab your tickets here:https://www.eventbrite.com/…/the-40-below-comedy-show…
URL:https://www.cannonfalls.org/event/40-below-comedy-show-2/
END:VEVENT
BEGIN:VEVENT
DTSTART;TZID=America/Chicago:20250125T100000
DTEND;TZID=America/Chicago:20250125T110000
DTSTAMP:20260425T102621
CREATED:20250106T202045Z
LAST-MODIFIED:20250106T202048Z
UID:14746-1737799200-1737802800@www.cannonfalls.org
SUMMARY:Paint and Sip
DESCRIPTION:
URL:https://www.cannonfalls.org/event/paint-and-sip/
LOCATION:CannonBelles Coffe and Ice Cream\, 402 Mill St\, Cannon Falls
ATTACH;FMTTYPE=image/jpeg:https://www.cannonfalls.org/wp-content/uploads/2025/01/cannonbelles.jpg
END:VEVENT
BEGIN:VEVENT
DTSTART;TZID=America/Chicago:20250125T173000
DTEND;TZID=America/Chicago:20250125T220000
DTSTAMP:20260425T102621
CREATED:20241023T130900Z
LAST-MODIFIED:20241023T130901Z
UID:14628-1737826200-1737842400@www.cannonfalls.org
SUMMARY:Gnarly 1990's Murder Mystery Dinner
DESCRIPTION:Relive the era of Beanie Babies and the Spice Girls by stepping into the world of the gnarly 1990’s! Amid the neon lights and slap bracelets\, a darker underbelly emerges at a mall grand opening\, revealing secrets and suspense that will make you say “Alrighty then”! Your mission\, if you choose to accept it: untangle the mystery while navigating through ’90’s pop culture references. It’s not just nostalgia\, it’s a chance to solve a murder that’s more perplexing than a Rubik’s Cube. Dust off your Walkman\, tighten your scrunchie\, and join us in solving the crime of the decade! \n\n\n\nINFORMATION: \n\n\n\nDate: Saturday January 25th\, 2025 \n\n\n\nTime: 6:00pm – 10:00pm (Guests must arrive by: 6:00pm – Doors open at 5:30pm – Show starts at 7:00pm) \n\n\n\nLocation: The Grand O2 Event Center \n\n\n\nAddress: 32057 64th Ave\, Cannon Falls\, MN 55009 \n\n\n\nMENU: \n\n\n\n3-Course Meal with seated Dinner and Full Bar available \n\n\n\nAPPETIZERS: House-made Sourdough Pretzels\, Herb Cheese\, Apple Cider Maple Meatballs with Mixed Green Salad with a house-made herb vinaigrette \n\n\n\nENTREE (Choice of one): \n\n\n\n1). Roasted Chicken with pesto sauce\, Haricot Vert and Garlic Whipped Potatoes \n\n\n\n2). Salmon with dill yogurt sauce\, Seasoned baby carrots and Roasted Potatoes \n\n\n\n3). Vegetable tagine with a Smoked tomato broth\, Quinoa\, Seasonal Vegetables and Chickpeas (Vegetarian Option) \n\n\n\nDESSERT: Chef’s Choice \n\n\n\nTICKET COST (includes: Show\, appetizers\, entree\, dessert & Coffee and water): \n\n\n\n$76.95/ticket\, plus applicable fees & taxes (GROUP DISCOUNT – Min/Max: 8 guests) \n\n\n\n$78.95/ticket\, plus applicable fees & taxes (EARLY BIRD SPECIAL – ends – 10/31/24) \n\n\n\n$83.95/ticket\, plus applicable fees & taxes (General Admission) \n\n\n\n(PLEASE NOTE: Parties less than 6 will be seated with other parties) \n\n\n\nATTIRE:Dress to impress in true ’90s style. Whether you choose the grunge look with flannel shirts and Doc Martens\, channel your inner Spice Girl with platform shoes and girl power accessories\, or become a retro gamer with high-waisted jeans and video game tees. Our ’90s -themed murder mystery promises an unforgettable evening of nostalgia and intrigue. \n\n\n\nSee less
URL:https://www.cannonfalls.org/event/gnarly-1990s-murder-mystery-dinner/
ATTACH;FMTTYPE=image/jpeg:https://www.cannonfalls.org/wp-content/uploads/2024/10/mystery-dinner.jpg
END:VEVENT
BEGIN:VEVENT
DTSTART;TZID=America/Chicago:20250201T020000
DTEND;TZID=America/Chicago:20250201T170000
DTSTAMP:20260425T102621
CREATED:20250124T141956Z
LAST-MODIFIED:20250124T141959Z
UID:14788-1738375200-1738429200@www.cannonfalls.org
SUMMARY:BINGO Bash
DESCRIPTION:
URL:https://www.cannonfalls.org/event/bingo-bash-2/
LOCATION:Cannon Falls VFW
END:VEVENT
BEGIN:VEVENT
DTSTART;TZID=America/Chicago:20250206T060000
DTEND;TZID=America/Chicago:20250206T190000
DTSTAMP:20260425T102621
CREATED:20250203T152556Z
LAST-MODIFIED:20250203T152558Z
UID:14821-1738821600-1738868400@www.cannonfalls.org
SUMMARY:The Sonora Winds
DESCRIPTION:
URL:https://www.cannonfalls.org/event/the-sonora-winds/
LOCATION:Cannon Falls Library
ATTACH;FMTTYPE=image/png:https://www.cannonfalls.org/wp-content/uploads/2025/02/Sonora-winds-trio-212x300-1.png
END:VEVENT
END:VCALENDAR