BEGIN:VCALENDAR
VERSION:2.0
PRODID:-//Cannon Falls Area Chamber of Commerce - ECPv6.15.20//NONSGML v1.0//EN
CALSCALE:GREGORIAN
METHOD:PUBLISH
X-ORIGINAL-URL:https://www.cannonfalls.org
X-WR-CALDESC:Events for Cannon Falls Area Chamber of Commerce
REFRESH-INTERVAL;VALUE=DURATION:PT1H
X-Robots-Tag:noindex
X-PUBLISHED-TTL:PT1H
BEGIN:VTIMEZONE
TZID:America/Chicago
BEGIN:DAYLIGHT
TZOFFSETFROM:-0600
TZOFFSETTO:-0500
TZNAME:CDT
DTSTART:20240310T080000
END:DAYLIGHT
BEGIN:STANDARD
TZOFFSETFROM:-0500
TZOFFSETTO:-0600
TZNAME:CST
DTSTART:20241103T070000
END:STANDARD
BEGIN:DAYLIGHT
TZOFFSETFROM:-0600
TZOFFSETTO:-0500
TZNAME:CDT
DTSTART:20250309T080000
END:DAYLIGHT
BEGIN:STANDARD
TZOFFSETFROM:-0500
TZOFFSETTO:-0600
TZNAME:CST
DTSTART:20251102T070000
END:STANDARD
BEGIN:DAYLIGHT
TZOFFSETFROM:-0600
TZOFFSETTO:-0500
TZNAME:CDT
DTSTART:20260308T080000
END:DAYLIGHT
BEGIN:STANDARD
TZOFFSETFROM:-0500
TZOFFSETTO:-0600
TZNAME:CST
DTSTART:20261101T070000
END:STANDARD
END:VTIMEZONE
BEGIN:VEVENT
DTSTART;TZID=America/Chicago:20251018T080000
DTEND;TZID=America/Chicago:20251018T170000
DTSTAMP:20260424T171516
CREATED:20251003T171653Z
LAST-MODIFIED:20251003T171655Z
UID:15382-1760774400-1760806800@www.cannonfalls.org
SUMMARY:Dryland Dog Powered Race
DESCRIPTION:
URL:https://www.cannonfalls.org/event/dryland-dog-powered-race/
ATTACH;FMTTYPE=image/jpeg:https://www.cannonfalls.org/wp-content/uploads/2025/10/dog.jpeg
END:VEVENT
BEGIN:VEVENT
DTSTART;TZID=America/Chicago:20251018T190000
DTEND;TZID=America/Chicago:20251018T210000
DTSTAMP:20260424T171516
CREATED:20250820T134726Z
LAST-MODIFIED:20250820T134727Z
UID:15275-1760814000-1760821200@www.cannonfalls.org
SUMMARY:Rockin' Hollywoods Concert Fundrasier by the Cannon Valley Senior Center
DESCRIPTION:Get ready for an unforgettable night! \n\n\n\nThe CVSC Fundraiser Concert featuring The Rockin’ Hollywoods is happening on Oct. 18\, 2025 at 7 PM at the Cannon Falls High School Auditorium. All seats general admission pre purchase for $35 or $40 at the door. Tickets are on sale NOW at the Office\, through any board member\, or online at Eventbrite.com Don’t miss your chance to support a great cause and enjoy amazing music!
URL:https://www.cannonfalls.org/event/rockin-hollywoods-concert-fundrasier-by-the-cannon-valley-senior-center/
ATTACH;FMTTYPE=image/jpeg:https://www.cannonfalls.org/wp-content/uploads/2025/08/senior-center-concert.jpg
END:VEVENT
END:VCALENDAR