BEGIN:VCALENDAR
VERSION:2.0
PRODID:-//Cannon Falls Area Chamber of Commerce - ECPv6.15.20//NONSGML v1.0//EN
CALSCALE:GREGORIAN
METHOD:PUBLISH
X-ORIGINAL-URL:https://www.cannonfalls.org
X-WR-CALDESC:Events for Cannon Falls Area Chamber of Commerce
REFRESH-INTERVAL;VALUE=DURATION:PT1H
X-Robots-Tag:noindex
X-PUBLISHED-TTL:PT1H
BEGIN:VTIMEZONE
TZID:America/Chicago
BEGIN:DAYLIGHT
TZOFFSETFROM:-0600
TZOFFSETTO:-0500
TZNAME:CDT
DTSTART:20240310T080000
END:DAYLIGHT
BEGIN:STANDARD
TZOFFSETFROM:-0500
TZOFFSETTO:-0600
TZNAME:CST
DTSTART:20241103T070000
END:STANDARD
BEGIN:DAYLIGHT
TZOFFSETFROM:-0600
TZOFFSETTO:-0500
TZNAME:CDT
DTSTART:20250309T080000
END:DAYLIGHT
BEGIN:STANDARD
TZOFFSETFROM:-0500
TZOFFSETTO:-0600
TZNAME:CST
DTSTART:20251102T070000
END:STANDARD
BEGIN:DAYLIGHT
TZOFFSETFROM:-0600
TZOFFSETTO:-0500
TZNAME:CDT
DTSTART:20260308T080000
END:DAYLIGHT
BEGIN:STANDARD
TZOFFSETFROM:-0500
TZOFFSETTO:-0600
TZNAME:CST
DTSTART:20261101T070000
END:STANDARD
END:VTIMEZONE
BEGIN:VEVENT
DTSTART;TZID=America/Chicago:20250927T110000
DTEND;TZID=America/Chicago:20250927T140000
DTSTAMP:20260424T183359
CREATED:20250925T160056Z
LAST-MODIFIED:20250925T160246Z
UID:15345-1758970800-1758981600@www.cannonfalls.org
SUMMARY:Voices in the Valley
DESCRIPTION:Programs take place on Saturdays during the months of  May through September from 11am-2 pm  at Cannon Valley Trail Welch Station Access.
URL:https://www.cannonfalls.org/event/voices-in-the-valley/
LOCATION:Cannon Valley Trail Welch Station Access\, 26674 144th Ave Way\, Welch\, Minnesota\, 55089
ATTACH;FMTTYPE=image/jpeg:https://www.cannonfalls.org/wp-content/uploads/2025/09/hartl.jpg
END:VEVENT
BEGIN:VEVENT
DTSTART;TZID=America/Chicago:20250927T120000
DTEND;TZID=America/Chicago:20250927T210000
DTSTAMP:20260424T183359
CREATED:20250804T163842Z
LAST-MODIFIED:20250804T163843Z
UID:15223-1758974400-1759006800@www.cannonfalls.org
SUMMARY:Oktoberfest
DESCRIPTION:Prost! It’s Time for Oktoberfest! One of our biggest and most beloved events of the year is back — and you’re invited! \n\n\n\nGet ready for a full day of cold beer\, delicious food\, epic games\, and non-stop fun. Whether you’re here to compete\, feast\, or just soak up the vibes\, there’s something for everyone. \n\n\n\nEvent Highlights: \n\n\n\n12:00 PM – Fire up your appetite with juicy Brats & Turkey Brats \n\n\n\n12:00 PM – Corn Hole Team Registration opens – grab a partner and sign up! \n\n\n\n1:00 PM – Corn Hole Tournament kicks off (Single Elimination – Cash Prizes! ) \n\n\n\n2:00 PM – Test your strength in the Stein Holding Contest (Prizes for the champs! ) \n\n\n\n3:00 PM – Laugh your way through the Drunken German Spelling Bee  \n\n\n\n Plus music\, brews\, and good vibes ALL DAY LONG!
URL:https://www.cannonfalls.org/event/oktoberfest/
ATTACH;FMTTYPE=image/jpeg:https://www.cannonfalls.org/wp-content/uploads/2025/08/oktoberfest.jpg
END:VEVENT
END:VCALENDAR