BEGIN:VCALENDAR
VERSION:2.0
PRODID:-//Cannon Falls Area Chamber of Commerce - ECPv6.15.20//NONSGML v1.0//EN
CALSCALE:GREGORIAN
METHOD:PUBLISH
X-WR-CALNAME:Cannon Falls Area Chamber of Commerce
X-ORIGINAL-URL:https://www.cannonfalls.org
X-WR-CALDESC:Events for Cannon Falls Area Chamber of Commerce
REFRESH-INTERVAL;VALUE=DURATION:PT1H
X-Robots-Tag:noindex
X-PUBLISHED-TTL:PT1H
BEGIN:VTIMEZONE
TZID:America/Chicago
BEGIN:DAYLIGHT
TZOFFSETFROM:-0600
TZOFFSETTO:-0500
TZNAME:CDT
DTSTART:20240310T080000
END:DAYLIGHT
BEGIN:STANDARD
TZOFFSETFROM:-0500
TZOFFSETTO:-0600
TZNAME:CST
DTSTART:20241103T070000
END:STANDARD
BEGIN:DAYLIGHT
TZOFFSETFROM:-0600
TZOFFSETTO:-0500
TZNAME:CDT
DTSTART:20250309T080000
END:DAYLIGHT
BEGIN:STANDARD
TZOFFSETFROM:-0500
TZOFFSETTO:-0600
TZNAME:CST
DTSTART:20251102T070000
END:STANDARD
BEGIN:DAYLIGHT
TZOFFSETFROM:-0600
TZOFFSETTO:-0500
TZNAME:CDT
DTSTART:20260308T080000
END:DAYLIGHT
BEGIN:STANDARD
TZOFFSETFROM:-0500
TZOFFSETTO:-0600
TZNAME:CST
DTSTART:20261101T070000
END:STANDARD
END:VTIMEZONE
BEGIN:VEVENT
DTSTART;TZID=America/Chicago:20250912T080000
DTEND;TZID=America/Chicago:20250913T170000
DTSTAMP:20260424T183251
CREATED:20250818T154703Z
LAST-MODIFIED:20250818T154704Z
UID:15272-1757664000-1757782800@www.cannonfalls.org
SUMMARY:City-Wide Garage Sale
DESCRIPTION:
URL:https://www.cannonfalls.org/event/city-wide-garage-sale-3/
ATTACH;FMTTYPE=image/jpeg:https://www.cannonfalls.org/wp-content/uploads/2025/08/garage-sale.jpg
END:VEVENT
BEGIN:VEVENT
DTSTART;TZID=America/Chicago:20250913T083000
DTEND;TZID=America/Chicago:20250913T130000
DTSTAMP:20260424T183251
CREATED:20250903T162927Z
LAST-MODIFIED:20250903T162928Z
UID:15312-1757752200-1757768400@www.cannonfalls.org
SUMMARY:THE ONLY EVENT OF ITS KIND IN MINNESOTA!
DESCRIPTION:Be a Part of our Harvest CReW with Cannon River Winery by Registering Today for the Fall Harvest Experience! \n\n\n\n$25/person (Price goes up to $30/person 9/1) \n\n\n\nIncludes shuttled transportation to and from the Winery and Vineyard\, an educational\, hands-on harvesting experience\, followed by a delicious catered meal and WINE TASTING. All this with the breathtaking views of the Sogn Valley as your backdrop. When you return to the winery\, you will have the chance to get an up-close and personal demonstration of the de-stemming process as well as coupons to use on Winery purchases.Reservations are required for this event. The harvest fills up quickly\, so please register today.
URL:https://www.cannonfalls.org/event/the-only-event-of-its-kind-in-minnesota/
ATTACH;FMTTYPE=image/jpeg:https://www.cannonfalls.org/wp-content/uploads/2025/09/fall-harvest.jpg
END:VEVENT
BEGIN:VEVENT
DTSTART;TZID=America/Chicago:20250913T110000
DTEND;TZID=America/Chicago:20250913T140000
DTSTAMP:20260424T183251
CREATED:20250521T152030Z
LAST-MODIFIED:20250521T152031Z
UID:15144-1757761200-1757772000@www.cannonfalls.org
SUMMARY:Voices of the Valley
DESCRIPTION:Saturday\, September 13 \n\n\n\nLive Music – Tom Peschges – guitar & vocal \n\n\n\nVoices of the Valley is a Cannon Valley Trail program designed to assist a visitor’s exploration and enjoyment of the Cannon River Valley.   \n\n\n\nPlease note throughout the season some Voices of the Valley programs may be cancelled/rescheduled due to inclement weather. \n\n\n\nTopics include – Archeology\, Geology\, Native American Studies\, Railroad History\, Tree Talk\, Wildflowers\, or other Natural and Cultural programs.  \n\n\n\nLocal musicians share their talents. \n\n\n\nPrograms take place on Saturdays during the months of  May through September from 11am-2 pm  at Cannon Valley Trail Welch Station Access.
URL:https://www.cannonfalls.org/event/voices-of-the-valley-13/
ATTACH;FMTTYPE=image/jpeg:https://www.cannonfalls.org/wp-content/uploads/2025/05/Voices-of-the-Valley.jpg
END:VEVENT
BEGIN:VEVENT
DTSTART;TZID=America/Chicago:20250913T120000
DTEND;TZID=America/Chicago:20250913T210000
DTSTAMP:20260424T183251
CREATED:20250718T160220Z
LAST-MODIFIED:20250718T160224Z
UID:15197-1757764800-1757797200@www.cannonfalls.org
SUMMARY:Monster Truck Mania
DESCRIPTION:Get the chance to ride in a REAL monster truck! \n\n\n\nFor the FIRST TIME EVER! Monster Truck Mania is coming to Cannon Falls\, MN – don’t miss all the high-energy excitement and family-friendly motorsports fun! \n\n\n\nSeptember 13\, 2025 at Cannon Valley Fairgrounds \n\n\n\nBuy tickets online at Attendstar: https://event.attendstar.com/…/monster-truck-mania…/ \n\n\n\nFeaturing GIANT National TV Monster Trucks including world-famous OUTLAW\, the brand-new SHARK ATTACK\, the ferocious debut of T-REX\, and from Tombstone\, AZ\, SHERIFF! See these superstars as they compete in earth-shaking\, ground-pounding\, high-flying excitement and get a chance to ride on SERGEANT SMASH! \n\n\n\nSee these superstars as they compete in earth-shaking\, ground-pounding\, high-flying competition. \n\n\n\nEver wonder what it feels like to RIDE in a real monster truck?? Don’t miss the once in a lifetime opportunity to ride in our SERGEANT SMASH ride truck for yourself! \n\n\n\nSpecial Feature: QUAD WARS – see the pros in wheel to wheel racing action on our fast track for a big cash purse & bragging rights! \n\n\n\nKIDS POWER WHEEL RACES: Kids can be a part of the show! Bring a power wheel and cheer them on as they race around the track. \n\n\n\nLIMITED SUPPLY OF ADVANCE CHILD TICKETS ARE ONLY $15! Child General Admission limited supply of 300 tickets – get’em while they last & save up to 50% off gate ticket prices!You don’t want to miss out on all the excitement\, bring the whole family out to see these amazing Monsters! \n\n\n\nThe show has a Pre-show Meet & Greet PIT PARTY with a Kid’s FUN ZONE. Kids can get up close to huge monster trucks and see the track up close where all the Monster Truck battles happen. Admission Only $5.00 to enter the Pre-show PIT PARTY (cash only at the venue). Tickets are also available online in advance. \n\n\n\nSaturday\, September 13\, 2025 \n\n\n\n12:00 PM MATINEE SHOW:VIP gates open at 10:00AM.VIP Pre-show Meet & Greet Pit Party with Kids Zone begins at 10:00AMGeneral Admission gates open at 10:30AMGeneral Admission Pre-show Meet & Greet Pit Party with Kids Zone 10:30am-11:30amPit Party admission tickets only $5.00! Pit Party Included with VIP Tickets! Must have show admission tickets before purchasing Pit Party Pass.Show starts at 12:00pm and ends approx. 1:30pmPost show drivers autographs near Merchandise Stand \n\n\n\n6:00 PM EVENING SHOW:VIP gates open at 4:00PMVIP Pre-show Meet & Greet Pit Party with Kids Zone begins at 4:00PMGeneral Admission gates open at 4:30PMGeneral Admission Pre-show Meet & Greet Pit Party with Kids Zone 4:30pm-5:30pmPit Party admission tickets only $5.00! Pit Party Included with VIP Tickets! Must have show admission tickets before purchasing Pit Party Pass.Show starts at 6:00pm and ends approx. 7:30pmPost show drivers autographs near Merchandise Stand \n\n\n\nPit Party admission tickets only $5.00! Pit Party Included with VIP Tickets! Must have show admission tickets before purchasing Pit Party Pass. \n\n\n\nAdvanced ticket prices may fluctuate based on current ticket supply & demand\, and seating is LIMITED so be sure to BUY NOW! \n\n\n\nYou can also purchase tickets at the gate on the day of the show\, SUBJECT TO AVAILABILITY. Ticket prices are higher at the gate the day of the show. Cash Only. \n\n\n\nVIP Reserved Seating comes with the “Best Seat in the House” as well as the Pre-Show Meet & Greet Pit Party FREE to VIP guest! Limited Supply of VIP tickets – Get’em while they last. \n\n\n\nNo outside food/drinks or coolers allowed into the facility. Food and drink available for purchase on site. Cash only. \n\n\n\nA parking fee may apply. Talent & show programming is subject to change without notice. There is no authorized re-selling of tickets for this event. \n\n\n\nProduced & Promoted by: Monster Truck Mania \n\n\n\nSee you there!
URL:https://www.cannonfalls.org/event/monster-truck-mania/
LOCATION:Cannon Valley Fairgrounds\, 800 N 9th ST\, Cannon Falls\, Minnesota\, 55009
ATTACH;FMTTYPE=image/jpeg:https://www.cannonfalls.org/wp-content/uploads/2025/07/Monster-truck.jpg
END:VEVENT
BEGIN:VEVENT
DTSTART;TZID=America/Chicago:20250913T150000
DTEND;TZID=America/Chicago:20250913T200000
DTSTAMP:20260424T183251
CREATED:20250818T153951Z
LAST-MODIFIED:20250818T153952Z
UID:15266-1757775600-1757793600@www.cannonfalls.org
SUMMARY:Cannon Falls Bears Baggo Tournament
DESCRIPTION:
URL:https://www.cannonfalls.org/event/cannon-falls-bears-baggo-tournament/
ATTACH;FMTTYPE=image/jpeg:https://www.cannonfalls.org/wp-content/uploads/2025/08/bagoo.jpg
END:VEVENT
BEGIN:VEVENT
DTSTART;TZID=America/Chicago:20250913T170000
DTEND;TZID=America/Chicago:20250913T190000
DTSTAMP:20260424T183251
CREATED:20250903T162547Z
LAST-MODIFIED:20250903T162548Z
UID:15305-1757782800-1757790000@www.cannonfalls.org
SUMMARY:Homegrown Harvest Dinner
DESCRIPTION:Join us for a delicious farm-fresh meal featuring collaborations between local food trucks\, farmers\, and value-added producers to establish the Farmer-to-Farmer Fund\, a new fund to support farmers in times of crisis. Ticket sales are only open until September 8: please see the button below to reserve your place at the table today!! \n\n\n\nThe evening’s multi-course menu is an invitation to experience\, explore\, and get to know the flavors of our region while the ticket sales of the meal go to building the foundation for a fund that will lend a hand to farmers in need. You can see the menu here: https://docs.google.com/…/1cRkfauJDs4MlFzfUW…/edit… \n\n\n\nFerndale Market will be open before and after the dinner so you can take locally grown ingredients home. Join us to forge new relationships\, build resiliency\, and support our local farming community. \n\n\n\n\n\n\n\nCFcocadminEdit Profile
URL:https://www.cannonfalls.org/event/homegrown-harvest-dinner/
ATTACH;FMTTYPE=image/png:https://www.cannonfalls.org/wp-content/uploads/2025/09/homegrown-dinner.png
END:VEVENT
END:VCALENDAR