BEGIN:VCALENDAR
VERSION:2.0
PRODID:-//Cannon Falls Area Chamber of Commerce - ECPv6.15.20//NONSGML v1.0//EN
CALSCALE:GREGORIAN
METHOD:PUBLISH
X-WR-CALNAME:Cannon Falls Area Chamber of Commerce
X-ORIGINAL-URL:https://www.cannonfalls.org
X-WR-CALDESC:Events for Cannon Falls Area Chamber of Commerce
REFRESH-INTERVAL;VALUE=DURATION:PT1H
X-Robots-Tag:noindex
X-PUBLISHED-TTL:PT1H
BEGIN:VTIMEZONE
TZID:America/Chicago
BEGIN:DAYLIGHT
TZOFFSETFROM:-0600
TZOFFSETTO:-0500
TZNAME:CDT
DTSTART:20240310T080000
END:DAYLIGHT
BEGIN:STANDARD
TZOFFSETFROM:-0500
TZOFFSETTO:-0600
TZNAME:CST
DTSTART:20241103T070000
END:STANDARD
BEGIN:DAYLIGHT
TZOFFSETFROM:-0600
TZOFFSETTO:-0500
TZNAME:CDT
DTSTART:20250309T080000
END:DAYLIGHT
BEGIN:STANDARD
TZOFFSETFROM:-0500
TZOFFSETTO:-0600
TZNAME:CST
DTSTART:20251102T070000
END:STANDARD
BEGIN:DAYLIGHT
TZOFFSETFROM:-0600
TZOFFSETTO:-0500
TZNAME:CDT
DTSTART:20260308T080000
END:DAYLIGHT
BEGIN:STANDARD
TZOFFSETFROM:-0500
TZOFFSETTO:-0600
TZNAME:CST
DTSTART:20261101T070000
END:STANDARD
END:VTIMEZONE
BEGIN:VEVENT
DTSTART;TZID=America/Chicago:20250517T073000
DTEND;TZID=America/Chicago:20250517T123000
DTSTAMP:20260424T225933
CREATED:20250516T165825Z
LAST-MODIFIED:20250516T165902Z
UID:15115-1747467000-1747485000@www.cannonfalls.org
SUMMARY:Farmer's Market
DESCRIPTION:
URL:https://www.cannonfalls.org/event/farmers-market-10/
ATTACH;FMTTYPE=image/jpeg:https://www.cannonfalls.org/wp-content/uploads/2025/05/farmers-market.jpg
END:VEVENT
BEGIN:VEVENT
DTSTART;TZID=America/Chicago:20250517T080000
DTEND;TZID=America/Chicago:20250517T110000
DTSTAMP:20260424T225933
CREATED:20250414T142050Z
LAST-MODIFIED:20250414T142051Z
UID:15055-1747468800-1747479600@www.cannonfalls.org
SUMMARY:Plant Fundraiser
DESCRIPTION:
URL:https://www.cannonfalls.org/event/plant-fundraiser/
ATTACH;FMTTYPE=image/jpeg:https://www.cannonfalls.org/wp-content/uploads/2025/04/plant.jpg
END:VEVENT
BEGIN:VEVENT
DTSTART;TZID=America/Chicago:20250517T090000
DTEND;TZID=America/Chicago:20250517T150000
DTSTAMP:20260424T225933
CREATED:20250414T133923Z
LAST-MODIFIED:20250516T164900Z
UID:15052-1747472400-1747494000@www.cannonfalls.org
SUMMARY:Cannon Power Sports Open House
DESCRIPTION:SAVE THE DATES!!!!! \n\n\n\nFriday May 16th and Saturday May 17th! \n\n\n\nCHICK-FIL-A FOOD TRUCK! \n\n\n\nSegway Powersports demo rides! \n\n\n\nMore details coming soon!
URL:https://www.cannonfalls.org/event/cannon-power-sports-open-house/
ATTACH;FMTTYPE=image/jpeg:https://www.cannonfalls.org/wp-content/uploads/2025/04/cannonpower.jpg
END:VEVENT
END:VCALENDAR