BEGIN:VCALENDAR
VERSION:2.0
PRODID:-//Cannon Falls Area Chamber of Commerce - ECPv6.15.20//NONSGML v1.0//EN
CALSCALE:GREGORIAN
METHOD:PUBLISH
X-WR-CALNAME:Cannon Falls Area Chamber of Commerce
X-ORIGINAL-URL:https://www.cannonfalls.org
X-WR-CALDESC:Events for Cannon Falls Area Chamber of Commerce
REFRESH-INTERVAL;VALUE=DURATION:PT1H
X-Robots-Tag:noindex
X-PUBLISHED-TTL:PT1H
BEGIN:VTIMEZONE
TZID:America/Chicago
BEGIN:DAYLIGHT
TZOFFSETFROM:-0600
TZOFFSETTO:-0500
TZNAME:CDT
DTSTART:20230312T080000
END:DAYLIGHT
BEGIN:STANDARD
TZOFFSETFROM:-0500
TZOFFSETTO:-0600
TZNAME:CST
DTSTART:20231105T070000
END:STANDARD
BEGIN:DAYLIGHT
TZOFFSETFROM:-0600
TZOFFSETTO:-0500
TZNAME:CDT
DTSTART:20240310T080000
END:DAYLIGHT
BEGIN:STANDARD
TZOFFSETFROM:-0500
TZOFFSETTO:-0600
TZNAME:CST
DTSTART:20241103T070000
END:STANDARD
BEGIN:DAYLIGHT
TZOFFSETFROM:-0600
TZOFFSETTO:-0500
TZNAME:CDT
DTSTART:20250309T080000
END:DAYLIGHT
BEGIN:STANDARD
TZOFFSETFROM:-0500
TZOFFSETTO:-0600
TZNAME:CST
DTSTART:20251102T070000
END:STANDARD
END:VTIMEZONE
BEGIN:VEVENT
DTSTART;TZID=America/Chicago:20241101T080000
DTEND;TZID=America/Chicago:20241103T170000
DTSTAMP:20260425T074019
CREATED:20240719T140726Z
LAST-MODIFIED:20240719T140728Z
UID:14310-1730448000-1730653200@www.cannonfalls.org
SUMMARY:Craft Retreat
DESCRIPTION:A Crafting Retreat is an in-person all-inclusive weekend event that gives crafters (all-levels) the perfect opportunity to escape from the daily stresses of life\, work on holiday craft projects\, catch up with friends & fellow crafters\, and focus on SELF-CARE.Quilting\, Weaving\, Crocheting\, Scrapbooking\, Knitting\, Jewelry\, Painting\, Woodworking\, Etc…. ALL WELCOME!!!!!The Crafting Retreat will be held at The Grand O2 Event Center\, Cannon Falls\, MN.DATES:Friday November 1st\, 2024 – Sunday November 3rd\, 2024.TIMES:Friday 11/1/24: 2:00pm (check-in/set-up) – 9:00pmSaturday 11/2/24: 9:00am – 7:00pmSunday 11/3/24: 8:00am – 2:00pmWe offer an all-inclusive price – that includes all meals\, beverages\, one FREE wine/mimosa/beer every day\, crafting space\, table\, chair\, WiFi & electricity.$130/crafterIf interested in this amazing event. Please fill out registration form (below). Space is limited. Registration must be received by Deadline (October 28th\, 2024).https://form.jotform.com/221374469014151More information on this amazing event\, visit website: www.thegrando2eventcenter.com(Click on “MENU” and then click tab “CRAFT RETREAT 2024”
URL:https://www.cannonfalls.org/event/craft-retreat/
LOCATION:The Grand 02 Event Center\, 32057 64th Ave\, Cannon Falls\, MN\, 55009
ATTACH;FMTTYPE=image/jpeg:https://www.cannonfalls.org/wp-content/uploads/2024/07/craft-retreat.jpg
END:VEVENT
BEGIN:VEVENT
DTSTART;TZID=America/Chicago:20241102T090000
DTEND;TZID=America/Chicago:20241102T150000
DTSTAMP:20260425T074019
CREATED:20241004T161235Z
LAST-MODIFIED:20241004T161237Z
UID:14581-1730538000-1730559600@www.cannonfalls.org
SUMMARY:Vasa Bazaar Craft Sale
DESCRIPTION:
URL:https://www.cannonfalls.org/event/vasa-bazaar-craft-sale/
LOCATION:15235 Norelius Rd Welch MN
ATTACH;FMTTYPE=image/jpeg:https://www.cannonfalls.org/wp-content/uploads/2024/10/vasa.jpg
END:VEVENT
BEGIN:VEVENT
DTSTART;TZID=America/Chicago:20241102T110000
DTEND;TZID=America/Chicago:20241102T110000
DTSTAMP:20260425T074019
CREATED:20240826T193636Z
LAST-MODIFIED:20240826T193639Z
UID:14446-1730545200-1730545200@www.cannonfalls.org
SUMMARY:Candle Decorating Workshop
DESCRIPTION:Taylor & CO Health and Wellness Boutique present: \n\n\n\nCandle Decorating Class \n\n\n\nJoin us for Glow & Create\, a Candle Decorating Workshop hosted by Taylor & Co. \n\n\n\nThis event invites you to immerse yourself in a creative experience while embracing natural wellness. \n\n\n\nJoin in for an afternoon of crafting\, socializing\, and snacks! \n\n\n\nSaturday November 2nd\, 2024 @ 11:00am \n\n\n\nThe Grand O2 Event Center \n\n\n\n32057 64th Ave\, Cannon Falls\, MN 55009 \n\n\n\nCost: $25 \n\n\n\nSign up below to be a part of this amazing event: \n\n\n\n\nhttps://taylorandco.boutique/event/candle-decorating-class
URL:https://www.cannonfalls.org/event/candle-decorating-workshop/
ATTACH;FMTTYPE=image/jpeg:https://www.cannonfalls.org/wp-content/uploads/2024/08/candle.jpg
END:VEVENT
BEGIN:VEVENT
DTSTART;TZID=America/Chicago:20241102T150000
DTEND;TZID=America/Chicago:20241102T150000
DTSTAMP:20260425T074019
CREATED:20240826T193518Z
LAST-MODIFIED:20240826T193921Z
UID:14443-1730559600-1730559600@www.cannonfalls.org
SUMMARY:Spruce Top Planter Workshop
DESCRIPTION:Create a customized spruce top planter for your winter décor! \n\n\n\nStarting with a 12” pot\, you will build a stunning planter using fresh greens such as evergreens\, fir\, juniper\, and organza. Then\, you will add whimsical embellishments such as dogwood and birch branches\, ornaments\, berries\, and bows. \n\n\n\nAll supplies are included\, and you will leave with a finished planter ready to display! (Some supplies may differ depending on availability.)” \n\n\n\nCOST: $45 \n\n\n\nSaturday November 2nd\, 2024 \n\n\n\n3:00pm \n\n\n\nThe Grand O2 Event Center \n\n\n\n32057 64th Ave\, Cannon Falls\, MN 55009 \n\n\n\nPlease click link below for more information\, registration and payment: \n\n\n\n\nhttps://allevents.in/…/spruce-top…/80007792301283
URL:https://www.cannonfalls.org/event/spruce-top-planter-workshop/
ATTACH;FMTTYPE=image/jpeg:https://www.cannonfalls.org/wp-content/uploads/2024/08/spruce-top.jpg
END:VEVENT
END:VCALENDAR