BEGIN:VCALENDAR
VERSION:2.0
PRODID:-//Cannon Falls Area Chamber of Commerce - ECPv6.15.20//NONSGML v1.0//EN
CALSCALE:GREGORIAN
METHOD:PUBLISH
X-WR-CALNAME:Cannon Falls Area Chamber of Commerce
X-ORIGINAL-URL:https://www.cannonfalls.org
X-WR-CALDESC:Events for Cannon Falls Area Chamber of Commerce
REFRESH-INTERVAL;VALUE=DURATION:PT1H
X-Robots-Tag:noindex
X-PUBLISHED-TTL:PT1H
BEGIN:VTIMEZONE
TZID:America/Chicago
BEGIN:DAYLIGHT
TZOFFSETFROM:-0600
TZOFFSETTO:-0500
TZNAME:CDT
DTSTART:20230312T080000
END:DAYLIGHT
BEGIN:STANDARD
TZOFFSETFROM:-0500
TZOFFSETTO:-0600
TZNAME:CST
DTSTART:20231105T070000
END:STANDARD
BEGIN:DAYLIGHT
TZOFFSETFROM:-0600
TZOFFSETTO:-0500
TZNAME:CDT
DTSTART:20240310T080000
END:DAYLIGHT
BEGIN:STANDARD
TZOFFSETFROM:-0500
TZOFFSETTO:-0600
TZNAME:CST
DTSTART:20241103T070000
END:STANDARD
BEGIN:DAYLIGHT
TZOFFSETFROM:-0600
TZOFFSETTO:-0500
TZNAME:CDT
DTSTART:20250309T080000
END:DAYLIGHT
BEGIN:STANDARD
TZOFFSETFROM:-0500
TZOFFSETTO:-0600
TZNAME:CST
DTSTART:20251102T070000
END:STANDARD
END:VTIMEZONE
BEGIN:VEVENT
DTSTART;TZID=America/Chicago:20241026T070000
DTEND;TZID=America/Chicago:20241026T210000
DTSTAMP:20260425T085952
CREATED:20240826T142243Z
LAST-MODIFIED:20240826T142246Z
UID:14440-1729926000-1729976400@www.cannonfalls.org
SUMMARY:Cannon's Got Talent
DESCRIPTION:Here’s your chance to show your talent! All talents welcomed.
URL:https://www.cannonfalls.org/event/cannons-got-talent/
LOCATION:Cannon Falls Schools\, 820 Minnesota St E\, Cannon Falls\, MN\, 55009
ATTACH;FMTTYPE=image/jpeg:https://www.cannonfalls.org/wp-content/uploads/2024/08/cannons-got-talent.jpg
END:VEVENT
BEGIN:VEVENT
DTSTART;TZID=America/Chicago:20241026T120000
DTEND;TZID=America/Chicago:20241026T130000
DTSTAMP:20260425T085952
CREATED:20240729T163214Z
LAST-MODIFIED:20240729T163216Z
UID:14362-1729944000-1729947600@www.cannonfalls.org
SUMMARY:Candle Pouring Class
DESCRIPTION:
URL:https://www.cannonfalls.org/event/candle-pouring-class-2/
LOCATION:Cannon River Winery\, 421 Mill Street West\, Cannon Falls\, MN\, 55009
ATTACH;FMTTYPE=image/jpeg:https://www.cannonfalls.org/wp-content/uploads/2024/07/candle-octo.jpg
END:VEVENT
BEGIN:VEVENT
DTSTART;TZID=America/Chicago:20241026T170000
DTEND;TZID=America/Chicago:20241026T220000
DTSTAMP:20260425T085952
CREATED:20240904T194210Z
LAST-MODIFIED:20240904T194212Z
UID:14527-1729962000-1729980000@www.cannonfalls.org
SUMMARY:Fright Night Halloween Party
DESCRIPTION:Heavy Hors D’oeurvesSpooky CocktailsInteractive Mystery Clue Game – 6:00pmLive Band & Dance – 7:00pmBest Costume Prizes \n\n\n\nTickets Online -$48 per person$360 per table \n\n\n\nWe suggest purchasing a table ticket\,as your table will interact for the Mystery Game. Tables can seat up to 6-8 people. \n\n\n\nSee less
URL:https://www.cannonfalls.org/event/fright-night-halloween-party/
LOCATION:Cannon River Winery
ATTACH;FMTTYPE=image/jpeg:https://www.cannonfalls.org/wp-content/uploads/2024/09/winery-halloween.jpg
END:VEVENT
END:VCALENDAR