BEGIN:VCALENDAR
VERSION:2.0
PRODID:-//Cannon Falls Area Chamber of Commerce - ECPv6.15.20//NONSGML v1.0//EN
CALSCALE:GREGORIAN
METHOD:PUBLISH
X-ORIGINAL-URL:https://www.cannonfalls.org
X-WR-CALDESC:Events for Cannon Falls Area Chamber of Commerce
REFRESH-INTERVAL;VALUE=DURATION:PT1H
X-Robots-Tag:noindex
X-PUBLISHED-TTL:PT1H
BEGIN:VTIMEZONE
TZID:America/Chicago
BEGIN:DAYLIGHT
TZOFFSETFROM:-0600
TZOFFSETTO:-0500
TZNAME:CDT
DTSTART:20230312T080000
END:DAYLIGHT
BEGIN:STANDARD
TZOFFSETFROM:-0500
TZOFFSETTO:-0600
TZNAME:CST
DTSTART:20231105T070000
END:STANDARD
BEGIN:DAYLIGHT
TZOFFSETFROM:-0600
TZOFFSETTO:-0500
TZNAME:CDT
DTSTART:20240310T080000
END:DAYLIGHT
BEGIN:STANDARD
TZOFFSETFROM:-0500
TZOFFSETTO:-0600
TZNAME:CST
DTSTART:20241103T070000
END:STANDARD
BEGIN:DAYLIGHT
TZOFFSETFROM:-0600
TZOFFSETTO:-0500
TZNAME:CDT
DTSTART:20250309T080000
END:DAYLIGHT
BEGIN:STANDARD
TZOFFSETFROM:-0500
TZOFFSETTO:-0600
TZNAME:CST
DTSTART:20251102T070000
END:STANDARD
END:VTIMEZONE
BEGIN:VEVENT
DTSTART;TZID=America/Chicago:20241019T090000
DTEND;TZID=America/Chicago:20241019T170000
DTSTAMP:20260425T090003
CREATED:20240823T134517Z
LAST-MODIFIED:20240823T134521Z
UID:14424-1729328400-1729357200@www.cannonfalls.org
SUMMARY:Gopher Hills Chili Open
DESCRIPTION:Save the Date!!! Gopher Hills Chili Open Skins Game Saturday Oct 19th. Get your 3 person team signed up today. 507-263-2507
URL:https://www.cannonfalls.org/event/gopher-hills-chili-open/
ATTACH;FMTTYPE=image/jpeg:https://www.cannonfalls.org/wp-content/uploads/2024/08/gopher-hills.jpg
END:VEVENT
BEGIN:VEVENT
DTSTART;TZID=America/Chicago:20241019T100000
DTEND;TZID=America/Chicago:20241019T140000
DTSTAMP:20260425T090003
CREATED:20241004T162133Z
LAST-MODIFIED:20241004T162135Z
UID:14586-1729332000-1729346400@www.cannonfalls.org
SUMMARY:Minnesota Fire Engine Club Open House
DESCRIPTION:Welcome to the first-ever open house for the Minnesota Fire Engine Club. This is a family-friendly event! We will have fire trucks\, water demos\, historical displays\, and hot food sold on-site. Come on out! Hope to see you
URL:https://www.cannonfalls.org/event/minnesota-fire-engine-club-open-house/
LOCATION:430 Dakota St W\, Cannon Falls\, MN 55009-1511\, United States
ATTACH;FMTTYPE=image/png:https://www.cannonfalls.org/wp-content/uploads/2024/10/Screenshot-2024-10-04-at-11-20-17-13-Minnesota-Fire-Engine-Club-Open-House-Facebook.png
END:VEVENT
BEGIN:VEVENT
DTSTART;TZID=America/Chicago:20241019T103000
DTEND;TZID=America/Chicago:20241019T113000
DTSTAMP:20260425T090003
CREATED:20241004T142458Z
LAST-MODIFIED:20241004T142502Z
UID:14578-1729333800-1729337400@www.cannonfalls.org
SUMMARY:Meet the Candidates
DESCRIPTION:
URL:https://www.cannonfalls.org/event/meet-the-candidates-2/
ATTACH;FMTTYPE=image/jpeg:https://www.cannonfalls.org/wp-content/uploads/2024/10/meetcandidates.jpg
END:VEVENT
BEGIN:VEVENT
DTSTART;TZID=America/Chicago:20241019T190000
DTEND;TZID=America/Chicago:20241019T210000
DTSTAMP:20260425T090003
CREATED:20240715T144654Z
LAST-MODIFIED:20240715T144655Z
UID:14287-1729364400-1729371600@www.cannonfalls.org
SUMMARY:Celebrating Neil Diamond
DESCRIPTION:Coming to Cannon Falls on October 19th! This is going to be an awesome concert! Get your tickets at the Cannon Valley Senior Center Office or from any board member soon. $40 in advance\, $45 at the door (if not sold out). Concert at the Cannon Falls High School auditorium. 7 pm.
URL:https://www.cannonfalls.org/event/celebrating-neil-diamond/
LOCATION:Cannon Falls Schools\, 820 Minnesota St E\, Cannon Falls\, MN\, 55009
ATTACH;FMTTYPE=image/jpeg:https://www.cannonfalls.org/wp-content/uploads/2024/07/neild-diamond.jpg
END:VEVENT
END:VCALENDAR