BEGIN:VCALENDAR
VERSION:2.0
PRODID:-//Cannon Falls Area Chamber of Commerce - ECPv6.15.20//NONSGML v1.0//EN
CALSCALE:GREGORIAN
METHOD:PUBLISH
X-ORIGINAL-URL:https://www.cannonfalls.org
X-WR-CALDESC:Events for Cannon Falls Area Chamber of Commerce
REFRESH-INTERVAL;VALUE=DURATION:PT1H
X-Robots-Tag:noindex
X-PUBLISHED-TTL:PT1H
BEGIN:VTIMEZONE
TZID:America/Chicago
BEGIN:DAYLIGHT
TZOFFSETFROM:-0600
TZOFFSETTO:-0500
TZNAME:CDT
DTSTART:20230312T080000
END:DAYLIGHT
BEGIN:STANDARD
TZOFFSETFROM:-0500
TZOFFSETTO:-0600
TZNAME:CST
DTSTART:20231105T070000
END:STANDARD
BEGIN:DAYLIGHT
TZOFFSETFROM:-0600
TZOFFSETTO:-0500
TZNAME:CDT
DTSTART:20240310T080000
END:DAYLIGHT
BEGIN:STANDARD
TZOFFSETFROM:-0500
TZOFFSETTO:-0600
TZNAME:CST
DTSTART:20241103T070000
END:STANDARD
BEGIN:DAYLIGHT
TZOFFSETFROM:-0600
TZOFFSETTO:-0500
TZNAME:CDT
DTSTART:20250309T080000
END:DAYLIGHT
BEGIN:STANDARD
TZOFFSETFROM:-0500
TZOFFSETTO:-0600
TZNAME:CST
DTSTART:20251102T070000
END:STANDARD
END:VTIMEZONE
BEGIN:VEVENT
DTSTART;TZID=America/Chicago:20241005T100000
DTEND;TZID=America/Chicago:20241006T170000
DTSTAMP:20260425T090004
CREATED:20240823T192538Z
LAST-MODIFIED:20240823T192541Z
UID:14432-1728122400-1728234000@www.cannonfalls.org
SUMMARY:Sogn Valley Art Fair
DESCRIPTION:
URL:https://www.cannonfalls.org/event/sogn-valley-art-fair-2/
LOCATION:214 4th St N
ATTACH;FMTTYPE=image/jpeg:https://www.cannonfalls.org/wp-content/uploads/2024/08/sogn-art-fair.jpg
END:VEVENT
BEGIN:VEVENT
DTSTART;TZID=America/Chicago:20241006T120000
DTEND;TZID=America/Chicago:20241006T170000
DTSTAMP:20260425T090004
CREATED:20240821T143303Z
LAST-MODIFIED:20240821T143305Z
UID:14408-1728216000-1728234000@www.cannonfalls.org
SUMMARY:Fall Poker Ride by Cannon Power Sports
DESCRIPTION:SAVE THE DATE  \n\n\n\nRide starts @ 12pm in the parking lot!!!! We have space for trailers if you plan on trailering in! \n\n\n\nWe are planning on ending at the RBAR in Randolph MN! Meal is being planned. \n\n\n\nMore information coming soon
URL:https://www.cannonfalls.org/event/fall-poker-ride-by-cannon-power-sports/
ATTACH;FMTTYPE=image/jpeg:https://www.cannonfalls.org/wp-content/uploads/2024/08/cannon-power-sports-run.jpg
END:VEVENT
END:VCALENDAR