BEGIN:VCALENDAR
VERSION:2.0
PRODID:-//Cannon Falls Area Chamber of Commerce - ECPv6.15.20//NONSGML v1.0//EN
CALSCALE:GREGORIAN
METHOD:PUBLISH
X-ORIGINAL-URL:https://www.cannonfalls.org
X-WR-CALDESC:Events for Cannon Falls Area Chamber of Commerce
REFRESH-INTERVAL;VALUE=DURATION:PT1H
X-Robots-Tag:noindex
X-PUBLISHED-TTL:PT1H
BEGIN:VTIMEZONE
TZID:America/Chicago
BEGIN:DAYLIGHT
TZOFFSETFROM:-0600
TZOFFSETTO:-0500
TZNAME:CDT
DTSTART:20230312T080000
END:DAYLIGHT
BEGIN:STANDARD
TZOFFSETFROM:-0500
TZOFFSETTO:-0600
TZNAME:CST
DTSTART:20231105T070000
END:STANDARD
BEGIN:DAYLIGHT
TZOFFSETFROM:-0600
TZOFFSETTO:-0500
TZNAME:CDT
DTSTART:20240310T080000
END:DAYLIGHT
BEGIN:STANDARD
TZOFFSETFROM:-0500
TZOFFSETTO:-0600
TZNAME:CST
DTSTART:20241103T070000
END:STANDARD
BEGIN:DAYLIGHT
TZOFFSETFROM:-0600
TZOFFSETTO:-0500
TZNAME:CDT
DTSTART:20250309T080000
END:DAYLIGHT
BEGIN:STANDARD
TZOFFSETFROM:-0500
TZOFFSETTO:-0600
TZNAME:CST
DTSTART:20251102T070000
END:STANDARD
END:VTIMEZONE
BEGIN:VEVENT
DTSTART;TZID=America/Chicago:20240921T040000
DTEND;TZID=America/Chicago:20240921T200000
DTSTAMP:20260425T101842
CREATED:20240805T170741Z
LAST-MODIFIED:20240805T170742Z
UID:14385-1726891200-1726948800@www.cannonfalls.org
SUMMARY:Poker Social
DESCRIPTION:This is a BIG deal…we aren’t bluffing when we say you could be a high roller if you come to downtown Cannon Falls on Saturday\, September 21\, 2024\, from 4 p.m. – 8 p.m. The 5th Annual Poker Social\, sponsored by the Cannon Falls Education Foundation\, is sure to draw a full house and raise the ante for fun! \n\n\n\nWe’re betting you won’t want to pass on the chance to win up to $1000 so mark your calendars NOW. Here are the event details: \n\n\n\n– Players will go straight to Mill Street Tavern between 4 p.m. and 8 p.m. to register and pick up their instructions (limited to 150 hands.) There is no set registration fee but donations are very much appreciated…In the past\, participants have often donated $50.– They will then visit 7 downtown Cannon Falls businesses to retrieve 7 cards which will make up their poker hand. (Enjoy special eat\, drink and shop deals while at each business! This is a GREAT way to support small\, local businesses!)– Return to Mill Street Tavern by 8 p.m. to turn in your unopened envelopes to the registration table.– Winners will be announced around 8:45 p.m.– The best poker hands will win from $1000 – $50. \n\n\n\nCard Stop businesses are:– Brewster’s Bar & Grill– Cannon Falls VFW Post 4452– Chuggers Bar and Grill– Dudley’s Pizza & Sandwich Shop– La Boutique Unique-Swan and Bower– Tilion Brewing Company \n\n\n\nNEW this year\, additional businesses are participating with prizes and special offers. Watch here for more details coming in August. \n\n\n\nSave the evening of September 21 on your calendar NOW and you could be THE big winner! \n\n\n\n#millstreettavern#cannonfallseducationfoundation#LearningInThe252
URL:https://www.cannonfalls.org/event/poker-social-2/
ATTACH;FMTTYPE=image/jpeg:https://www.cannonfalls.org/wp-content/uploads/2024/08/poker-social.jpg
END:VEVENT
BEGIN:VEVENT
DTSTART;TZID=America/Chicago:20240921T073000
DTEND;TZID=America/Chicago:20240921T123000
DTSTAMP:20260425T101842
CREATED:20240830T155755Z
LAST-MODIFIED:20240830T155756Z
UID:14521-1726903800-1726921800@www.cannonfalls.org
SUMMARY:Farmer's Market
DESCRIPTION:
URL:https://www.cannonfalls.org/event/farmers-market-8/
LOCATION:St. Pius V Catholic Church\, 410 Colvill St. West\, Cannon Falls\, MN\, 55009\, United States
ATTACH;FMTTYPE=image/jpeg:https://www.cannonfalls.org/wp-content/uploads/2024/08/farmers-market-12.jpg
END:VEVENT
BEGIN:VEVENT
DTSTART;TZID=America/Chicago:20240921T083000
DTEND;TZID=America/Chicago:20240921T130000
DTSTAMP:20260425T101842
CREATED:20240724T194244Z
LAST-MODIFIED:20240724T194246Z
UID:14325-1726907400-1726923600@www.cannonfalls.org
SUMMARY:Cannon River Winery Fall Harvest Experience
DESCRIPTION:
URL:https://www.cannonfalls.org/event/cannon-river-winery-fall-harvest-experience-2/
ATTACH;FMTTYPE=image/jpeg:https://www.cannonfalls.org/wp-content/uploads/2024/07/fall-harvest.jpg
END:VEVENT
BEGIN:VEVENT
DTSTART;TZID=America/Chicago:20240921T103000
DTEND;TZID=America/Chicago:20240921T233000
DTSTAMP:20260425T101842
CREATED:20240830T132721Z
LAST-MODIFIED:20240830T132724Z
UID:14479-1726914600-1726961400@www.cannonfalls.org
SUMMARY:Meet the Candidates
DESCRIPTION:An informal meet & greet with the candidates for Cannon Falls City Council.Coffee & donuts will be provided.
URL:https://www.cannonfalls.org/event/meet-the-candidates/
LOCATION:Cannon Falls Library
ATTACH;FMTTYPE=image/png:https://www.cannonfalls.org/wp-content/uploads/2024/08/candidates.png
END:VEVENT
END:VCALENDAR