BEGIN:VCALENDAR
VERSION:2.0
PRODID:-//Cannon Falls Area Chamber of Commerce - ECPv6.15.20//NONSGML v1.0//EN
CALSCALE:GREGORIAN
METHOD:PUBLISH
X-WR-CALNAME:Cannon Falls Area Chamber of Commerce
X-ORIGINAL-URL:https://www.cannonfalls.org
X-WR-CALDESC:Events for Cannon Falls Area Chamber of Commerce
REFRESH-INTERVAL;VALUE=DURATION:PT1H
X-Robots-Tag:noindex
X-PUBLISHED-TTL:PT1H
BEGIN:VTIMEZONE
TZID:America/Chicago
BEGIN:DAYLIGHT
TZOFFSETFROM:-0600
TZOFFSETTO:-0500
TZNAME:CDT
DTSTART:20230312T080000
END:DAYLIGHT
BEGIN:STANDARD
TZOFFSETFROM:-0500
TZOFFSETTO:-0600
TZNAME:CST
DTSTART:20231105T070000
END:STANDARD
BEGIN:DAYLIGHT
TZOFFSETFROM:-0600
TZOFFSETTO:-0500
TZNAME:CDT
DTSTART:20240310T080000
END:DAYLIGHT
BEGIN:STANDARD
TZOFFSETFROM:-0500
TZOFFSETTO:-0600
TZNAME:CST
DTSTART:20241103T070000
END:STANDARD
BEGIN:DAYLIGHT
TZOFFSETFROM:-0600
TZOFFSETTO:-0500
TZNAME:CDT
DTSTART:20250309T080000
END:DAYLIGHT
BEGIN:STANDARD
TZOFFSETFROM:-0500
TZOFFSETTO:-0600
TZNAME:CST
DTSTART:20251102T070000
END:STANDARD
END:VTIMEZONE
BEGIN:VEVENT
DTSTART;TZID=America/Chicago:20240913T080000
DTEND;TZID=America/Chicago:20240914T170000
DTSTAMP:20260425T101857
CREATED:20240906T174452Z
LAST-MODIFIED:20240906T174456Z
UID:14534-1726214400-1726333200@www.cannonfalls.org
SUMMARY:City-Wide Garage Sales
DESCRIPTION:Ads can be found in the Cannon Falls Beacon
URL:https://www.cannonfalls.org/event/city-wide-garage-sales-2/
ATTACH;FMTTYPE=image/jpeg:https://www.cannonfalls.org/wp-content/uploads/2024/09/City-Wide-Garage-Sale-Facebook-Cover1.jpg
END:VEVENT
BEGIN:VEVENT
DTSTART;TZID=America/Chicago:20240914T073000
DTEND;TZID=America/Chicago:20240914T123000
DTSTAMP:20260425T101857
CREATED:20240830T155715Z
LAST-MODIFIED:20240830T155717Z
UID:14519-1726299000-1726317000@www.cannonfalls.org
SUMMARY:Farmer's Market
DESCRIPTION:
URL:https://www.cannonfalls.org/event/farmers-market-7/
LOCATION:St. Pius V Catholic Church\, 410 Colvill St. West\, Cannon Falls\, MN\, 55009\, United States
ATTACH;FMTTYPE=image/jpeg:https://www.cannonfalls.org/wp-content/uploads/2024/08/farmers-market-12.jpg
END:VEVENT
BEGIN:VEVENT
DTSTART;TZID=America/Chicago:20240914T083000
DTEND;TZID=America/Chicago:20240914T130000
DTSTAMP:20260425T101857
CREATED:20240724T194205Z
LAST-MODIFIED:20240724T194206Z
UID:14323-1726302600-1726318800@www.cannonfalls.org
SUMMARY:Cannon River Winery Fall Harvest Experience
DESCRIPTION:
URL:https://www.cannonfalls.org/event/cannon-river-winery-fall-harvest-experience/
ATTACH;FMTTYPE=image/jpeg:https://www.cannonfalls.org/wp-content/uploads/2024/07/fall-harvest.jpg
END:VEVENT
BEGIN:VEVENT
DTSTART;TZID=America/Chicago:20240914T100000
DTEND;TZID=America/Chicago:20240914T160000
DTSTAMP:20260425T101857
CREATED:20240830T142225Z
LAST-MODIFIED:20240830T142227Z
UID:14482-1726308000-1726329600@www.cannonfalls.org
SUMMARY:Food Trailer during City-Wide Garage Sale
DESCRIPTION:
URL:https://www.cannonfalls.org/event/food-trailer-during-city-wide-garage-sale/
LOCATION:Tilion Brewing Company
ATTACH;FMTTYPE=image/jpeg:https://www.cannonfalls.org/wp-content/uploads/2024/08/food-trailer.jpg
END:VEVENT
BEGIN:VEVENT
DTSTART;TZID=America/Chicago:20240914T170000
DTEND;TZID=America/Chicago:20240914T190000
DTSTAMP:20260425T101857
CREATED:20240823T182440Z
LAST-MODIFIED:20240823T182442Z
UID:14427-1726333200-1726340400@www.cannonfalls.org
SUMMARY:VFW Hog Roast Fundraiser
DESCRIPTION:
URL:https://www.cannonfalls.org/event/vfw-hog-roast-fundraiser/
LOCATION:Cannon Falls VFW
ATTACH;FMTTYPE=image/jpeg:https://www.cannonfalls.org/wp-content/uploads/2024/08/hogroast.jpg
END:VEVENT
END:VCALENDAR