BEGIN:VCALENDAR
VERSION:2.0
PRODID:-//Cannon Falls Area Chamber of Commerce - ECPv6.15.20//NONSGML v1.0//EN
CALSCALE:GREGORIAN
METHOD:PUBLISH
X-ORIGINAL-URL:https://www.cannonfalls.org
X-WR-CALDESC:Events for Cannon Falls Area Chamber of Commerce
REFRESH-INTERVAL;VALUE=DURATION:PT1H
X-Robots-Tag:noindex
X-PUBLISHED-TTL:PT1H
BEGIN:VTIMEZONE
TZID:America/Chicago
BEGIN:DAYLIGHT
TZOFFSETFROM:-0600
TZOFFSETTO:-0500
TZNAME:CDT
DTSTART:20230312T080000
END:DAYLIGHT
BEGIN:STANDARD
TZOFFSETFROM:-0500
TZOFFSETTO:-0600
TZNAME:CST
DTSTART:20231105T070000
END:STANDARD
BEGIN:DAYLIGHT
TZOFFSETFROM:-0600
TZOFFSETTO:-0500
TZNAME:CDT
DTSTART:20240310T080000
END:DAYLIGHT
BEGIN:STANDARD
TZOFFSETFROM:-0500
TZOFFSETTO:-0600
TZNAME:CST
DTSTART:20241103T070000
END:STANDARD
BEGIN:DAYLIGHT
TZOFFSETFROM:-0600
TZOFFSETTO:-0500
TZNAME:CDT
DTSTART:20250309T080000
END:DAYLIGHT
BEGIN:STANDARD
TZOFFSETFROM:-0500
TZOFFSETTO:-0600
TZNAME:CST
DTSTART:20251102T070000
END:STANDARD
END:VTIMEZONE
BEGIN:VEVENT
DTSTART;TZID=America/Chicago:20240907T073000
DTEND;TZID=America/Chicago:20240907T123000
DTSTAMP:20260425T101840
CREATED:20240830T155630Z
LAST-MODIFIED:20240830T155632Z
UID:14517-1725694200-1725712200@www.cannonfalls.org
SUMMARY:Farmer's Market
DESCRIPTION:
URL:https://www.cannonfalls.org/event/farmers-market-6/
LOCATION:St. Pius V Catholic Church\, 410 Colvill St. West\, Cannon Falls\, MN\, 55009\, United States
ATTACH;FMTTYPE=image/jpeg:https://www.cannonfalls.org/wp-content/uploads/2024/08/farmers-market-12.jpg
END:VEVENT
BEGIN:VEVENT
DTSTART;TZID=America/Chicago:20240907T083000
DTEND;TZID=America/Chicago:20240907T130000
DTSTAMP:20260425T101840
CREATED:20240724T194112Z
LAST-MODIFIED:20240724T194126Z
UID:14319-1725697800-1725714000@www.cannonfalls.org
SUMMARY:Cannon River Winery Fall Harvest Experience
DESCRIPTION:
URL:https://www.cannonfalls.org/event/fall-harvest-experience-2/
ATTACH;FMTTYPE=image/jpeg:https://www.cannonfalls.org/wp-content/uploads/2024/07/fall-harvest.jpg
END:VEVENT
BEGIN:VEVENT
DTSTART;TZID=America/Chicago:20240907T110000
DTEND;TZID=America/Chicago:20240907T140000
DTSTAMP:20260425T101840
CREATED:20240821T133039Z
LAST-MODIFIED:20240821T133041Z
UID:14399-1725706800-1725717600@www.cannonfalls.org
SUMMARY:Raptor Presentation at Welch Station Access
DESCRIPTION:Mayo Clinic Peregrine Falcon Program will hose a FREE live Peregrine Falcon presentation. For more information about Mayo’s Peregrine Falcon Program visit https://history.mayoclinic.org/falcon-program/ \n\n\n\n\n\n\n\nCannon Nutrition will be providing samples of their products (while supplies last). They are a healthy Shake Shop offering protein balanced Shakes\, Energy Teas\, Aloe\, and so much more located in downtown Cannon Falls. \n\n\n\n\n\n\n\nCannon Belles will offer samples of their locally made cheeses \n\n\n\nDakota County Parks Forever Wild – information table
URL:https://www.cannonfalls.org/event/raptor-presentation-at-welch-station-access/
LOCATION:Cannon Valley Trail Welch Station Access\, 26674 144th Ave Way\, Welch\, Minnesota\, 55089
ATTACH;FMTTYPE=image/jpeg:https://www.cannonfalls.org/wp-content/uploads/2024/08/raptor.jpg
END:VEVENT
BEGIN:VEVENT
DTSTART;TZID=America/Chicago:20240907T150000
DTEND;TZID=America/Chicago:20240907T210000
DTSTAMP:20260425T101840
CREATED:20240826T141651Z
LAST-MODIFIED:20240826T141655Z
UID:14437-1725721200-1725742800@www.cannonfalls.org
SUMMARY:Baggo Tournament
DESCRIPTION:100% of proceeds go to John Burch Park Supporters. Contact Luke Winchell to sign up 507-298-0124
URL:https://www.cannonfalls.org/event/baggo-tournament/
ATTACH;FMTTYPE=image/jpeg:https://www.cannonfalls.org/wp-content/uploads/2024/08/baggo.jpg
END:VEVENT
END:VCALENDAR