BEGIN:VCALENDAR
VERSION:2.0
PRODID:-//Cannon Falls Area Chamber of Commerce - ECPv6.15.20//NONSGML v1.0//EN
CALSCALE:GREGORIAN
METHOD:PUBLISH
X-ORIGINAL-URL:https://www.cannonfalls.org
X-WR-CALDESC:Events for Cannon Falls Area Chamber of Commerce
REFRESH-INTERVAL;VALUE=DURATION:PT1H
X-Robots-Tag:noindex
X-PUBLISHED-TTL:PT1H
BEGIN:VTIMEZONE
TZID:America/Chicago
BEGIN:DAYLIGHT
TZOFFSETFROM:-0600
TZOFFSETTO:-0500
TZNAME:CDT
DTSTART:20230312T080000
END:DAYLIGHT
BEGIN:STANDARD
TZOFFSETFROM:-0500
TZOFFSETTO:-0600
TZNAME:CST
DTSTART:20231105T070000
END:STANDARD
BEGIN:DAYLIGHT
TZOFFSETFROM:-0600
TZOFFSETTO:-0500
TZNAME:CDT
DTSTART:20240310T080000
END:DAYLIGHT
BEGIN:STANDARD
TZOFFSETFROM:-0500
TZOFFSETTO:-0600
TZNAME:CST
DTSTART:20241103T070000
END:STANDARD
BEGIN:DAYLIGHT
TZOFFSETFROM:-0600
TZOFFSETTO:-0500
TZNAME:CDT
DTSTART:20250309T080000
END:DAYLIGHT
BEGIN:STANDARD
TZOFFSETFROM:-0500
TZOFFSETTO:-0600
TZNAME:CST
DTSTART:20251102T070000
END:STANDARD
END:VTIMEZONE
BEGIN:VEVENT
DTSTART;TZID=America/Chicago:20240822T120000
DTEND;TZID=America/Chicago:20240822T130000
DTSTAMP:20260425T185452
CREATED:20240821T134844Z
LAST-MODIFIED:20240821T134846Z
UID:14405-1724328000-1724331600@www.cannonfalls.org
SUMMARY:Dog Agility Show
DESCRIPTION:
URL:https://www.cannonfalls.org/event/dog-agility-show/
ATTACH;FMTTYPE=image/png:https://www.cannonfalls.org/wp-content/uploads/2024/08/dog-agility.png
END:VEVENT
BEGIN:VEVENT
DTSTART;TZID=America/Chicago:20240822T143000
DTEND;TZID=America/Chicago:20240822T190000
DTSTAMP:20260425T185452
CREATED:20240717T205139Z
LAST-MODIFIED:20240731T182243Z
UID:14300-1724337000-1724353200@www.cannonfalls.org
SUMMARY:Cannon Auto Repair Community Appreciation Day
DESCRIPTION:
URL:https://www.cannonfalls.org/event/cannon-auto-repair-community-appreciation-day/
LOCATION:Cannon Auto Repair\, 1709 N Hwy 20
ATTACH;FMTTYPE=image/jpeg:https://www.cannonfalls.org/wp-content/uploads/2024/07/Screenshot_20240717_154844_All-PDF-Reader.jpg
END:VEVENT
BEGIN:VEVENT
DTSTART;TZID=America/Chicago:20240822T190000
DTEND;TZID=America/Chicago:20240822T210000
DTSTAMP:20260425T185452
CREATED:20240729T163720Z
LAST-MODIFIED:20240729T163721Z
UID:14376-1724353200-1724360400@www.cannonfalls.org
SUMMARY:Team Trivia at Tilion Brewing Co
DESCRIPTION:
URL:https://www.cannonfalls.org/event/team-trivia-at-tilion-brewing-co-7/
ATTACH;FMTTYPE=image/jpeg:https://www.cannonfalls.org/wp-content/uploads/2024/07/trivia.jpg
END:VEVENT
END:VCALENDAR