BEGIN:VCALENDAR
VERSION:2.0
PRODID:-//Cannon Falls Area Chamber of Commerce - ECPv6.15.20//NONSGML v1.0//EN
CALSCALE:GREGORIAN
METHOD:PUBLISH
X-WR-CALNAME:Cannon Falls Area Chamber of Commerce
X-ORIGINAL-URL:https://www.cannonfalls.org
X-WR-CALDESC:Events for Cannon Falls Area Chamber of Commerce
REFRESH-INTERVAL;VALUE=DURATION:PT1H
X-Robots-Tag:noindex
X-PUBLISHED-TTL:PT1H
BEGIN:VTIMEZONE
TZID:America/Chicago
BEGIN:DAYLIGHT
TZOFFSETFROM:-0600
TZOFFSETTO:-0500
TZNAME:CDT
DTSTART:20230312T080000
END:DAYLIGHT
BEGIN:STANDARD
TZOFFSETFROM:-0500
TZOFFSETTO:-0600
TZNAME:CST
DTSTART:20231105T070000
END:STANDARD
BEGIN:DAYLIGHT
TZOFFSETFROM:-0600
TZOFFSETTO:-0500
TZNAME:CDT
DTSTART:20240310T080000
END:DAYLIGHT
BEGIN:STANDARD
TZOFFSETFROM:-0500
TZOFFSETTO:-0600
TZNAME:CST
DTSTART:20241103T070000
END:STANDARD
BEGIN:DAYLIGHT
TZOFFSETFROM:-0600
TZOFFSETTO:-0500
TZNAME:CDT
DTSTART:20250309T080000
END:DAYLIGHT
BEGIN:STANDARD
TZOFFSETFROM:-0500
TZOFFSETTO:-0600
TZNAME:CST
DTSTART:20251102T070000
END:STANDARD
END:VTIMEZONE
BEGIN:VEVENT
DTSTART;TZID=America/Chicago:20240803T110000
DTEND;TZID=America/Chicago:20240803T140000
DTSTAMP:20260425T185947
CREATED:20240715T143802Z
LAST-MODIFIED:20240715T143805Z
UID:14284-1722682800-1722693600@www.cannonfalls.org
SUMMARY:Voices of the Valley
DESCRIPTION:he Cannon Valley Ensemble is made up of people who love to make instrumental music together. The Ensemble began in 2019 as a way to continue playing music all year round when the Cannon Falls Community Band’s summer season was over. The group plays tunes everyone will recognize. \n\n\n\nCannon Nutrition will be providing samples of their products (while supplies last). They are a healthy Shake Shop offering protein balanced Shakes\, Energy Teas\, Aloe\, and so much more located in downtown Cannon Falls. \n\n\n\nCookies on the Trail sponsored by Red Wing Chamber of Commerce
URL:https://www.cannonfalls.org/event/voices-of-the-valley-3/
LOCATION:Welch Station Access\, 26674 144th Avenue Way\, Welch\, MN\, 55089
ATTACH;FMTTYPE=image/jpeg:https://www.cannonfalls.org/wp-content/uploads/2024/07/ensemlbe.jpg
END:VEVENT
BEGIN:VEVENT
DTSTART;TZID=America/Chicago:20240803T130000
DTEND;TZID=America/Chicago:20240803T160000
DTSTAMP:20260425T185947
CREATED:20240729T161942Z
LAST-MODIFIED:20240729T161943Z
UID:14338-1722690000-1722700800@www.cannonfalls.org
SUMMARY:Cannon River Winery Live Music
DESCRIPTION:
URL:https://www.cannonfalls.org/event/cannon-river-winery-live-music-2/
ATTACH;FMTTYPE=image/jpeg:https://www.cannonfalls.org/wp-content/uploads/2024/06/relativity.jpg
END:VEVENT
END:VCALENDAR