BEGIN:VCALENDAR
VERSION:2.0
PRODID:-//Cannon Falls Area Chamber of Commerce - ECPv6.15.20//NONSGML v1.0//EN
CALSCALE:GREGORIAN
METHOD:PUBLISH
X-ORIGINAL-URL:https://www.cannonfalls.org
X-WR-CALDESC:Events for Cannon Falls Area Chamber of Commerce
REFRESH-INTERVAL;VALUE=DURATION:PT1H
X-Robots-Tag:noindex
X-PUBLISHED-TTL:PT1H
BEGIN:VTIMEZONE
TZID:America/Chicago
BEGIN:DAYLIGHT
TZOFFSETFROM:-0600
TZOFFSETTO:-0500
TZNAME:CDT
DTSTART:20230312T080000
END:DAYLIGHT
BEGIN:STANDARD
TZOFFSETFROM:-0500
TZOFFSETTO:-0600
TZNAME:CST
DTSTART:20231105T070000
END:STANDARD
BEGIN:DAYLIGHT
TZOFFSETFROM:-0600
TZOFFSETTO:-0500
TZNAME:CDT
DTSTART:20240310T080000
END:DAYLIGHT
BEGIN:STANDARD
TZOFFSETFROM:-0500
TZOFFSETTO:-0600
TZNAME:CST
DTSTART:20241103T070000
END:STANDARD
BEGIN:DAYLIGHT
TZOFFSETFROM:-0600
TZOFFSETTO:-0500
TZNAME:CDT
DTSTART:20250309T080000
END:DAYLIGHT
BEGIN:STANDARD
TZOFFSETFROM:-0500
TZOFFSETTO:-0600
TZNAME:CST
DTSTART:20251102T070000
END:STANDARD
END:VTIMEZONE
BEGIN:VEVENT
DTSTART;TZID=America/Chicago:20240802T050000
DTEND;TZID=America/Chicago:20240802T193000
DTSTAMP:20260425T185625
CREATED:20240701T182713Z
LAST-MODIFIED:20240701T182715Z
UID:14255-1722574800-1722627000@www.cannonfalls.org
SUMMARY:Fun Fest
DESCRIPTION:Fiddle Contest\, Car Cruise\, Vendors and Food Trucks on Mill Street!
URL:https://www.cannonfalls.org/event/fun-fest-2/
ATTACH;FMTTYPE=image/png:https://www.cannonfalls.org/wp-content/uploads/2024/07/fUN-fEST18.png
END:VEVENT
BEGIN:VEVENT
DTSTART;TZID=America/Chicago:20240802T190000
DTEND;TZID=America/Chicago:20240802T200000
DTSTAMP:20260425T185625
CREATED:20240701T182141Z
LAST-MODIFIED:20240701T182144Z
UID:14251-1722625200-1722628800@www.cannonfalls.org
SUMMARY:Cannon Cruisers Car Cruise
DESCRIPTION:
URL:https://www.cannonfalls.org/event/cannon-cruisers-car-cruise-2/
ATTACH;FMTTYPE=image/jpeg:https://www.cannonfalls.org/wp-content/uploads/2024/07/carc-ruise1.jpg
END:VEVENT
BEGIN:VEVENT
DTSTART;TZID=America/Chicago:20240802T190000
DTEND;TZID=America/Chicago:20240802T210000
DTSTAMP:20260425T185625
CREATED:20240729T163409Z
LAST-MODIFIED:20240729T163412Z
UID:14365-1722625200-1722632400@www.cannonfalls.org
SUMMARY:BARGO at Tilion Brewing Co.
DESCRIPTION:
URL:https://www.cannonfalls.org/event/bargo-at-tilion-brewing-co-5/
ATTACH;FMTTYPE=image/jpeg:https://www.cannonfalls.org/wp-content/uploads/2024/07/tilion-bargo.jpg
END:VEVENT
END:VCALENDAR